BEGIN:VCALENDAR
VERSION:2.0
PRODID:-//Temple Emanu-El - ECPv6.15.20//NONSGML v1.0//EN
CALSCALE:GREGORIAN
METHOD:PUBLISH
X-WR-CALNAME:Temple Emanu-El
X-ORIGINAL-URL:https://www.tedallas.org
X-WR-CALDESC:Events for Temple Emanu-El
REFRESH-INTERVAL;VALUE=DURATION:PT1H
X-Robots-Tag:noindex
X-PUBLISHED-TTL:PT1H
BEGIN:VTIMEZONE
TZID:America/Chicago
BEGIN:DAYLIGHT
TZOFFSETFROM:-0600
TZOFFSETTO:-0500
TZNAME:CDT
DTSTART:20240310T080000
END:DAYLIGHT
BEGIN:STANDARD
TZOFFSETFROM:-0500
TZOFFSETTO:-0600
TZNAME:CST
DTSTART:20241103T070000
END:STANDARD
BEGIN:DAYLIGHT
TZOFFSETFROM:-0600
TZOFFSETTO:-0500
TZNAME:CDT
DTSTART:20250309T080000
END:DAYLIGHT
BEGIN:STANDARD
TZOFFSETFROM:-0500
TZOFFSETTO:-0600
TZNAME:CST
DTSTART:20251102T070000
END:STANDARD
BEGIN:DAYLIGHT
TZOFFSETFROM:-0600
TZOFFSETTO:-0500
TZNAME:CDT
DTSTART:20260308T080000
END:DAYLIGHT
BEGIN:STANDARD
TZOFFSETFROM:-0500
TZOFFSETTO:-0600
TZNAME:CST
DTSTART:20261101T070000
END:STANDARD
END:VTIMEZONE
BEGIN:VEVENT
DTSTART;TZID=America/Chicago:20251108T103000
DTEND;TZID=America/Chicago:20251108T120000
DTSTAMP:20260425T150505
CREATED:20251017T164816Z
LAST-MODIFIED:20251017T164816Z
UID:10004119-1762597800-1762603200@www.tedallas.org
SUMMARY:November 8\, 2025: Asher Einstein Bar Mitzvah
DESCRIPTION:
URL:https://www.tedallas.org/event/asher-einstein/
LOCATION:Temple Emanu-El Stern Chapel
CATEGORIES:Prayer and Spirituality
ATTACH;FMTTYPE=image/jpeg:https://www.tedallas.org/wp-content/uploads/2022/08/Stern-Chapel-feature-image.jpg
END:VEVENT
BEGIN:VEVENT
DTSTART;TZID=America/Chicago:20251108T090000
DTEND;TZID=America/Chicago:20251108T103000
DTSTAMP:20260425T150505
CREATED:20251030T200318Z
LAST-MODIFIED:20251030T200411Z
UID:10003818-1762592400-1762597800@www.tedallas.org
SUMMARY:Chever Torah: New Reform Commentary Workshop
DESCRIPTION:Temple will have the opportunity to be part of a pilot phase of the “The New Reform Torah Commentary\,” a transformative new resource that will help shape the future of Torah learning. Join Rabbi Kimberly Herzog Cohen will lead us in study of a sample Torah portion. Your experience will help ensure that the final Commentary will reflect the real needs\, voices and insights of the communities who will engage with it. All participants will be asked to share feedback online after the session. \nTemple will also have the chance to learn more about this historic project on April 17-19\, when Elsie Stern\, General Editor\, will join Temple for the Rabbi Levi A. Olan Lectureship weekend.
URL:https://www.tedallas.org/event/chever-torah-reform-commentary/
LOCATION:Temple Emanu-El Weiss Youth Wing
CATEGORIES:Adult Learning,Prayer and Spirituality
ATTACH;FMTTYPE=image/jpeg:https://www.tedallas.org/wp-content/uploads/2024/03/chever-torah-web.jpg
ORGANIZER;CN="Sammy Weyser":MAILTO:sweyser@tedallas.org
END:VEVENT
BEGIN:VEVENT
DTSTART;TZID=America/Chicago:20251107T193000
DTEND;TZID=America/Chicago:20251107T193000
DTSTAMP:20260425T150505
CREATED:20221221T183535Z
LAST-MODIFIED:20251020T181748Z
UID:10001806-1762543800-1762543800@www.tedallas.org
SUMMARY:ATiD Home Hosted Shabbat Dinner
DESCRIPTION:Join our ATiD 20s and 30s community for a young adult Shabbat dinner hosted by ATiDniks\, Kyle and Corin Weinstein! You will receive the address upon RSVP. Come hungry and be sure to invite friends!
URL:https://www.tedallas.org/event/atid-home-hosted-shabbat-dinner/
LOCATION:Home-Hosted | Address Shared Upon Registration
CATEGORIES:ATiD 20s and 30s,Prayer and Spirituality
ATTACH;FMTTYPE=image/jpeg:https://www.tedallas.org/wp-content/uploads/2022/09/Atid-Website-Image.jpg
ORGANIZER;CN="Sammy Weyser":MAILTO:sweyser@tedallas.org
END:VEVENT
BEGIN:VEVENT
DTSTART;TZID=America/Chicago:20251107T181500
DTEND;TZID=America/Chicago:20251107T193000
DTSTAMP:20260425T150505
CREATED:20251027T191003Z
LAST-MODIFIED:20251111T191817Z
UID:10004127-1762539300-1762543800@www.tedallas.org
SUMMARY:November 7\, 2025: Shabbat Evening Service
DESCRIPTION:We welcome you to an evening of poetry\, beautiful music and an uplifting message from our clergy. This service will use the Union Prayer Book\, which is beloved for its lyrical interpretations of Classical Reform liturgy and include the Temple Emanu-El Choir.
URL:https://www.tedallas.org/event/november-7-2025-shabbat-evening-service/
LOCATION:Temple Emanu-El Olan Sancutary
CATEGORIES:Livestream,Prayer and Spirituality
ATTACH;FMTTYPE=image/jpeg:https://www.tedallas.org/wp-content/uploads/2023/08/Olan-Web-scaled.jpg
END:VEVENT
BEGIN:VEVENT
DTSTART;TZID=America/Chicago:20251107T094500
DTEND;TZID=America/Chicago:20251107T110000
DTSTAMP:20260425T150505
CREATED:20250730T190634Z
LAST-MODIFIED:20250730T190634Z
UID:10004010-1762508700-1762513200@www.tedallas.org
SUMMARY:Friday Morning Together Time
DESCRIPTION:Following ECEC Shabbat\, stay for Together Time\, a special gathering designed for children ages 3 and under and their caretakers. We’ll begin with Shabbat blessings\, enjoy a lively music session\, and share an interactive activity together. Come build community and celebrate Shabbat with us!
URL:https://www.tedallas.org/event/friday-together-time/2025-11-07/
LOCATION:Temple Emanu-El Nasher-Haemisegger Family Atrium
CATEGORIES:Community,Early Childhood,Families
ATTACH;FMTTYPE=image/jpeg:https://www.tedallas.org/wp-content/uploads/2025/07/FridayTogethertime.jpg
ORGANIZER;CN="Erica Matsil":MAILTO:ematsil@tedallas.org
END:VEVENT
BEGIN:VEVENT
DTSTART;TZID=America/Chicago:20251106T091500
DTEND;TZID=America/Chicago:20251106T104500
DTSTAMP:20260425T150505
CREATED:20250903T203059Z
LAST-MODIFIED:20250903T203059Z
UID:10004083-1762420500-1762425900@www.tedallas.org
SUMMARY:ECEC Visiting Days
DESCRIPTION:Come see how Temple Emanu-El ECEC’s child-centered community embraces the collaborative pedagogy approaches of Reggio Emilia and the International Baccalaureate to facilitate authentic exploration opportunities with the experiential world. Visits will begin in Tycher Gathering Space with a meet and greet\, then a guided campus tour\, followed by an opportunity to ask questions. The complete visit lasts approximately 90 minutes.
URL:https://www.tedallas.org/event/ecec-visiting-days-2025/2025-11-06/
LOCATION:Temple Emanu-El Tycher Gathering Space
CATEGORIES:Community,Early Childhood,Learning
ATTACH;FMTTYPE=image/jpeg:https://www.tedallas.org/wp-content/uploads/2024/02/ECEC-Web-scaled.jpg
ORGANIZER;CN="Angela Daley":MAILTO:adaley@tedallas.org
END:VEVENT
BEGIN:VEVENT
DTSTART;TZID=America/Chicago:20251104T190000
DTEND;TZID=America/Chicago:20251104T190000
DTSTAMP:20260425T150505
CREATED:20251008T170812Z
LAST-MODIFIED:20251111T191723Z
UID:10004100-1762282800-1762282800@www.tedallas.org
SUMMARY:Jewish History 101: The Torah and the Origins of the Jewish People
DESCRIPTION:Step into the story of the Jewish people with Jewish History 101\, a three-part series with Rabbi Michael Lewis exploring key eras that have shaped Jewish identity\, thought and community. \nWhat is the Torah? Where did it come from? In this session we will explore the origins of Jewish history\, from the Exodus to the destruction and rebuilding of the Temple. Learn how early texts formed and how events surrounding the Bible laid the groundwork for Judaism as we know it. Register below to attend in person.
URL:https://www.tedallas.org/event/jewish-history-101-the-torah/
LOCATION:Temple Emanu-El Stern Chapel
CATEGORIES:Adult Learning,Livestream
ATTACH;FMTTYPE=image/jpeg:https://www.tedallas.org/wp-content/uploads/2025/10/JewishHistory101_web.jpg
ORGANIZER;CN="Anjelica Ruiz":MAILTO:aruiz@tedallas.org
END:VEVENT
BEGIN:VEVENT
DTSTART;TZID=America/Chicago:20251104T150000
DTEND;TZID=America/Chicago:20251104T160000
DTSTAMP:20260425T150505
CREATED:20240624T175638Z
LAST-MODIFIED:20260112T192319Z
UID:10003370-1762268400-1762272000@www.tedallas.org
SUMMARY:Yoga Emanu-El
DESCRIPTION:Join instructor Debbi K. Levy for an hour of yoga and mindfulness surrounded by the beauty Temple’s prayer spaces.
URL:https://www.tedallas.org/event/yoga-emanu-el-3/2025-11-04/
CATEGORIES:Adult Learning
ATTACH;FMTTYPE=image/jpeg:https://www.tedallas.org/wp-content/uploads/2022/09/yoga-emanu-el-e1662676573556.jpg
ORGANIZER;CN="Tal Drori":MAILTO:tdrori@tedallas.org
END:VEVENT
BEGIN:VEVENT
DTSTART;TZID=America/Chicago:20251101T163000
DTEND;TZID=America/Chicago:20251101T180000
DTSTAMP:20260425T150505
CREATED:20251017T164700Z
LAST-MODIFIED:20251030T200444Z
UID:10004118-1762014600-1762020000@www.tedallas.org
SUMMARY:November 1\, 2025: Anna Mabel Bat Mitzvah
DESCRIPTION:
URL:https://www.tedallas.org/event/anna-mabel/
LOCATION:Temple Emanu-El Stern Chapel
CATEGORIES:Prayer and Spirituality
ATTACH;FMTTYPE=image/jpeg:https://www.tedallas.org/wp-content/uploads/2022/08/Stern-Chapel-feature-image.jpg
END:VEVENT
BEGIN:VEVENT
DTSTART;TZID=America/Chicago:20251101T103000
DTEND;TZID=America/Chicago:20251101T120000
DTSTAMP:20260425T150505
CREATED:20251027T190620Z
LAST-MODIFIED:20251105T172834Z
UID:10004126-1761993000-1761998400@www.tedallas.org
SUMMARY:November 1\, 2025: Shabbat Morning Service
DESCRIPTION:
URL:https://www.tedallas.org/event/november-1-2025-shabbat-morning-service/
LOCATION:Temple Emanu-El Lefkowitz Chapel
CATEGORIES:Livestream,Prayer and Spirituality
ATTACH;FMTTYPE=image/jpeg:https://www.tedallas.org/wp-content/uploads/2022/08/Lefkowitz-feature-image.jpg
END:VEVENT
BEGIN:VEVENT
DTSTART;TZID=America/Chicago:20251101T103000
DTEND;TZID=America/Chicago:20251101T120000
DTSTAMP:20260425T150505
CREATED:20251017T164559Z
LAST-MODIFIED:20251017T164559Z
UID:10004117-1761993000-1761998400@www.tedallas.org
SUMMARY:November 1\, 2025: Jacob Hirsch Bar Mitzvah
DESCRIPTION:
URL:https://www.tedallas.org/event/jacob-hirsch/
LOCATION:Temple Emanu-El Stern Chapel
CATEGORIES:Prayer and Spirituality
ATTACH;FMTTYPE=image/jpeg:https://www.tedallas.org/wp-content/uploads/2022/08/Stern-Chapel-feature-image.jpg
END:VEVENT
BEGIN:VEVENT
DTSTART;TZID=America/Chicago:20251101T090000
DTEND;TZID=America/Chicago:20251101T103000
DTSTAMP:20260425T150505
CREATED:20240318T154426Z
LAST-MODIFIED:20260102T200915Z
UID:10003817-1761987600-1761993000@www.tedallas.org
SUMMARY:Chever Torah
DESCRIPTION:
URL:https://www.tedallas.org/event/chever-torah-2022-09-24-3-2/2025-11-01/
LOCATION:Temple Emanu-El Barbara Zale Center for Living History
CATEGORIES:Adult Learning,Prayer and Spirituality
ATTACH;FMTTYPE=image/jpeg:https://www.tedallas.org/wp-content/uploads/2024/03/chever-torah-web.jpg
END:VEVENT
BEGIN:VEVENT
DTSTART;TZID=America/Chicago:20251031T181500
DTEND;TZID=America/Chicago:20251031T193000
DTSTAMP:20260425T150505
CREATED:20251027T190448Z
LAST-MODIFIED:20251105T172908Z
UID:10004125-1761934500-1761939000@www.tedallas.org
SUMMARY:October 31\, 2025: Shabbat Evening Service
DESCRIPTION:
URL:https://www.tedallas.org/event/october-31-2025-shabbat-evening-service/
LOCATION:Temple Emanu-El Stern Chapel
CATEGORIES:Livestream,Prayer and Spirituality
ATTACH;FMTTYPE=image/jpeg:https://www.tedallas.org/wp-content/uploads/2022/08/Stern-Chapel-feature-image.jpg
END:VEVENT
BEGIN:VEVENT
DTSTART;TZID=America/Chicago:20251030T090000
DTEND;TZID=America/Chicago:20251030T100000
DTSTAMP:20260425T150505
CREATED:20251022T202712Z
LAST-MODIFIED:20251022T202853Z
UID:10004123-1761814800-1761818400@www.tedallas.org
SUMMARY:Feeding Allergens\, Preventing Allergies and Supporting Gut Health
DESCRIPTION:Featuring World-Leading Experts in Pediatric Allergy & Nutrition: \nDr. Carina Venter\, Professor of Pediatric Allergy at Children’s Hospital Colorado. Internationally recognized dietitian and pioneering researcher in nutrition\, allergy prevention\, and the gut microbiome. She is the co-author of the American\, European\, and Canadian food allergy prevention guidelines and developer of the globally used milk and egg ladders. She is the co-founder of GrowHappy. \nDr. David Fleisher\, Chief Allergist at Children’s Hospital Colorado. Lead researcher on the groundbreaking peanut patch\, expected to receive FDA approval after 20 years of study. He is a global leader in allergy prevention and treatment. He is a founding member of GrowHappy. Feeding Allergens\, Preventing Allergies & Supporting Gut Health \nLearn about: \n\nHow and when to safely introduce allergens like peanut\, milk\, and egg\nReal science on allergy prevention during pregnancy\, infancy\, and early childhood\nHow to protect and support your child’s gut microbiome\nTreatment innovations: what’s coming and what works\nWhat ImmunoNutrition means for your family’s health
URL:https://www.tedallas.org/event/allergies-parent-education/
LOCATION:Temple Emanu-El Linz Hall
CATEGORIES:Adult Learning,Early Childhood
ATTACH;FMTTYPE=image/jpeg:https://www.tedallas.org/wp-content/uploads/2022/09/intheknow-scaled.jpg
ORGANIZER;CN="Jennifer Richman":MAILTO:jrichman@tedallas.org
END:VEVENT
BEGIN:VEVENT
DTSTART;TZID=America/Chicago:20251028T150000
DTEND;TZID=America/Chicago:20251028T160000
DTSTAMP:20260425T150505
CREATED:20240624T175638Z
LAST-MODIFIED:20260112T192319Z
UID:10003369-1761663600-1761667200@www.tedallas.org
SUMMARY:Yoga Emanu-El
DESCRIPTION:Join instructor Debbi K. Levy for an hour of yoga and mindfulness surrounded by the beauty Temple’s prayer spaces.
URL:https://www.tedallas.org/event/yoga-emanu-el-3/2025-10-28/
CATEGORIES:Adult Learning
ATTACH;FMTTYPE=image/jpeg:https://www.tedallas.org/wp-content/uploads/2022/09/yoga-emanu-el-e1662676573556.jpg
ORGANIZER;CN="Tal Drori":MAILTO:tdrori@tedallas.org
END:VEVENT
BEGIN:VEVENT
DTSTART;TZID=America/Chicago:20251026T123000
DTEND;TZID=America/Chicago:20251026T140000
DTSTAMP:20260425T150505
CREATED:20251009T185602Z
LAST-MODIFIED:20251009T185602Z
UID:10004104-1761481800-1761487200@www.tedallas.org
SUMMARY:3rd-5th grade Golem Creation
DESCRIPTION:A golem is a creature from Jewish folklore\, traditionally made from clay or mud and brought to life through mystical means to serve or protect its creator. For the past several years 4th graders have enjoyed making and learning about Golem’s and they have had a blast each time\, so we wanted to share the fun! Join us 3rd-5th graders for food\, Golem Making and so much more. We’ll have a scavenger hunt\, friends and fall-themed shenanigans you won’t want to miss.
URL:https://www.tedallas.org/event/3rd-5th-golem-creation/
LOCATION:Temple Emanu-El Weiss Youth Wing
CATEGORIES:Karla & Larry Steinberg Center for Jewish Learning
ATTACH;FMTTYPE=image/jpeg:https://www.tedallas.org/wp-content/uploads/2025/10/3-5GradeProgram1b.jpg
ORGANIZER;CN="Presley Lisner":MAILTO:plisner@tedallas.org
END:VEVENT
BEGIN:VEVENT
DTSTART;TZID=America/Chicago:20251026T101500
DTEND;TZID=America/Chicago:20251026T104500
DTSTAMP:20260425T150505
CREATED:20251020T182813Z
LAST-MODIFIED:20251020T182813Z
UID:10004121-1761473700-1761475500@www.tedallas.org
SUMMARY:Meet the Sofer
DESCRIPTION:Come to meet the Sofer (Torah scribe)\, learn about his work caring for our 13 Torah scrolls and explore the history of our newly repaired Czech Torah scroll that survived the Holocaust and has had a home at Temple Emanu-El since 1976. Members of Shomrei Torah\, our volunteer Torah caretakers\, will answer questions and talk about their sacred service. Come early or stay after to schmooze and have coffee!
URL:https://www.tedallas.org/event/meet-the-sofer/
LOCATION:Temple Emanu-El Adult Learning Classrooms 133 & 135
CATEGORIES:Adult Learning,Community,Prayer and Spirituality
ATTACH;FMTTYPE=image/jpeg:https://www.tedallas.org/wp-content/uploads/2023/06/czech-torah-scrolls.jpeg
ORGANIZER;CN="Athena Gonzalez":MAILTO:agonzalez@tedallas.org
END:VEVENT
BEGIN:VEVENT
DTSTART;TZID=America/Chicago:20251026T093000
DTEND;TZID=America/Chicago:20251026T093000
DTSTAMP:20260425T150505
CREATED:20250829T164125Z
LAST-MODIFIED:20250903T202346Z
UID:10004066-1761471000-1761471000@www.tedallas.org
SUMMARY:Goin' to the Delivery Room Fall 2025
DESCRIPTION:We’re excited to welcome back Goin’ to the Delivery Room\, our four-week class for first-time expectant parents. Facilitators Alex Horn and Carly Goldman team up for three Sunday morning sessions and a Shabbat experience\, Oct. 12\, 26 and Nov. 9\, 14. In a small-group setting\, explore the roles and responsibilities of Jewish parenting and the rituals that shape our families.
URL:https://www.tedallas.org/event/goin-to-the-delivery-room-fall-2025/2025-10-26/
CATEGORIES:Community,Early Childhood,Learning
ATTACH;FMTTYPE=image/jpeg:https://www.tedallas.org/wp-content/uploads/2025/08/deliveryroomweb-event.jpg
ORGANIZER;CN="Erica Matsil":MAILTO:ematsil@tedallas.org
END:VEVENT
BEGIN:VEVENT
DTSTART;TZID=America/Chicago:20251025T163000
DTEND;TZID=America/Chicago:20251025T180000
DTSTAMP:20260425T150505
CREATED:20251016T220540Z
LAST-MODIFIED:20251016T220540Z
UID:10004115-1761409800-1761415200@www.tedallas.org
SUMMARY:October 25\, 2025: Liam Mor Bar Mitzvah
DESCRIPTION:
URL:https://www.tedallas.org/event/liam-mor/
LOCATION:Temple Emanu-El Stern Chapel
CATEGORIES:Prayer and Spirituality
ATTACH;FMTTYPE=image/jpeg:https://www.tedallas.org/wp-content/uploads/2022/08/Stern-Chapel-feature-image.jpg
END:VEVENT
BEGIN:VEVENT
DTSTART;TZID=America/Chicago:20251025T120000
DTEND;TZID=America/Chicago:20251025T133000
DTSTAMP:20260425T150505
CREATED:20250829T172131Z
LAST-MODIFIED:20250918T144913Z
UID:10004072-1761393600-1761399000@www.tedallas.org
SUMMARY:Bluebonnet Curriculum with Dr. Mark Chancey
DESCRIPTION:Join us for the 2025 Rabbi David Lefkowitz Memorial Lecture weekend. We are honored to welcome back Dr. Mark Chancey\, Professor of Religious Studies at SMU and a nationally recognized expert on religion in public schools\, for his fifth presentation at Temple Emanu-El. \nIn this lunch-and-learn following the Shabbat morning service\, Dr. Chancey will examine the controversial Texas Bluebonnet curriculum\, and discuss how you can have an impact on this issue in your school districts.
URL:https://www.tedallas.org/event/bluebonnet-curriculum-with-dr-chancey/
LOCATION:Temple Emanu-El Linz Hall
CATEGORIES:Adult Learning
ATTACH;FMTTYPE=image/jpeg:https://www.tedallas.org/wp-content/uploads/2025/09/October-MarkC-1.jpg
ORGANIZER;CN="Sammy Weyser":MAILTO:sweyser@tedallas.org
END:VEVENT
BEGIN:VEVENT
DTSTART;TZID=America/Chicago:20251025T103000
DTEND;TZID=America/Chicago:20251025T120000
DTSTAMP:20260425T150505
CREATED:20251016T220123Z
LAST-MODIFIED:20251016T220123Z
UID:10004114-1761388200-1761393600@www.tedallas.org
SUMMARY:October 25\, 2025: Sophie Kitner Bat Mitzvah
DESCRIPTION:
URL:https://www.tedallas.org/event/sophie-kitner/
LOCATION:Temple Emanu-El Stern Chapel
CATEGORIES:Prayer and Spirituality
ATTACH;FMTTYPE=image/jpeg:https://www.tedallas.org/wp-content/uploads/2022/08/Stern-Chapel-feature-image.jpg
END:VEVENT
BEGIN:VEVENT
DTSTART;TZID=America/Chicago:20251025T090000
DTEND;TZID=America/Chicago:20251025T100000
DTSTAMP:20260425T150505
CREATED:20250829T171940Z
LAST-MODIFIED:20250916T163753Z
UID:10004071-1761382800-1761386400@www.tedallas.org
SUMMARY:Ten Commandments in the Classroom with Dr. Mark Chancey
DESCRIPTION:Join us for the 2025 Rabbi David Lefkowitz Memorial Lecture weekend. We are honored to welcome back Dr. Mark Chancey\, Professor of Religious Studies at SMU and a nationally recognized expert on religion in public schools\, for his fifth presentation at Temple Emanu-El. \nThis lecture and Q&A session will take a closer look at the impact of the recently passed Texas law requiring schools to display the Ten Commandments in every classroom. Dr. Chancey will also review the translations\, versions and denominational views of the Ten Commandments. Note: Dr. Chancey’s presentation will replace the weekly Chever Torah class.emple
URL:https://www.tedallas.org/event/mark-chancey-saturday-morning/
LOCATION:Temple Emanu-El Linz Hall
CATEGORIES:Adult Learning,Prayer and Spirituality
ATTACH;FMTTYPE=image/jpeg:https://www.tedallas.org/wp-content/uploads/2025/09/October-MarkC-1.jpg
ORGANIZER;CN="Sammy Weyser":MAILTO:sweyser@tedallas.org
END:VEVENT
BEGIN:VEVENT
DTSTART;TZID=America/Chicago:20251024T193000
DTEND;TZID=America/Chicago:20251024T210000
DTSTAMP:20260425T150505
CREATED:20231214T162158Z
LAST-MODIFIED:20251020T182043Z
UID:10003043-1761334200-1761339600@www.tedallas.org
SUMMARY:ATiD Shabbat Dinner
DESCRIPTION:Join ATiD 20s and 30s for a Shabbat Dinner following services where we are honored to welcome Dr. Mark Chancey\, Professor of Religious Studies at SMU and a nationally recognized expert on religion in public schools. The evening will begin in Stern Chapel at 6:15 p.m. Following the service\, stick around for dinner and drinks with friends and the vibrant young adult Temple community. Register to attend dinner below.
URL:https://www.tedallas.org/event/atid-shabbat-dinner/
LOCATION:Temple Emanu-El Weiss Youth Wing
CATEGORIES:ATiD 20s and 30s,Community,Prayer and Spirituality
ATTACH;FMTTYPE=image/jpeg:https://www.tedallas.org/wp-content/uploads/2022/09/Atid-Website-Image.jpg
ORGANIZER;CN="Sammy Weyser":MAILTO:sweyser@tedallas.org
END:VEVENT
BEGIN:VEVENT
DTSTART;TZID=America/Chicago:20251024T181500
DTEND;TZID=America/Chicago:20251024T193000
DTSTAMP:20260425T150505
CREATED:20250829T171610Z
LAST-MODIFIED:20251105T173243Z
UID:10004070-1761329700-1761334200@www.tedallas.org
SUMMARY:October 24\, 2025: Shabbat Evening Service with Dr. Mark Chancey
DESCRIPTION:Join us for Shabbat Evening Services featuring the Rabbi David Lefkowitz Memorial Lecture. We are honored to welcome back Dr. Mark Chancey\, Professor of Religious Studies at SMU and a nationally recognized expert on religion in public schools\, for his fifth presentation at Temple Emanu-El. \nDr. Chancey’s keynote address\, delivered during the service\, will explore the issues and controversies surrounding religion in Texas classrooms today. From the Bluebonnet curriculum to proposed displays of the Ten Commandments\, prayer\, and Bible reading in schools\, he will offer insight into the legal questions\, challenges and strategies for navigating this new reality.
URL:https://www.tedallas.org/event/october-24-2025-shabbat-evening-service/
LOCATION:Temple Emanu-El Stern Chapel
CATEGORIES:Adult Learning,Community,Livestream,Prayer and Spirituality
ATTACH;FMTTYPE=image/jpeg:https://www.tedallas.org/wp-content/uploads/2025/09/October-MarkC-1.jpg
ORGANIZER;CN="Sammy Weyser":MAILTO:sweyser@tedallas.org
END:VEVENT
BEGIN:VEVENT
DTSTART;TZID=America/Chicago:20251024T173000
DTEND;TZID=America/Chicago:20251024T183000
DTSTAMP:20260425T150505
CREATED:20251006T204603Z
LAST-MODIFIED:20251013T185457Z
UID:10004099-1761327000-1761330600@www.tedallas.org
SUMMARY:October Tot Shabbat
DESCRIPTION:Calling all families with children ages 0-5 for a joyful Tot Shabbat.  Wear your costume as we sing\, dance and welcome Shabbat with this fun\, interactive service made just for little ones and their families.
URL:https://www.tedallas.org/event/october-tot-shabbat/
LOCATION:Temple Emanu-El Haas Amphitheater and Ratner Courtyard
CATEGORIES:Early Childhood,Families,Prayer and Spirituality
ATTACH;FMTTYPE=image/jpeg:https://www.tedallas.org/wp-content/uploads/2022/07/Tot-Shabbat-website.jpg
ORGANIZER;CN="Erica Matsil":MAILTO:ematsil@tedallas.org
END:VEVENT
BEGIN:VEVENT
DTSTART;TZID=America/Chicago:20251022T073000
DTEND;TZID=America/Chicago:20251022T073000
DTSTAMP:20260425T150505
CREATED:20250818T181436Z
LAST-MODIFIED:20250818T181833Z
UID:10004040-1761118200-1761118200@www.tedallas.org
SUMMARY:Talmud with Rabbi David Stern
DESCRIPTION:Join us for another exciting year of discovery\, argument and inspiration as we continue to study Tractate Ta’anit\, and explore our own perspectives on human power and limitation.
URL:https://www.tedallas.org/event/talmud-with-rabbi-stern/2025-10-22/
LOCATION:Online on Zoom
CATEGORIES:Adult Learning
ATTACH;FMTTYPE=image/jpeg:https://www.tedallas.org/wp-content/uploads/2025/02/TalmudRDS.jpg
ORGANIZER;CN="Jennifer Dietz":MAILTO:jdietz@tedallas.org
END:VEVENT
BEGIN:VEVENT
DTSTART;TZID=America/Chicago:20251021T190000
DTEND;TZID=America/Chicago:20251021T203000
DTSTAMP:20260425T150505
CREATED:20250728T185911Z
LAST-MODIFIED:20250728T185911Z
UID:10003998-1761073200-1761078600@www.tedallas.org
SUMMARY:Jewish and You: Classes for the Curious
DESCRIPTION:Sign up for a year of learning and exploring Judaism with Temple clergy and lay teachers. Whether you’re new to Judaism or were born Jewish and want to learn more\, this class is for you! Learn basic information about core aspects of Judaism\, including history\, texts\, foundational stories\, ideas\, and more. Join us to explore some of the big questions facing the Jewish people\, past and future. Space is limited\, sign up below to reserve your spot.
URL:https://www.tedallas.org/event/jewish-and-you-fall-2025/
LOCATION:Temple Emanu-El Linz Hall
CATEGORIES:Adult Learning,Learning
ATTACH;FMTTYPE=image/jpeg:https://www.tedallas.org/wp-content/uploads/2023/10/Jewish-and-You-Classes-for-the-Curious-scaled.jpg
ORGANIZER;CN="Anjelica Ruiz":MAILTO:aruiz@tedallas.org
END:VEVENT
BEGIN:VEVENT
DTSTART;TZID=America/Chicago:20251021T150000
DTEND;TZID=America/Chicago:20251021T160000
DTSTAMP:20260425T150505
CREATED:20240624T175638Z
LAST-MODIFIED:20260112T192319Z
UID:10003368-1761058800-1761062400@www.tedallas.org
SUMMARY:Yoga Emanu-El
DESCRIPTION:Join instructor Debbi K. Levy for an hour of yoga and mindfulness surrounded by the beauty Temple’s prayer spaces.
URL:https://www.tedallas.org/event/yoga-emanu-el-3/2025-10-21/
CATEGORIES:Adult Learning
ATTACH;FMTTYPE=image/jpeg:https://www.tedallas.org/wp-content/uploads/2022/09/yoga-emanu-el-e1662676573556.jpg
ORGANIZER;CN="Tal Drori":MAILTO:tdrori@tedallas.org
END:VEVENT
BEGIN:VEVENT
DTSTART;TZID=America/Chicago:20251021T091500
DTEND;TZID=America/Chicago:20251021T104500
DTSTAMP:20260425T150505
CREATED:20250903T203059Z
LAST-MODIFIED:20250903T203059Z
UID:10004082-1761038100-1761043500@www.tedallas.org
SUMMARY:ECEC Visiting Days
DESCRIPTION:Come see how Temple Emanu-El ECEC’s child-centered community embraces the collaborative pedagogy approaches of Reggio Emilia and the International Baccalaureate to facilitate authentic exploration opportunities with the experiential world. Visits will begin in Tycher Gathering Space with a meet and greet\, then a guided campus tour\, followed by an opportunity to ask questions. The complete visit lasts approximately 90 minutes.
URL:https://www.tedallas.org/event/ecec-visiting-days-2025/2025-10-21/
LOCATION:Temple Emanu-El Tycher Gathering Space
CATEGORIES:Community,Early Childhood,Learning
ATTACH;FMTTYPE=image/jpeg:https://www.tedallas.org/wp-content/uploads/2024/02/ECEC-Web-scaled.jpg
ORGANIZER;CN="Angela Daley":MAILTO:adaley@tedallas.org
END:VEVENT
BEGIN:VEVENT
DTSTART;TZID=America/Chicago:20251019T150000
DTEND;TZID=America/Chicago:20251019T180000
DTSTAMP:20260425T150505
CREATED:20230901T154340Z
LAST-MODIFIED:20250908T162024Z
UID:10002810-1760886000-1760896800@www.tedallas.org
SUMMARY:ECEC Fall Festival
DESCRIPTION:Fall Into Fun at the annual ECEC Fall Festival!\ninflatables * pumpkins * farm animals * rides * food * fun * friends * families \nWe are looking for sponsors for this year’s Fall Festival! See sponsorship levels in the form below.
URL:https://www.tedallas.org/event/ecec-fall-festival/
LOCATION:Temple Emanu-El Nasher-Haemisegger Family Atrium
CATEGORIES:Community,Early Childhood,Families
ATTACH;FMTTYPE=image/png:https://www.tedallas.org/wp-content/uploads/2023/09/Fall-Festival-Webpage.png
ORGANIZER;CN="ECEC Fall Festival Committee":MAILTO:ececfallfestival@gmail.com
END:VEVENT
END:VCALENDAR