BEGIN:VCALENDAR
VERSION:2.0
PRODID:-//Temple Emanu-El - ECPv6.15.20//NONSGML v1.0//EN
CALSCALE:GREGORIAN
METHOD:PUBLISH
X-ORIGINAL-URL:https://www.tedallas.org
X-WR-CALDESC:Events for Temple Emanu-El
REFRESH-INTERVAL;VALUE=DURATION:PT1H
X-Robots-Tag:noindex
X-PUBLISHED-TTL:PT1H
BEGIN:VTIMEZONE
TZID:America/Chicago
BEGIN:DAYLIGHT
TZOFFSETFROM:-0600
TZOFFSETTO:-0500
TZNAME:CDT
DTSTART:20210314T080000
END:DAYLIGHT
BEGIN:STANDARD
TZOFFSETFROM:-0500
TZOFFSETTO:-0600
TZNAME:CST
DTSTART:20211107T070000
END:STANDARD
BEGIN:DAYLIGHT
TZOFFSETFROM:-0600
TZOFFSETTO:-0500
TZNAME:CDT
DTSTART:20220313T080000
END:DAYLIGHT
BEGIN:STANDARD
TZOFFSETFROM:-0500
TZOFFSETTO:-0600
TZNAME:CST
DTSTART:20221106T070000
END:STANDARD
BEGIN:DAYLIGHT
TZOFFSETFROM:-0600
TZOFFSETTO:-0500
TZNAME:CDT
DTSTART:20230312T080000
END:DAYLIGHT
BEGIN:STANDARD
TZOFFSETFROM:-0500
TZOFFSETTO:-0600
TZNAME:CST
DTSTART:20231105T070000
END:STANDARD
END:VTIMEZONE
BEGIN:VEVENT
DTSTART;TZID=America/Chicago:20221022T163000
DTEND;TZID=America/Chicago:20221022T173000
DTSTAMP:20260421T104415
CREATED:20220824T015034Z
LAST-MODIFIED:20221031T214505Z
UID:10001465-1666456200-1666459800@www.tedallas.org
SUMMARY:October 22: Madison Johnson Bat Mitzvah
DESCRIPTION:
URL:https://www.tedallas.org/event/madisonjohnson/
CATEGORIES:Livestream,Prayer and Spirituality
ATTACH;FMTTYPE=image/jpeg:https://www.tedallas.org/wp-content/uploads/2022/08/Stern-Chapel-feature-image.jpg
END:VEVENT
BEGIN:VEVENT
DTSTART;TZID=America/Chicago:20221023T091500
DTEND;TZID=America/Chicago:20221023T103000
DTSTAMP:20260421T104415
CREATED:20220929T211515Z
LAST-MODIFIED:20220929T212414Z
UID:10001754-1666516500-1666521000@www.tedallas.org
SUMMARY:Parent Education: Talking to Our Children About Death
DESCRIPTION:Sometimes kids ask tough\, direct questions to which parents don’t have answers especially concerning death and loss. By kindergarten\, children are more curious as well as empathetic and those challenging questions can be difficult for parents to answer.\nTemple Emanu-El invites you to join this In The Know: Parent Education session featuring Rabbi Amy Rossel. During the session\, we will explore the topic of death and loss and share actionable strategies for engaging with your school-age children.
URL:https://www.tedallas.org/event/talking-to-our-children-about-death/
LOCATION:Temple Emanu-El
CATEGORIES:Adult Learning,Youth Learning + Engagement
ATTACH;FMTTYPE=image/jpeg:https://www.tedallas.org/wp-content/uploads/2022/09/intheknow-scaled.jpg
END:VEVENT
BEGIN:VEVENT
DTSTART;TZID=America/Chicago:20221025T093000
DTEND;TZID=America/Chicago:20221025T110000
DTSTAMP:20260421T104415
CREATED:20221014T201716Z
LAST-MODIFIED:20221117T214231Z
UID:10001767-1666690200-1666695600@www.tedallas.org
SUMMARY:ECEC Visiting Days
DESCRIPTION:Applications for the 2023-2024 school year will open at the beginning of January. Come see how Temple Emanu-El ECEC’s child-centered community embraces the collaborative pedagogy approaches of Reggio Emilia and the International Baccalaureate to facilitate authentic exploration opportunities with the experiential world. Enjoy refreshments\, an in-depth presentation and tour of the ECEC building. Sign up to visit.
URL:https://www.tedallas.org/event/ecec-visiting-days/2022-10-25/
LOCATION:Temple Emanu-El ECEC
CATEGORIES:Early Childhood,Families,Learning
ATTACH;FMTTYPE=image/jpeg:https://www.tedallas.org/wp-content/uploads/2022/10/194A9420-002-scaled.jpg
END:VEVENT
BEGIN:VEVENT
DTSTART;TZID=America/Chicago:20221025T150000
DTEND;TZID=America/Chicago:20221025T160000
DTSTAMP:20260421T104415
CREATED:20220908T223725Z
LAST-MODIFIED:20230929T190509Z
UID:10001221-1666710000-1666713600@www.tedallas.org
SUMMARY:Yoga Emanu-El
DESCRIPTION:Join instructor Debbi K. Levy for an hour long yoga and meditation session with a Jewish lens. No registration required.
URL:https://www.tedallas.org/event/yoga-emanu-el/2022-10-25/
LOCATION:Temple Emanu-El
CATEGORIES:Adult Learning,Community
ATTACH;FMTTYPE=image/jpeg:https://www.tedallas.org/wp-content/uploads/2022/09/yoga-emanu-el-e1662676573556.jpg
END:VEVENT
BEGIN:VEVENT
DTSTART;TZID=America/Chicago:20221026T190000
DTEND;TZID=America/Chicago:20221026T190000
DTSTAMP:20260421T104415
CREATED:20220831T201905Z
LAST-MODIFIED:20221020T152936Z
UID:10001203-1666810800-1666810800@www.tedallas.org
SUMMARY:Our Stories Are Recipes
DESCRIPTION:A cooking show and tasting led by culinary expert Tina Wasserman\, Greene Family Camp chef Eli Cohn-Wein and food blogger Sophie Levy Zuckerman.
URL:https://www.tedallas.org/event/our-stories-are-recipes/
LOCATION:Temple Emanu-El
CATEGORIES:Community,Livestream,TE150
ATTACH;FMTTYPE=image/png:https://www.tedallas.org/wp-content/uploads/2022/08/Harvest-Website-Banner.png
END:VEVENT
BEGIN:VEVENT
DTSTART;TZID=America/Chicago:20221028T181500
DTEND;TZID=America/Chicago:20221028T200000
DTSTAMP:20260421T104415
CREATED:20221019T181659Z
LAST-MODIFIED:20221019T181659Z
UID:10001776-1666980900-1666987200@www.tedallas.org
SUMMARY:October 28: Shabbat Evening Service
DESCRIPTION:with Cantor Vicky Glikin\, Rabbi Michael Lewis and Hallie Weiner\, Cantorial Intern | Sermon by Rabbi Debra Robbins
URL:https://www.tedallas.org/event/october-28-shabbat-evening-service/
LOCATION:Temple Emanu-El Stern Chapel
CATEGORIES:Livestream,Prayer and Spirituality
ATTACH;FMTTYPE=image/jpeg:https://www.tedallas.org/wp-content/uploads/2022/08/Stern-Chapel-feature-image.jpg
END:VEVENT
BEGIN:VEVENT
DTSTART;TZID=America/Chicago:20221029T090000
DTEND;TZID=America/Chicago:20221029T103000
DTSTAMP:20260421T104415
CREATED:20220819T190617Z
LAST-MODIFIED:20231214T152620Z
UID:10001073-1667034000-1667039400@www.tedallas.org
SUMMARY:Chever Torah
DESCRIPTION:
URL:https://www.tedallas.org/event/chever-torah-2022-09-24/2022-10-29/
LOCATION:Temple Emanu-El Ackerman Conference Room
CATEGORIES:Adult Learning,Prayer and Spirituality
ATTACH;FMTTYPE=image/jpeg:https://www.tedallas.org/wp-content/uploads/2022/07/Temple-logo-event-image-1.jpg
END:VEVENT
BEGIN:VEVENT
DTSTART;TZID=America/Chicago:20221029T103000
DTEND;TZID=America/Chicago:20221029T120000
DTSTAMP:20260421T104415
CREATED:20220824T020046Z
LAST-MODIFIED:20221031T214516Z
UID:10001192-1667039400-1667044800@www.tedallas.org
SUMMARY:October 29: Samuel Keon Bar Mitzvah
DESCRIPTION:
URL:https://www.tedallas.org/event/samuelkeon/
CATEGORIES:Livestream,Prayer and Spirituality
ATTACH;FMTTYPE=image/jpeg:https://www.tedallas.org/wp-content/uploads/2022/08/Stern-Chapel-feature-image.jpg
END:VEVENT
BEGIN:VEVENT
DTSTART;TZID=America/Chicago:20221029T103000
DTEND;TZID=America/Chicago:20221029T123000
DTSTAMP:20260421T104415
CREATED:20221019T183054Z
LAST-MODIFIED:20221019T183054Z
UID:10001777-1667039400-1667046600@www.tedallas.org
SUMMARY:October 29: Shabbat Morning Service
DESCRIPTION:with Rabbi Michael Lewis and Hallie Weiner\, Cantorial Intern
URL:https://www.tedallas.org/event/october-29-shabbat-morning-service/
LOCATION:Temple Emanu-El Lefkowitz Chapel
CATEGORIES:Livestream,Prayer and Spirituality
ATTACH;FMTTYPE=image/jpeg:https://www.tedallas.org/wp-content/uploads/2022/08/Lefkowitz-feature-image.jpg
END:VEVENT
BEGIN:VEVENT
DTSTART;TZID=America/Chicago:20221029T163000
DTEND;TZID=America/Chicago:20221029T173000
DTSTAMP:20260421T104415
CREATED:20220824T021425Z
LAST-MODIFIED:20221031T214524Z
UID:10001466-1667061000-1667064600@www.tedallas.org
SUMMARY:October 29: Sydney Olinick Bat Mitzvah
DESCRIPTION:
URL:https://www.tedallas.org/event/sydneyolinick/
CATEGORIES:Livestream,Prayer and Spirituality
ATTACH;FMTTYPE=image/jpeg:https://www.tedallas.org/wp-content/uploads/2022/08/Stern-Chapel-feature-image.jpg
END:VEVENT
BEGIN:VEVENT
DTSTART;TZID=America/Chicago:20221030T094500
DTEND;TZID=America/Chicago:20221030T110000
DTSTAMP:20260421T104415
CREATED:20220907T152200Z
LAST-MODIFIED:20220907T152211Z
UID:10001210-1667123100-1667127600@www.tedallas.org
SUMMARY:Goin' To The Delivery Room
DESCRIPTION:Temple’s popular class for young families is returning on Oct. 30! Join facilitators Lauren New and Elena Paull for four Sunday morning get-togethers and a Saturday evening Havdalah. The class will explore resources for Jewish parenting and be a gathering spot for parents to get to know one another. All Sunday classes will be held from 9:45-11am on Oct. 30\, Nov. 13\, Dec. 4 and Dec. 11. Havdalah will be held on Dec. 17.
URL:https://www.tedallas.org/event/goin-to-the-delivery-room/2022-10-30/
LOCATION:Temple Emanu-El
CATEGORIES:Community,Community Events,Families
ATTACH;FMTTYPE=image/jpeg:https://www.tedallas.org/wp-content/uploads/2022/07/Temple-logo-event-image-1.jpg
END:VEVENT
BEGIN:VEVENT
DTSTART;TZID=America/Chicago:20221101T150000
DTEND;TZID=America/Chicago:20221101T160000
DTSTAMP:20260421T104415
CREATED:20220908T223725Z
LAST-MODIFIED:20230929T190509Z
UID:10002824-1667314800-1667318400@www.tedallas.org
SUMMARY:Yoga Emanu-El
DESCRIPTION:Join instructor Debbi K. Levy for an hour long yoga and meditation session with a Jewish lens. No registration required.
URL:https://www.tedallas.org/event/yoga-emanu-el/2022-11-01/
LOCATION:Temple Emanu-El
CATEGORIES:Adult Learning,Community
ATTACH;FMTTYPE=image/jpeg:https://www.tedallas.org/wp-content/uploads/2022/09/yoga-emanu-el-e1662676573556.jpg
END:VEVENT
BEGIN:VEVENT
DTSTART;TZID=America/Chicago:20221103T190000
DTEND;TZID=America/Chicago:20221103T213000
DTSTAMP:20260421T104415
CREATED:20220901T174031Z
LAST-MODIFIED:20221101T151634Z
UID:10001206-1667502000-1667511000@www.tedallas.org
SUMMARY:Henry D. Schlinger Ethics Symposium: Leaving the Food Desert
DESCRIPTION:This year’s Henry D. Schlinger Ethics Symposium welcomes Rabbi Schmuly Yanklowitz\, a renowned activist\, educator and author who focuses on issues of social justice. Following Rabbi Yanklowitz’s remarks\, he’ll moderate a panel with Peter Brodsky\, Temple member and developer working to improve economic conditions in South Dallas and Benaye Wadkins Chambers\, executive director of Crossroads Community Service\, an organization that provides those in need with nourishing food and supportive education.
URL:https://www.tedallas.org/event/leaving-the-food-desert/
LOCATION:Temple Emanu-El
CATEGORIES:Justice,Livestream,Prayer and Spirituality,TE150
ATTACH;FMTTYPE=image/png:https://www.tedallas.org/wp-content/uploads/2022/08/Harvest-Website-Banner.png
END:VEVENT
BEGIN:VEVENT
DTSTART;TZID=America/Chicago:20221104T181500
DTEND;TZID=America/Chicago:20221104T193000
DTSTAMP:20260421T104415
CREATED:20221019T183413Z
LAST-MODIFIED:20221019T183413Z
UID:10001321-1667585700-1667590200@www.tedallas.org
SUMMARY:November 4: Shabbat Evening Service
DESCRIPTION:with Cantor Vicky Glikin and Rabbi Kimberly Herzog Cohen | Sermon by Rabbi David Stern
URL:https://www.tedallas.org/event/november-4-shabbat-evening-service/
LOCATION:Temple Emanu-El Stern Chapel
CATEGORIES:Livestream,Prayer and Spirituality
ATTACH;FMTTYPE=image/jpeg:https://www.tedallas.org/wp-content/uploads/2022/08/Stern-Chapel-feature-image.jpg
END:VEVENT
BEGIN:VEVENT
DTSTART;TZID=America/Chicago:20221105T090000
DTEND;TZID=America/Chicago:20221105T103000
DTSTAMP:20260421T104415
CREATED:20220819T190617Z
LAST-MODIFIED:20231214T152620Z
UID:10001074-1667638800-1667644200@www.tedallas.org
SUMMARY:Chever Torah
DESCRIPTION:
URL:https://www.tedallas.org/event/chever-torah-2022-09-24/2022-11-05/
LOCATION:Temple Emanu-El Ackerman Conference Room
CATEGORIES:Adult Learning,Prayer and Spirituality
ATTACH;FMTTYPE=image/jpeg:https://www.tedallas.org/wp-content/uploads/2022/07/Temple-logo-event-image-1.jpg
END:VEVENT
BEGIN:VEVENT
DTSTART;TZID=America/Chicago:20221105T103000
DTEND;TZID=America/Chicago:20221105T120000
DTSTAMP:20260421T104415
CREATED:20221019T183815Z
LAST-MODIFIED:20221019T183815Z
UID:10001322-1667644200-1667649600@www.tedallas.org
SUMMARY:November 5: Shabbat Morning Service
DESCRIPTION:with Rabbi Kimberly Herzog Cohen and Hallie Weiner\, Cantorial Soloist
URL:https://www.tedallas.org/event/november-5-shabbat-morning-service/
LOCATION:Temple Emanu-El Lefkowitz Chapel
CATEGORIES:Livestream,Prayer and Spirituality
ATTACH;FMTTYPE=image/jpeg:https://www.tedallas.org/wp-content/uploads/2022/08/Lefkowitz-feature-image.jpg
END:VEVENT
BEGIN:VEVENT
DTSTART;TZID=America/Chicago:20221105T163000
DTEND;TZID=America/Chicago:20221105T173000
DTSTAMP:20260421T104415
CREATED:20220824T022004Z
LAST-MODIFIED:20220824T022004Z
UID:10001194-1667665800-1667669400@www.tedallas.org
SUMMARY:November 5: Garrett Jones Bar Mitzvah
DESCRIPTION:
URL:https://www.tedallas.org/event/garrettjones/
CATEGORIES:Prayer and Spirituality
ATTACH;FMTTYPE=image/jpeg:https://www.tedallas.org/wp-content/uploads/2022/08/Stern-Chapel-feature-image.jpg
END:VEVENT
BEGIN:VEVENT
DTSTART;TZID=America/Chicago:20221106T110000
DTEND;TZID=America/Chicago:20221106T133000
DTSTAMP:20260421T104415
CREATED:20220831T202132Z
LAST-MODIFIED:20220909T175311Z
UID:10001319-1667732400-1667741400@www.tedallas.org
SUMMARY:Taste of TE150
DESCRIPTION:This shuk-style extravaganza for all ages will explore Jewish foods from around the world. You’ll find treats from 22 partners\, some with recipes to share! Plus\, join participants in a mitzvah of making soup kits for a food pantry.
URL:https://www.tedallas.org/event/taste-of-te150/
LOCATION:Temple Emanu-El
CATEGORIES:Community,TE150
ATTACH;FMTTYPE=image/png:https://www.tedallas.org/wp-content/uploads/2022/08/Harvest-Website-Banner.png
END:VEVENT
BEGIN:VEVENT
DTSTART;TZID=America/Chicago:20221108T150000
DTEND;TZID=America/Chicago:20221108T160000
DTSTAMP:20260421T104415
CREATED:20220908T223725Z
LAST-MODIFIED:20230929T190509Z
UID:10002825-1667919600-1667923200@www.tedallas.org
SUMMARY:Yoga Emanu-El
DESCRIPTION:Join instructor Debbi K. Levy for an hour long yoga and meditation session with a Jewish lens. No registration required.
URL:https://www.tedallas.org/event/yoga-emanu-el/2022-11-08/
LOCATION:Temple Emanu-El
CATEGORIES:Adult Learning,Community
ATTACH;FMTTYPE=image/jpeg:https://www.tedallas.org/wp-content/uploads/2022/09/yoga-emanu-el-e1662676573556.jpg
END:VEVENT
BEGIN:VEVENT
DTSTART;TZID=America/Chicago:20221109T093000
DTEND;TZID=America/Chicago:20221109T110000
DTSTAMP:20260421T104415
CREATED:20221014T201716Z
LAST-MODIFIED:20221117T214231Z
UID:10001768-1667986200-1667991600@www.tedallas.org
SUMMARY:ECEC Visiting Days
DESCRIPTION:Applications for the 2023-2024 school year will open at the beginning of January. Come see how Temple Emanu-El ECEC’s child-centered community embraces the collaborative pedagogy approaches of Reggio Emilia and the International Baccalaureate to facilitate authentic exploration opportunities with the experiential world. Enjoy refreshments\, an in-depth presentation and tour of the ECEC building. Sign up to visit.
URL:https://www.tedallas.org/event/ecec-visiting-days/2022-11-09/
LOCATION:Temple Emanu-El ECEC
CATEGORIES:Early Childhood,Families,Learning
ATTACH;FMTTYPE=image/jpeg:https://www.tedallas.org/wp-content/uploads/2022/10/194A9420-002-scaled.jpg
END:VEVENT
BEGIN:VEVENT
DTSTART;TZID=America/Chicago:20221111T181500
DTEND;TZID=America/Chicago:20221111T200000
DTSTAMP:20260421T104415
CREATED:20221019T162907Z
LAST-MODIFIED:20221021T152200Z
UID:10001770-1668190500-1668196800@www.tedallas.org
SUMMARY:Soul Tide Shabbat Evening Service
DESCRIPTION:Experience a sense of renewal and let Shabbat help melt away the stress of the week\, or even recent months\, as you explore your connection to God through music\, breath and community with visiting artists Rabbi Josh Warshawsky and violinist Coleen Dieker.
URL:https://www.tedallas.org/event/soul-tide-shabbat-evening-service/
LOCATION:Temple Emanu-El Stern Chapel
CATEGORIES:Livestream,Music, Arts, and Culture,Prayer and Spirituality
ATTACH;FMTTYPE=image/jpeg:https://www.tedallas.org/wp-content/uploads/2022/10/1200x678-SoulTide.jpg
END:VEVENT
BEGIN:VEVENT
DTSTART;TZID=America/Chicago:20221112T090000
DTEND;TZID=America/Chicago:20221112T103000
DTSTAMP:20260421T104415
CREATED:20220819T190617Z
LAST-MODIFIED:20231214T152620Z
UID:10001075-1668243600-1668249000@www.tedallas.org
SUMMARY:Chever Torah
DESCRIPTION:
URL:https://www.tedallas.org/event/chever-torah-2022-09-24/2022-11-12/
LOCATION:Temple Emanu-El Ackerman Conference Room
CATEGORIES:Adult Learning,Prayer and Spirituality
ATTACH;FMTTYPE=image/jpeg:https://www.tedallas.org/wp-content/uploads/2022/07/Temple-logo-event-image-1.jpg
END:VEVENT
BEGIN:VEVENT
DTSTART;TZID=America/Chicago:20221112T103000
DTEND;TZID=America/Chicago:20221112T123000
DTSTAMP:20260421T104415
CREATED:20221019T165359Z
LAST-MODIFIED:20221021T152308Z
UID:10001771-1668249000-1668256200@www.tedallas.org
SUMMARY:Soul Tide Shabbat Morning Service
DESCRIPTION:Continue the Shabbat journey with Rabbi Josh Warshawsky and violinist Coleen Dieker in this meditative service with our prayer leaders’ special blend of harmony\, extended silence and soulful melody.
URL:https://www.tedallas.org/event/soul-tide-shabbat-morning-service/
LOCATION:Temple Emanu-El Lefkowitz Chapel
CATEGORIES:Livestream,Music, Arts, and Culture,Prayer and Spirituality
ATTACH;FMTTYPE=image/jpeg:https://www.tedallas.org/wp-content/uploads/2022/10/1200x678-SoulTide.jpg
END:VEVENT
BEGIN:VEVENT
DTSTART;TZID=America/Chicago:20221112T170000
DTEND;TZID=America/Chicago:20221112T183000
DTSTAMP:20260421T104415
CREATED:20221019T175355Z
LAST-MODIFIED:20221110T182450Z
UID:10001772-1668272400-1668277800@www.tedallas.org
SUMMARY:Soul Tide for Tots
DESCRIPTION:Dance\, sing and clap with Rabbi Josh Warshawsky and violinist Coleen Dieker during this joyful celebration of Shabbat for the whole family.
URL:https://www.tedallas.org/event/soul-tide-tots/
LOCATION:Temple Emanu-El Haas Amphitheater
CATEGORIES:Early Childhood,Music, Arts, and Culture,Prayer and Spirituality
ATTACH;FMTTYPE=image/jpeg:https://www.tedallas.org/wp-content/uploads/2022/10/1200x678-SoulTide.jpg
ORGANIZER;CN="Jennifer Richman":MAILTO:jrichman@tedallas.org
END:VEVENT
BEGIN:VEVENT
DTSTART;TZID=America/Chicago:20221112T190000
DTEND;TZID=America/Chicago:20221112T210000
DTSTAMP:20260421T104415
CREATED:20221019T175552Z
LAST-MODIFIED:20221021T151421Z
UID:10001773-1668279600-1668286800@www.tedallas.org
SUMMARY:Soul Tide Together: Congregational Concert and Havdalah
DESCRIPTION:Sit back\, relax\, and be inspired by an evening of uplifting music and community with Rabbi Josh Warshawsky and Coleen Dieker.
URL:https://www.tedallas.org/event/soul-tide-together/
LOCATION:Temple Emanu-El
CATEGORIES:Community,Music, Arts, and Culture,Prayer and Spirituality
ATTACH;FMTTYPE=image/jpeg:https://www.tedallas.org/wp-content/uploads/2022/10/1200x678-SoulTide.jpg
END:VEVENT
BEGIN:VEVENT
DTSTART;TZID=America/Chicago:20221113T094500
DTEND;TZID=America/Chicago:20221113T110000
DTSTAMP:20260421T104415
CREATED:20220907T152200Z
LAST-MODIFIED:20220907T152211Z
UID:10001211-1668332700-1668337200@www.tedallas.org
SUMMARY:Goin' To The Delivery Room
DESCRIPTION:Temple’s popular class for young families is returning on Oct. 30! Join facilitators Lauren New and Elena Paull for four Sunday morning get-togethers and a Saturday evening Havdalah. The class will explore resources for Jewish parenting and be a gathering spot for parents to get to know one another. All Sunday classes will be held from 9:45-11am on Oct. 30\, Nov. 13\, Dec. 4 and Dec. 11. Havdalah will be held on Dec. 17.
URL:https://www.tedallas.org/event/goin-to-the-delivery-room/2022-11-13/
LOCATION:Temple Emanu-El
CATEGORIES:Community,Community Events,Families
ATTACH;FMTTYPE=image/jpeg:https://www.tedallas.org/wp-content/uploads/2022/07/Temple-logo-event-image-1.jpg
END:VEVENT
BEGIN:VEVENT
DTSTART;TZID=America/Chicago:20221115T150000
DTEND;TZID=America/Chicago:20221115T160000
DTSTAMP:20260421T104415
CREATED:20220908T223725Z
LAST-MODIFIED:20230929T190509Z
UID:10002826-1668524400-1668528000@www.tedallas.org
SUMMARY:Yoga Emanu-El
DESCRIPTION:Join instructor Debbi K. Levy for an hour long yoga and meditation session with a Jewish lens. No registration required.
URL:https://www.tedallas.org/event/yoga-emanu-el/2022-11-15/
LOCATION:Temple Emanu-El
CATEGORIES:Adult Learning,Community
ATTACH;FMTTYPE=image/jpeg:https://www.tedallas.org/wp-content/uploads/2022/09/yoga-emanu-el-e1662676573556.jpg
END:VEVENT
BEGIN:VEVENT
DTSTART;TZID=America/Chicago:20221117T170000
DTEND;TZID=America/Chicago:20221117T190000
DTSTAMP:20260421T104415
CREATED:20221103T150719Z
LAST-MODIFIED:20221103T150719Z
UID:10001330-1668704400-1668711600@www.tedallas.org
SUMMARY:Rabbi's First Rodeo
DESCRIPTION:Join ATiD\, 20s and 30s\, in the Youth Wing to celebrate Rabbi Michael Lewis’ installation. There will be drinks and appetizers to enjoy.
URL:https://www.tedallas.org/event/rabbis-first-rodeo/
LOCATION:Temple Emanu-El Weiss Youth Wing
CATEGORIES:ATiD 20s and 30s,Community
ATTACH;FMTTYPE=image/jpeg:https://www.tedallas.org/wp-content/uploads/2022/09/Atid-Website-Image.jpg
END:VEVENT
BEGIN:VEVENT
DTSTART;TZID=America/Chicago:20221118T181500
DTEND;TZID=America/Chicago:20221118T200000
DTSTAMP:20260421T104415
CREATED:20221108T165655Z
LAST-MODIFIED:20221108T170346Z
UID:10001779-1668795300-1668801600@www.tedallas.org
SUMMARY:November 18: Rabbi Michael Lewis Installation Shabbat
DESCRIPTION:The installation service features Rabbi Beth Singer from Congregation Emanu-El in San Francisco. Enjoy an enhanced oneg sponsored by the Women of Reform Judaism.
URL:https://www.tedallas.org/event/november-18-rabbi-michael-lewis-installation-shabbat/
LOCATION:Temple Emanu-El Stern Chapel
CATEGORIES:Community,Livestream,Prayer and Spirituality
ATTACH;FMTTYPE=image/jpeg:https://www.tedallas.org/wp-content/uploads/2022/11/RML-website-event-scaled.jpg
END:VEVENT
BEGIN:VEVENT
DTSTART;TZID=America/Chicago:20221119T090000
DTEND;TZID=America/Chicago:20221119T103000
DTSTAMP:20260421T104415
CREATED:20220819T190617Z
LAST-MODIFIED:20231214T152620Z
UID:10001076-1668848400-1668853800@www.tedallas.org
SUMMARY:Chever Torah
DESCRIPTION:
URL:https://www.tedallas.org/event/chever-torah-2022-09-24/2022-11-19/
LOCATION:Temple Emanu-El Ackerman Conference Room
CATEGORIES:Adult Learning,Prayer and Spirituality
ATTACH;FMTTYPE=image/jpeg:https://www.tedallas.org/wp-content/uploads/2022/07/Temple-logo-event-image-1.jpg
END:VEVENT
END:VCALENDAR