BEGIN:VCALENDAR
VERSION:2.0
PRODID:-//Temple Emanu-El - ECPv6.15.20//NONSGML v1.0//EN
CALSCALE:GREGORIAN
METHOD:PUBLISH
X-WR-CALNAME:Temple Emanu-El
X-ORIGINAL-URL:https://www.tedallas.org
X-WR-CALDESC:Events for Temple Emanu-El
REFRESH-INTERVAL;VALUE=DURATION:PT1H
X-Robots-Tag:noindex
X-PUBLISHED-TTL:PT1H
BEGIN:VTIMEZONE
TZID:America/Chicago
BEGIN:DAYLIGHT
TZOFFSETFROM:-0600
TZOFFSETTO:-0500
TZNAME:CDT
DTSTART:20250309T080000
END:DAYLIGHT
BEGIN:STANDARD
TZOFFSETFROM:-0500
TZOFFSETTO:-0600
TZNAME:CST
DTSTART:20251102T070000
END:STANDARD
BEGIN:DAYLIGHT
TZOFFSETFROM:-0600
TZOFFSETTO:-0500
TZNAME:CDT
DTSTART:20260308T080000
END:DAYLIGHT
BEGIN:STANDARD
TZOFFSETFROM:-0500
TZOFFSETTO:-0600
TZNAME:CST
DTSTART:20261101T070000
END:STANDARD
BEGIN:DAYLIGHT
TZOFFSETFROM:-0600
TZOFFSETTO:-0500
TZNAME:CDT
DTSTART:20270314T080000
END:DAYLIGHT
BEGIN:STANDARD
TZOFFSETFROM:-0500
TZOFFSETTO:-0600
TZNAME:CST
DTSTART:20271107T070000
END:STANDARD
END:VTIMEZONE
BEGIN:VEVENT
DTSTART;TZID=America/Chicago:20260123T181500
DTEND;TZID=America/Chicago:20260123T193000
DTSTAMP:20260421T102426
CREATED:20260116T171801Z
LAST-MODIFIED:20260206T154252Z
UID:10004332-1769192100-1769196600@www.tedallas.org
SUMMARY:January 23\, 2026: Shabbat Evening Service
DESCRIPTION:with Cantor Vicky Glikin and Rabbi Michael Lewis | Sermon by Rabbi Debra Robbins
URL:https://www.tedallas.org/event/january-23-2026-shabbat-evening-service/
LOCATION:Temple Emanu-El Stern Chapel
CATEGORIES:Livestream,Prayer and Spirituality
ATTACH;FMTTYPE=image/jpeg:https://www.tedallas.org/wp-content/uploads/2022/08/Stern-Chapel-feature-image.jpg
END:VEVENT
BEGIN:VEVENT
DTSTART;TZID=America/Chicago:20260124T090000
DTEND;TZID=America/Chicago:20260124T103000
DTSTAMP:20260421T102426
CREATED:20260121T154701Z
LAST-MODIFIED:20260121T154712Z
UID:10004270-1769245200-1769250600@www.tedallas.org
SUMMARY:Chever Torah
DESCRIPTION:Please note\, this Chever Torah session will be offered online only.
URL:https://www.tedallas.org/event/chever-torah-2022-09-24-3-2-4-2/
LOCATION:Temple Emanu-El Barbara Zale Center for Living History
CATEGORIES:Adult Learning,Prayer and Spirituality
ATTACH;FMTTYPE=image/jpeg:https://www.tedallas.org/wp-content/uploads/2024/03/chever-torah-web.jpg
END:VEVENT
BEGIN:VEVENT
DTSTART;TZID=America/Chicago:20260124T103000
DTEND;TZID=America/Chicago:20260124T120000
DTSTAMP:20260421T102426
CREATED:20260116T184724Z
LAST-MODIFIED:20260123T202556Z
UID:10004334-1769250600-1769256000@www.tedallas.org
SUMMARY:January 24\, 2026: Shabbat Morning Experience
DESCRIPTION:The Temple building will be closed on Saturday due to the expected inclement weather\, and Shabbat morning prayer and study will move fully online. \nOur Shabbat Morning Experience\, led by Rabbi David Stern and Cantor Hallie Weiner\, will take place on Zoom at 10:30 a.m. Please note that this service will not be available on tedallas.org/livestream and will be accessible by Zoom only.
URL:https://www.tedallas.org/event/january-24-2026-shabbat-morning-service/
LOCATION:Online on Zoom
CATEGORIES:Prayer and Spirituality
ATTACH;FMTTYPE=image/jpeg:https://www.tedallas.org/wp-content/uploads/2022/08/Lefkowitz-feature-image.jpg
END:VEVENT
BEGIN:VEVENT
DTSTART;TZID=America/Chicago:20260127T150000
DTEND;TZID=America/Chicago:20260127T160000
DTSTAMP:20260421T102426
CREATED:20240624T175638Z
LAST-MODIFIED:20260112T192319Z
UID:10003382-1769526000-1769529600@www.tedallas.org
SUMMARY:Yoga Emanu-El
DESCRIPTION:Join instructor Debbi K. Levy for an hour of yoga and mindfulness surrounded by the beauty Temple’s prayer spaces.
URL:https://www.tedallas.org/event/yoga-emanu-el-3/2026-01-27/
CATEGORIES:Adult Learning
ATTACH;FMTTYPE=image/jpeg:https://www.tedallas.org/wp-content/uploads/2022/09/yoga-emanu-el-e1662676573556.jpg
ORGANIZER;CN="Tal Drori":MAILTO:tdrori@tedallas.org
END:VEVENT
BEGIN:VEVENT
DTSTART;TZID=America/Chicago:20260130T180000
DTEND;TZID=America/Chicago:20260130T193000
DTSTAMP:20260421T102426
CREATED:20251226T204853Z
LAST-MODIFIED:20260202T190908Z
UID:10004245-1769796000-1769801400@www.tedallas.org
SUMMARY:Sea Crossings
DESCRIPTION:A SHABBAT SHIRAH PRAYER CONCERT WITH TEMPLE EMANU-EL CHOIR & TURTLE CREEK CHORALE \nSea Crossings celebrates the moment when our ancestors left Egypt and discovered the promise of freedom\, healing and hope. Join the Temple Emanu-El Choir and Turtle Creek Chorale\, an acclaimed Dallas-based predominantly gay men’s chorus\, for an evening of prayer and song. Journey with us across the Sea and feel inspired and connected to our shared humanity\, God and the wisdom of Judaism. \nThe Shabbat evening service on Jan. 30 will follow a different format than most Friday night services. It will open with traditional liturgy\, then will move into the Shabbat Shirah prayer journey with the Turtle Creek Chorale and the Temple Emanu-El Choir. The Kaddish will be recited at the end of the service\, following the presentation by the two choirs. \nSponsored in part by Beverly Goldman Charitable Fund
URL:https://www.tedallas.org/event/sea-crossings/
LOCATION:Temple Emanu-El Olan Sancutary
CATEGORIES:Community,Community Events,LGBTQ+,Livestream,Music, Arts, and Culture,Prayer and Spirituality
ATTACH;FMTTYPE=image/jpeg:https://www.tedallas.org/wp-content/uploads/2025/12/Sea_crossingsWEB.jpg
ORGANIZER;CN="Tal Drori":MAILTO:tdrori@tedallas.org
END:VEVENT
BEGIN:VEVENT
DTSTART;TZID=America/Chicago:20260131T090000
DTEND;TZID=America/Chicago:20260131T103000
DTSTAMP:20260421T102426
CREATED:20260102T200835Z
LAST-MODIFIED:20260316T165146Z
UID:10004271-1769850000-1769855400@www.tedallas.org
SUMMARY:Torah Study: Our Chever Torah
DESCRIPTION:
URL:https://www.tedallas.org/event/chever-torah-2022-09-24-3-2-4/2026-01-31/
LOCATION:Temple Emanu-El Barbara Zale Center for Living History
CATEGORIES:Adult Learning,Prayer and Spirituality
ATTACH;FMTTYPE=image/jpeg:https://www.tedallas.org/wp-content/uploads/2024/03/chever-torah-web.jpg
END:VEVENT
BEGIN:VEVENT
DTSTART;TZID=America/Chicago:20260131T103000
DTEND;TZID=America/Chicago:20260131T120000
DTSTAMP:20260421T102426
CREATED:20260116T184201Z
LAST-MODIFIED:20260121T230511Z
UID:10004333-1769855400-1769860800@www.tedallas.org
SUMMARY:January 31\, 2026: Frank Zidell Bar Mitzvah
DESCRIPTION:
URL:https://www.tedallas.org/event/frank-zidell/
LOCATION:Temple Emanu-El Stern Chapel
CATEGORIES:Prayer and Spirituality
ATTACH;FMTTYPE=image/jpeg:https://www.tedallas.org/wp-content/uploads/2022/08/Stern-Chapel-feature-image.jpg
END:VEVENT
BEGIN:VEVENT
DTSTART;TZID=America/Chicago:20260131T103000
DTEND;TZID=America/Chicago:20260131T120000
DTSTAMP:20260421T102426
CREATED:20260116T185146Z
LAST-MODIFIED:20260202T191600Z
UID:10004335-1769855400-1769860800@www.tedallas.org
SUMMARY:January 31\, 2026: Shabbat Morning Service
DESCRIPTION:with Cantor Vicky Glikin and Rabbi Kimberly Herzog Cohen
URL:https://www.tedallas.org/event/january-31-2026-shabbat-morning-service/
LOCATION:Temple Emanu-El Lefkowitz Chapel
CATEGORIES:Livestream,Prayer and Spirituality
ATTACH;FMTTYPE=image/jpeg:https://www.tedallas.org/wp-content/uploads/2022/08/Lefkowitz-feature-image.jpg
END:VEVENT
BEGIN:VEVENT
DTSTART;TZID=America/Chicago:20260201T091500
DTEND;TZID=America/Chicago:20260201T110000
DTSTAMP:20260421T102426
CREATED:20250730T185009Z
LAST-MODIFIED:20250730T185009Z
UID:10004006-1769937300-1769943600@www.tedallas.org
SUMMARY:Sunday Morning Together Time
DESCRIPTION:Join Together Time to engage with your child ages 0-5\, enjoy a fun activity and get to know other Temple families. Following our time together\, you will have the opportunity to play in the toddler playscape (weather permitting).
URL:https://www.tedallas.org/event/sunday-together-time/2026-02-01/
LOCATION:Temple Emanu-El
CATEGORIES:Community,Early Childhood,Families
ATTACH;FMTTYPE=image/jpeg:https://www.tedallas.org/wp-content/uploads/2025/07/Sundytogethertime.jpg
ORGANIZER;CN="Erica Matsil":MAILTO:ematsil@tedallas.org
END:VEVENT
BEGIN:VEVENT
DTSTART;TZID=America/Chicago:20260201T130000
DTEND;TZID=America/Chicago:20260201T130000
DTSTAMP:20260421T102426
CREATED:20260102T195119Z
LAST-MODIFIED:20260129T164637Z
UID:10004253-1769950800-1769950800@www.tedallas.org
SUMMARY:Tu BiSh'vat Family Scavenger Hunt
DESCRIPTION:Due to the weather\, this event has been cancelled. If you have questions\, please contact Erica Matsil at ematsil@tedallas.org \nTeam up with your family and join your Temple friends in a fun and fast paced photo scavenger hunt in Temple’s outdoor prayer space adjacent to the Jill Stone Community Garden! Celebrate the birthday of the trees as you explore the beauty of nature around Temple’s campus.
URL:https://www.tedallas.org/event/tu-bishvat-family-scavenger-hunt/
LOCATION:Temple Emanu-El Nasher-Haemisegger Family Atrium
ATTACH;FMTTYPE=image/jpeg:https://www.tedallas.org/wp-content/uploads/2024/01/TuBishvat-web.jpg
ORGANIZER;CN="Erica Matsil":MAILTO:ematsil@tedallas.org
END:VEVENT
BEGIN:VEVENT
DTSTART;TZID=America/Chicago:20260203T150000
DTEND;TZID=America/Chicago:20260203T160000
DTSTAMP:20260421T102426
CREATED:20240624T175638Z
LAST-MODIFIED:20260112T192319Z
UID:10003383-1770130800-1770134400@www.tedallas.org
SUMMARY:Yoga Emanu-El
DESCRIPTION:Join instructor Debbi K. Levy for an hour of yoga and mindfulness surrounded by the beauty Temple’s prayer spaces.
URL:https://www.tedallas.org/event/yoga-emanu-el-3/2026-02-03/
CATEGORIES:Adult Learning
ATTACH;FMTTYPE=image/jpeg:https://www.tedallas.org/wp-content/uploads/2022/09/yoga-emanu-el-e1662676573556.jpg
ORGANIZER;CN="Tal Drori":MAILTO:tdrori@tedallas.org
END:VEVENT
BEGIN:VEVENT
DTSTART;TZID=America/Chicago:20260205T120000
DTEND;TZID=America/Chicago:20260205T133000
DTSTAMP:20260421T102426
CREATED:20260102T194758Z
LAST-MODIFIED:20260209T225131Z
UID:10004251-1770292800-1770298200@www.tedallas.org
SUMMARY:Dialogue\, Memory and the Presence of God
DESCRIPTION:What does it mean to feel God’s presence—not just in ancient texts\, but in conversation\, memory and everyday life? In this new class taught by Rabbi Seymour Rossel\, Temple member and Chever Torah teacher\, we’ll explore how dialogue opens us to the Divine\, how remembering connects us to sacred time\, and how the Bible’s idea of God’s presence still speaks today. Drawing from Jewish thought\, modern philosophy and timeless stories\, these sessions are for anyone who wonders where—and how—we can sense God in our lives.
URL:https://www.tedallas.org/event/dialogue-memory-and-the-presence-of-god/2026-02-05/
LOCATION:Temple Emanu-El Weiss Youth Wing
CATEGORIES:Adult Learning,Prayer and Spirituality
ATTACH;FMTTYPE=image/jpeg:https://www.tedallas.org/wp-content/uploads/2026/01/Lnch-and-Learn_webRSR.jpg
ORGANIZER;CN="Tracy Davis Levi":MAILTO:tlevi@tedallas.org
END:VEVENT
BEGIN:VEVENT
DTSTART;TZID=America/Chicago:20260206T094500
DTEND;TZID=America/Chicago:20260206T110000
DTSTAMP:20260421T102426
CREATED:20250730T190634Z
LAST-MODIFIED:20250730T190634Z
UID:10004013-1770371100-1770375600@www.tedallas.org
SUMMARY:Friday Morning Together Time
DESCRIPTION:Following ECEC Shabbat\, stay for Together Time\, a special gathering designed for children ages 3 and under and their caretakers. We’ll begin with Shabbat blessings\, enjoy a lively music session\, and share an interactive activity together. Come build community and celebrate Shabbat with us!
URL:https://www.tedallas.org/event/friday-together-time/2026-02-06/
LOCATION:Temple Emanu-El Nasher-Haemisegger Family Atrium
CATEGORIES:Community,Early Childhood,Families
ATTACH;FMTTYPE=image/jpeg:https://www.tedallas.org/wp-content/uploads/2025/07/FridayTogethertime.jpg
ORGANIZER;CN="Erica Matsil":MAILTO:ematsil@tedallas.org
END:VEVENT
BEGIN:VEVENT
DTSTART;TZID=America/Chicago:20260206T181500
DTEND;TZID=America/Chicago:20260206T193000
DTSTAMP:20260421T102426
CREATED:20260108T165907Z
LAST-MODIFIED:20260213T164152Z
UID:10004260-1770401700-1770406200@www.tedallas.org
SUMMARY:February 6\, 2026: Shabbat Evening Service with Rabbi Dalia Marx
DESCRIPTION:Temple will welcome Rabbi Dalia Marx of Jerusalem as the scholar-in-residence for a beit midrash\, an exciting house of study. Rabbi Marx will teach at three different times over Shabbat\, offering insights into her specialties of liturgy\, gender\, ritual and the Jewish calendar. \n“It Goes Both Ways: Responsibility and Reciprocity between Jewish Israelis and American Jews”\nRabbi Marx explores the Israeli-American relationship at this point in history\, and our shared obligation to the Jewish people.  \nThis Scholar in Residence weekend is made possible by the Candice & Robert Haas Visiting Scholars Endowment Fund.
URL:https://www.tedallas.org/event/shabbat-with-rabbi-dalia-marx/
LOCATION:Temple Emanu-El Stern Chapel
CATEGORIES:Adult Learning,Community,Livestream,Prayer and Spirituality
ATTACH;FMTTYPE=image/jpeg:https://www.tedallas.org/wp-content/uploads/2026/01/The-Beit-Midrash-of-Rabbi-Dalia-Marx.jpg
ORGANIZER;CN="Tracy Davis Levi":MAILTO:tlevi@tedallas.org
END:VEVENT
BEGIN:VEVENT
DTSTART;TZID=America/Chicago:20260206T193000
DTEND;TZID=America/Chicago:20260206T210000
DTSTAMP:20260421T102426
CREATED:20260108T174152Z
LAST-MODIFIED:20260120T192324Z
UID:10004263-1770406200-1770411600@www.tedallas.org
SUMMARY:ATiD Dinner with Rabbi Dalia Marx
DESCRIPTION:Temple will welcome Rabbi Dalia Marx of Jerusalem as the scholar-in-residence for a beit midrash\, an exciting house of study. Rabbi Marx will teach at three different times over Shabbat\, offering insights into her specialties of liturgy\, gender\, ritual and the Jewish calendar. \nFollowing the Shabbat evening service\, our ATiD 20s and 30s community is invited to a private dinner and conversation with Rabbi Marx. Register below.
URL:https://www.tedallas.org/event/atid-dinner-with-rabbi-marx/
LOCATION:Temple Emanu-El Linz Hall
CATEGORIES:ATiD 20s and 30s
ATTACH;FMTTYPE=image/jpeg:https://www.tedallas.org/wp-content/uploads/2026/01/The-Beit-Midrash-of-Rabbi-Dalia-Marx.jpg
ORGANIZER;CN="Tracy Davis Levi":MAILTO:tlevi@tedallas.org
END:VEVENT
BEGIN:VEVENT
DTSTART;TZID=America/Chicago:20260207T090000
DTEND;TZID=America/Chicago:20260207T103000
DTSTAMP:20260421T102426
CREATED:20260102T200835Z
LAST-MODIFIED:20260316T165146Z
UID:10004272-1770454800-1770460200@www.tedallas.org
SUMMARY:Torah Study: Our Chever Torah
DESCRIPTION:
URL:https://www.tedallas.org/event/chever-torah-2022-09-24-3-2-4/2026-02-07/
LOCATION:Temple Emanu-El Barbara Zale Center for Living History
CATEGORIES:Adult Learning,Prayer and Spirituality
ATTACH;FMTTYPE=image/jpeg:https://www.tedallas.org/wp-content/uploads/2024/03/chever-torah-web.jpg
END:VEVENT
BEGIN:VEVENT
DTSTART;TZID=America/Chicago:20260207T090000
DTEND;TZID=America/Chicago:20260207T103000
DTSTAMP:20260421T102426
CREATED:20260108T170157Z
LAST-MODIFIED:20260206T155435Z
UID:10004261-1770454800-1770460200@www.tedallas.org
SUMMARY:Shabbat Morning Teaching with Rabbi Dalia Marx
DESCRIPTION:Temple will welcome Rabbi Dalia Marx of Jerusalem as the scholar-in-residence for a beit midrash\, an exciting house of study. Rabbi Marx will teach at three different times over Shabbat\, offering insights into her specialties of liturgy\, gender\, ritual and the Jewish calendar. \n“L’hitpalel: Prayer is Dynamic”\nThis session focuses on the liturgy created since October 7\, 2023\, and how modern responses to crisis can imbue our traditional prayers with new meaning. Register below. \nPlease note\, this learning session will replace our typical Saturday morning Chever Torah. \nThis Scholar in Residence weekend is made possible by the Candice & Robert Haas Visiting Scholars Endowment Fund.
URL:https://www.tedallas.org/event/teaching-with-rabbi-dalia-marx/
LOCATION:Temple Emanu-El Weiss Youth Wing
CATEGORIES:Adult Learning,Prayer and Spirituality
ATTACH;FMTTYPE=image/jpeg:https://www.tedallas.org/wp-content/uploads/2026/01/The-Beit-Midrash-of-Rabbi-Dalia-Marx.jpg
ORGANIZER;CN="Tracy Davis Levi":MAILTO:tlevi@tedallas.org
END:VEVENT
BEGIN:VEVENT
DTSTART;TZID=America/Chicago:20260207T103000
DTEND;TZID=America/Chicago:20260207T120000
DTSTAMP:20260421T102426
CREATED:20260202T202250Z
LAST-MODIFIED:20260202T202250Z
UID:10004340-1770460200-1770465600@www.tedallas.org
SUMMARY:February 7\, 2026: Jonathan Pomper Bar Mitzvah
DESCRIPTION:
URL:https://www.tedallas.org/event/jonathan-pomper/
LOCATION:Temple Emanu-El Stern Chapel
CATEGORIES:Prayer and Spirituality
ATTACH;FMTTYPE=image/jpeg:https://www.tedallas.org/wp-content/uploads/2022/08/Stern-Chapel-feature-image.jpg
END:VEVENT
BEGIN:VEVENT
DTSTART;TZID=America/Chicago:20260207T103000
DTEND;TZID=America/Chicago:20260207T120000
DTSTAMP:20260421T102426
CREATED:20260202T202434Z
LAST-MODIFIED:20260213T164123Z
UID:10004341-1770460200-1770465600@www.tedallas.org
SUMMARY:February 7\, 2026: Shabbat Morning Service
DESCRIPTION:with Rabbi Kimberly Herzog Cohen and Randy Pearlman\, Cantorial Soloist
URL:https://www.tedallas.org/event/february-7-2026-shabbat-morning-service/
LOCATION:Temple Emanu-El Lefkowitz Chapel
CATEGORIES:Livestream,Prayer and Spirituality
ATTACH;FMTTYPE=image/jpeg:https://www.tedallas.org/wp-content/uploads/2022/08/Lefkowitz-feature-image.jpg
END:VEVENT
BEGIN:VEVENT
DTSTART;TZID=America/Chicago:20260207T120000
DTEND;TZID=America/Chicago:20260207T140000
DTSTAMP:20260421T102426
CREATED:20260108T170438Z
LAST-MODIFIED:20260206T155122Z
UID:10004262-1770465600-1770472800@www.tedallas.org
SUMMARY:Lunch and Learn with Rabbi Dalia Marx
DESCRIPTION:Temple will welcome Rabbi Dalia Marx of Jerusalem as the scholar-in-residence for a beit midrash\, an exciting house of study. Rabbi Marx will teach at three different times over Shabbat\, offering insights into her specialties of liturgy\, gender\, ritual and the Jewish calendar. \n“Women’s Religiosity in Antiquity (and Now): It’s Not What You Think”\nLearn how ancient rabbis showed interest in women’s religious experiences and desires to find holiness. Register below to attend. \nThis Scholar in Residence weekend is made possible by the Candice & Robert Haas Visiting Scholars Endowment Fund.
URL:https://www.tedallas.org/event/lunch-and-learn-with-rabbi-dalia-marx/
LOCATION:Temple Emanu-El Weiss Youth Wing
CATEGORIES:Adult Learning,Community,Prayer and Spirituality
ATTACH;FMTTYPE=image/jpeg:https://www.tedallas.org/wp-content/uploads/2026/01/The-Beit-Midrash-of-Rabbi-Dalia-Marx.jpg
ORGANIZER;CN="Tracy Davis Levi":MAILTO:tlevi@tedallas.org
END:VEVENT
BEGIN:VEVENT
DTSTART;TZID=America/Chicago:20260207T163000
DTEND;TZID=America/Chicago:20260207T180000
DTSTAMP:20260421T102426
CREATED:20260202T202542Z
LAST-MODIFIED:20260202T202542Z
UID:10004342-1770481800-1770487200@www.tedallas.org
SUMMARY:February 7\, 2026: Sidney Shanks & Katie Martel B'not Mitzvah
DESCRIPTION:
URL:https://www.tedallas.org/event/sidney-shanks-and-katie-martel/
LOCATION:Temple Emanu-El Stern Chapel
CATEGORIES:Prayer and Spirituality
ATTACH;FMTTYPE=image/jpeg:https://www.tedallas.org/wp-content/uploads/2022/08/Stern-Chapel-feature-image.jpg
END:VEVENT
BEGIN:VEVENT
DTSTART;TZID=America/Chicago:20260210T150000
DTEND;TZID=America/Chicago:20260210T160000
DTSTAMP:20260421T102426
CREATED:20240624T175638Z
LAST-MODIFIED:20260112T192319Z
UID:10003384-1770735600-1770739200@www.tedallas.org
SUMMARY:Yoga Emanu-El
DESCRIPTION:Join instructor Debbi K. Levy for an hour of yoga and mindfulness surrounded by the beauty Temple’s prayer spaces.
URL:https://www.tedallas.org/event/yoga-emanu-el-3/2026-02-10/
CATEGORIES:Adult Learning
ATTACH;FMTTYPE=image/jpeg:https://www.tedallas.org/wp-content/uploads/2022/09/yoga-emanu-el-e1662676573556.jpg
ORGANIZER;CN="Tal Drori":MAILTO:tdrori@tedallas.org
END:VEVENT
BEGIN:VEVENT
DTSTART;TZID=America/Chicago:20260210T190000
DTEND;TZID=America/Chicago:20260210T210000
DTSTAMP:20260421T102426
CREATED:20251203T165502Z
LAST-MODIFIED:20251203T224519Z
UID:10004227-1770750000-1770757200@www.tedallas.org
SUMMARY:Planting Seeds for Our Souls
DESCRIPTION:As spring arrives with the promise of growth and renewal\, join Rabbi Debra Robbins and Meredith Pryzant\, MSW\, for an interactive Jewish workshop on mental wellness. Together we’ll explore ways to plant seeds in our own lives that\, with care and nourishment\, will help us grow. We will study Jewish texts together and learn how patience can be a vital self-care tool as we navigate this season\, wherever we are in life. A light dinner and all materials will be provided as we learn\, discuss and reflect.
URL:https://www.tedallas.org/event/seeds-for-our-souls/
LOCATION:Temple Emanu-El Linz Hall
CATEGORIES:Adult Learning,Community
ATTACH;FMTTYPE=image/jpeg:https://www.tedallas.org/wp-content/uploads/2025/01/SpiritualWellBeing-event.jpg
ORGANIZER;CN="Meredith Pryzant":MAILTO:mpryzant@tedallas.org
END:VEVENT
BEGIN:VEVENT
DTSTART;TZID=America/Chicago:20260212T103000
DTEND;TZID=America/Chicago:20260212T120000
DTSTAMP:20260421T102426
CREATED:20260202T202646Z
LAST-MODIFIED:20260202T202646Z
UID:10004343-1770892200-1770897600@www.tedallas.org
SUMMARY:February 12\, 2026: Nelson Radunsky Bar Mitzvah
DESCRIPTION:
URL:https://www.tedallas.org/event/nelson-radunsky/
LOCATION:Temple Emanu-El Stern Chapel
CATEGORIES:Prayer and Spirituality
ATTACH;FMTTYPE=image/jpeg:https://www.tedallas.org/wp-content/uploads/2022/08/Stern-Chapel-feature-image.jpg
END:VEVENT
BEGIN:VEVENT
DTSTART;TZID=America/Chicago:20260212T120000
DTEND;TZID=America/Chicago:20260212T133000
DTSTAMP:20260421T102426
CREATED:20260102T194758Z
LAST-MODIFIED:20260209T225131Z
UID:10004252-1770897600-1770903000@www.tedallas.org
SUMMARY:Dialogue\, Memory and the Presence of God
DESCRIPTION:What does it mean to feel God’s presence—not just in ancient texts\, but in conversation\, memory and everyday life? In this new class taught by Rabbi Seymour Rossel\, Temple member and Chever Torah teacher\, we’ll explore how dialogue opens us to the Divine\, how remembering connects us to sacred time\, and how the Bible’s idea of God’s presence still speaks today. Drawing from Jewish thought\, modern philosophy and timeless stories\, these sessions are for anyone who wonders where—and how—we can sense God in our lives.
URL:https://www.tedallas.org/event/dialogue-memory-and-the-presence-of-god/2026-02-12/
LOCATION:Temple Emanu-El Weiss Youth Wing
CATEGORIES:Adult Learning,Prayer and Spirituality
ATTACH;FMTTYPE=image/jpeg:https://www.tedallas.org/wp-content/uploads/2026/01/Lnch-and-Learn_webRSR.jpg
ORGANIZER;CN="Tracy Davis Levi":MAILTO:tlevi@tedallas.org
END:VEVENT
BEGIN:VEVENT
DTSTART;TZID=America/Chicago:20260213T181500
DTEND;TZID=America/Chicago:20260213T193000
DTSTAMP:20260421T102426
CREATED:20260202T202908Z
LAST-MODIFIED:20260218T202703Z
UID:10004344-1771006500-1771011000@www.tedallas.org
SUMMARY:February 13\, 2026: Shabbat Evening Service
DESCRIPTION:with Rabbi David Stern\, Cantor Vicky Glikin and the Temple Emanu-El Choir | Sermon by Rabbi Debra Robbins
URL:https://www.tedallas.org/event/february-13-2026-shabbat-evening-service/
LOCATION:Temple Emanu-El Stern Chapel
CATEGORIES:Livestream,Prayer and Spirituality
ATTACH;FMTTYPE=image/jpeg:https://www.tedallas.org/wp-content/uploads/2022/08/Stern-Chapel-feature-image.jpg
END:VEVENT
BEGIN:VEVENT
DTSTART;TZID=America/Chicago:20260214T090000
DTEND;TZID=America/Chicago:20260214T103000
DTSTAMP:20260421T102426
CREATED:20260102T200835Z
LAST-MODIFIED:20260316T165146Z
UID:10004273-1771059600-1771065000@www.tedallas.org
SUMMARY:Torah Study: Our Chever Torah
DESCRIPTION:
URL:https://www.tedallas.org/event/chever-torah-2022-09-24-3-2-4/2026-02-14/
LOCATION:Temple Emanu-El Barbara Zale Center for Living History
CATEGORIES:Adult Learning,Prayer and Spirituality
ATTACH;FMTTYPE=image/jpeg:https://www.tedallas.org/wp-content/uploads/2024/03/chever-torah-web.jpg
END:VEVENT
BEGIN:VEVENT
DTSTART;TZID=America/Chicago:20260214T103000
DTEND;TZID=America/Chicago:20260214T120000
DTSTAMP:20260421T102426
CREATED:20260202T203028Z
LAST-MODIFIED:20260218T202641Z
UID:10004345-1771065000-1771070400@www.tedallas.org
SUMMARY:February 14\, 2026: Shabbat Morning Service
DESCRIPTION:with Rabbi David Stern and Cantor Hallie Weiner
URL:https://www.tedallas.org/event/february-14-2026-shabbat-morning-service/
LOCATION:Temple Emanu-El Lefkowitz Chapel
CATEGORIES:Livestream,Prayer and Spirituality
ATTACH;FMTTYPE=image/jpeg:https://www.tedallas.org/wp-content/uploads/2022/08/Lefkowitz-feature-image.jpg
END:VEVENT
BEGIN:VEVENT
DTSTART;TZID=America/Chicago:20260214T163000
DTEND;TZID=America/Chicago:20260214T180000
DTSTAMP:20260421T102426
CREATED:20260202T203757Z
LAST-MODIFIED:20260202T203757Z
UID:10004346-1771086600-1771092000@www.tedallas.org
SUMMARY:February 14\, 2026: Aiden Pinkus Bar Mitzvah
DESCRIPTION:
URL:https://www.tedallas.org/event/aiden-pinkus/
LOCATION:Temple Emanu-El Stern Chapel
CATEGORIES:Prayer and Spirituality
ATTACH;FMTTYPE=image/jpeg:https://www.tedallas.org/wp-content/uploads/2022/08/Stern-Chapel-feature-image.jpg
END:VEVENT
BEGIN:VEVENT
DTSTART;TZID=America/Chicago:20260217T150000
DTEND;TZID=America/Chicago:20260217T160000
DTSTAMP:20260421T102426
CREATED:20240624T175638Z
LAST-MODIFIED:20260112T192319Z
UID:10003385-1771340400-1771344000@www.tedallas.org
SUMMARY:Yoga Emanu-El
DESCRIPTION:Join instructor Debbi K. Levy for an hour of yoga and mindfulness surrounded by the beauty Temple’s prayer spaces.
URL:https://www.tedallas.org/event/yoga-emanu-el-3/2026-02-17/
CATEGORIES:Adult Learning
ATTACH;FMTTYPE=image/jpeg:https://www.tedallas.org/wp-content/uploads/2022/09/yoga-emanu-el-e1662676573556.jpg
ORGANIZER;CN="Tal Drori":MAILTO:tdrori@tedallas.org
END:VEVENT
END:VCALENDAR