BEGIN:VCALENDAR
VERSION:2.0
PRODID:-//Temple Emanu-El - ECPv6.15.20//NONSGML v1.0//EN
CALSCALE:GREGORIAN
METHOD:PUBLISH
X-WR-CALNAME:Temple Emanu-El
X-ORIGINAL-URL:https://www.tedallas.org
X-WR-CALDESC:Events for Temple Emanu-El
REFRESH-INTERVAL;VALUE=DURATION:PT1H
X-Robots-Tag:noindex
X-PUBLISHED-TTL:PT1H
BEGIN:VTIMEZONE
TZID:America/Chicago
BEGIN:DAYLIGHT
TZOFFSETFROM:-0600
TZOFFSETTO:-0500
TZNAME:CDT
DTSTART:20220313T080000
END:DAYLIGHT
BEGIN:STANDARD
TZOFFSETFROM:-0500
TZOFFSETTO:-0600
TZNAME:CST
DTSTART:20221106T070000
END:STANDARD
BEGIN:DAYLIGHT
TZOFFSETFROM:-0600
TZOFFSETTO:-0500
TZNAME:CDT
DTSTART:20230312T080000
END:DAYLIGHT
BEGIN:STANDARD
TZOFFSETFROM:-0500
TZOFFSETTO:-0600
TZNAME:CST
DTSTART:20231105T070000
END:STANDARD
BEGIN:DAYLIGHT
TZOFFSETFROM:-0600
TZOFFSETTO:-0500
TZNAME:CDT
DTSTART:20240310T080000
END:DAYLIGHT
BEGIN:STANDARD
TZOFFSETFROM:-0500
TZOFFSETTO:-0600
TZNAME:CST
DTSTART:20241103T070000
END:STANDARD
END:VTIMEZONE
BEGIN:VEVENT
DTSTART;TZID=America/Chicago:20231111T173000
DTEND;TZID=America/Chicago:20231111T193000
DTSTAMP:20260425T093354
CREATED:20231102T141335Z
LAST-MODIFIED:20231102T141335Z
UID:10002983-1699723800-1699731000@www.tedallas.org
SUMMARY:Bowling with 5th\, 6th and 7th Grade
DESCRIPTION:Join Temple’s 5th\, 6th and 7th graders for a night of fun\, food and games at Main Event! Spend one last night with YL+E friends before Thanksgiving break and come to enjoy community and connection.
URL:https://www.tedallas.org/event/bowling-with-5th-6th-and-7th-grade/
LOCATION:Main Event Plano\, 3941 Central Expy
CATEGORIES:Youth Learning + Engagement
ATTACH;FMTTYPE=image/jpeg:https://www.tedallas.org/wp-content/uploads/2023/03/YLE-Logo-scaled.jpg
ORGANIZER;CN="Megan Sims":MAILTO:msims@tedallas.org
END:VEVENT
BEGIN:VEVENT
DTSTART;TZID=America/Chicago:20231112T100000
DTEND;TZID=America/Chicago:20231112T140000
DTSTAMP:20260425T093354
CREATED:20230817T175806Z
LAST-MODIFIED:20231109T205335Z
UID:10002802-1699783200-1699797600@www.tedallas.org
SUMMARY:2023 Party Expo
DESCRIPTION:Presented by the Temple Emanu-El Brotherhood\, the Party Expo brings together event vendors from all over the Dallas-Fort Worth area for ideas in planning for weddings\, b’nai mitzvahs\, anniversaries and more! From party staples like venues\, DJs and caterers to the smaller touches like florists\, designers and specialty entertainers\, prepare to meet the vendors who will make your events memorable. \nFor Vendors: Are you or someone you know interested in being a vendor at the Party Expo? There are still booths available! Visit tedallasbrotherhood.org to reserve your spot today. \nRegister for the event here
URL:https://www.tedallas.org/event/2023-party-expo/
LOCATION:Temple Emanu-El Tobian Auditorium
CATEGORIES:Community
ATTACH;FMTTYPE=image/jpeg:https://www.tedallas.org/wp-content/uploads/2023/08/party-expo-Website-Event-image.jpg
ORGANIZER;CN="Katie London":MAILTO:klondon@tedallas.org
END:VEVENT
BEGIN:VEVENT
DTSTART;TZID=America/Chicago:20231112T123000
DTEND;TZID=America/Chicago:20231112T140000
DTSTAMP:20260425T093354
CREATED:20231019T221516Z
LAST-MODIFIED:20231019T221516Z
UID:10002981-1699792200-1699797600@www.tedallas.org
SUMMARY:A Very YL+E Thanksgiving
DESCRIPTION:Come join YL+E Kindergarten-4th Grade students for moment of giving thanks and giving back before we leave for Thanksgiving Break. We will enjoy lunch together and take some time to talk about the importance of gratitude\, then we will work together on a project to give back to the community. This is a program designed for students to attend themselves after Sunday programming. Parents can pick students up at 2 p.m. in the Weiss Youth Wing.
URL:https://www.tedallas.org/event/a-very-yle-thanksgiving/
LOCATION:Temple Emanu-El Weiss Youth Wing
CATEGORIES:Youth Learning + Engagement
ATTACH;FMTTYPE=image/jpeg:https://www.tedallas.org/wp-content/uploads/2023/03/YLE-Logo-scaled.jpg
ORGANIZER;CN="Megan Sims":MAILTO:msims@tedallas.org
END:VEVENT
BEGIN:VEVENT
DTSTART;TZID=America/Chicago:20231114T190000
DTEND;TZID=America/Chicago:20231114T190000
DTSTAMP:20260425T093354
CREATED:20231009T175321Z
LAST-MODIFIED:20231010T170107Z
UID:10002965-1699988400-1699988400@www.tedallas.org
SUMMARY:Jewish and You: Classes for the Curious: The Siddur
DESCRIPTION:Dive into the Jewish prayer book\, learning about its history and structure.
URL:https://www.tedallas.org/event/jewish-and-you-classes-for-the-curious-the-siddur/
LOCATION:Temple Emanu-El Linz Hall
CATEGORIES:Adult Learning
ATTACH;FMTTYPE=image/jpeg:https://www.tedallas.org/wp-content/uploads/2023/10/Jewish-and-You-Classes-for-the-Curious-scaled.jpg
ORGANIZER;CN="Anjelica Ruiz":MAILTO:aruiz@tedallas.org
END:VEVENT
BEGIN:VEVENT
DTSTART;TZID=America/Chicago:20231115T193000
DTEND;TZID=America/Chicago:20231115T193000
DTSTAMP:20260425T093354
CREATED:20230608T164503Z
LAST-MODIFIED:20230608T164543Z
UID:10002718-1700076600-1700076600@www.tedallas.org
SUMMARY:Goin' to the Chuppah Fall 2023
DESCRIPTION:All classes are from 7:30-8:45 p.m. and locations for specific dates will be confirmed at a later date (in-person at Temple/Zoom/congregant home). Goin’ to the Chuppah is open to any couple who plans to create a Jewish home. Jewish\, interfaith\, LGBTQ – all are welcome! Goin’ to the Chuppah is a registered TwoTogether in Texas provider which means that couples being married in Texas are eligible for a substantial discount on their marriage license for completing the class. We strongly encourage couples to attend at least 3 of the 4 sessions so that you can form relationships with the other participants. If you need to attend a weekday class via Zoom\, it will be made available.
URL:https://www.tedallas.org/event/goin-to-the-chuppah-fall-2023/2023-11-15/
CATEGORIES:Adult Learning,Community
ATTACH;FMTTYPE=image/jpeg:https://www.tedallas.org/wp-content/uploads/2023/01/ChuppahPicture-scaled.jpg
END:VEVENT
BEGIN:VEVENT
DTSTART;TZID=America/Chicago:20231117T181500
DTEND;TZID=America/Chicago:20231117T193000
DTSTAMP:20260425T093354
CREATED:20231106T215743Z
LAST-MODIFIED:20231116T162420Z
UID:10002986-1700244900-1700249400@www.tedallas.org
SUMMARY:November 17: Choir 70th Anniversary Shabbat
DESCRIPTION:It’s a special milestone for the Temple Emanu-El Choir as we mark the occasion of its 70th anniversary at the Shabbat evening service. Since 1953\, the Temple Emanu-El choir\, currently directed by Chris Crook\, has inspired us during Shabbat and holiday services\, as well as national conferences and concerts. Join this Union Prayer Book service to learn more about the choir’s history\, experience the magic of choral sound and express your appreciation for 70 years of beautiful music created by our dedicated volunteers. \nSupplemental materials can be found here
URL:https://www.tedallas.org/event/november-17-choir-70th-anniversary-shabbat/
LOCATION:Temple Emanu-El Olan Sancutary
CATEGORIES:Livestream,Music, Arts, and Culture,Prayer and Spirituality
ATTACH;FMTTYPE=image/jpeg:https://www.tedallas.org/wp-content/uploads/2023/08/Olan-Web-scaled.jpg
END:VEVENT
BEGIN:VEVENT
DTSTART;TZID=America/Chicago:20231118T090000
DTEND;TZID=America/Chicago:20231118T103000
DTSTAMP:20260425T093354
CREATED:20220819T190617Z
LAST-MODIFIED:20231214T152620Z
UID:10001127-1700298000-1700303400@www.tedallas.org
SUMMARY:Chever Torah
DESCRIPTION:
URL:https://www.tedallas.org/event/chever-torah-2022-09-24/2023-11-18/
LOCATION:Temple Emanu-El Ackerman Conference Room
CATEGORIES:Adult Learning,Prayer and Spirituality
ATTACH;FMTTYPE=image/jpeg:https://www.tedallas.org/wp-content/uploads/2022/07/Temple-logo-event-image-1.jpg
END:VEVENT
BEGIN:VEVENT
DTSTART;TZID=America/Chicago:20231118T103000
DTEND;TZID=America/Chicago:20231118T120000
DTSTAMP:20260425T093354
CREATED:20230817T162101Z
LAST-MODIFIED:20230817T162101Z
UID:10002792-1700303400-1700308800@www.tedallas.org
SUMMARY:November 18: Andrew Ostroff Bar Mitzvah
DESCRIPTION:
URL:https://www.tedallas.org/event/andrew-ostroff/
LOCATION:Temple Emanu-El Stern Chapel
CATEGORIES:Prayer and Spirituality
ATTACH;FMTTYPE=image/jpeg:https://www.tedallas.org/wp-content/uploads/2022/08/Stern-Chapel-feature-image.jpg
END:VEVENT
BEGIN:VEVENT
DTSTART;TZID=America/Chicago:20231118T103000
DTEND;TZID=America/Chicago:20231118T120000
DTSTAMP:20260425T093354
CREATED:20231106T220020Z
LAST-MODIFIED:20231116T162459Z
UID:10002987-1700303400-1700308800@www.tedallas.org
SUMMARY:November 18: Shabbat Morning Service
DESCRIPTION:with Cantor Vicky Glikin and Rabbi Michael Lewis \nSupplemental materials can be found here
URL:https://www.tedallas.org/event/november-18-shabbat-morning-service/
LOCATION:Temple Emanu-El Lefkowitz Chapel
CATEGORIES:Livestream,Prayer and Spirituality
ATTACH;FMTTYPE=image/jpeg:https://www.tedallas.org/wp-content/uploads/2022/08/Lefkowitz-feature-image.jpg
END:VEVENT
BEGIN:VEVENT
DTSTART;TZID=America/Chicago:20231118T163000
DTEND;TZID=America/Chicago:20231118T180000
DTSTAMP:20260425T093354
CREATED:20230817T162229Z
LAST-MODIFIED:20230817T162242Z
UID:10002793-1700325000-1700330400@www.tedallas.org
SUMMARY:November 18: Hailey Assa Bat Mitzvah
DESCRIPTION:
URL:https://www.tedallas.org/event/hailey-assa/
LOCATION:Temple Emanu-El Olan Sancutary
CATEGORIES:Prayer and Spirituality
ATTACH;FMTTYPE=image/jpeg:https://www.tedallas.org/wp-content/uploads/2023/08/Olan-Web-scaled.jpg
END:VEVENT
BEGIN:VEVENT
DTSTART;TZID=America/Chicago:20231119T100000
DTEND;TZID=America/Chicago:20231119T120000
DTSTAMP:20260425T093354
CREATED:20230928T153502Z
LAST-MODIFIED:20231113T152831Z
UID:10002823-1700388000-1700395200@www.tedallas.org
SUMMARY:Family Meet-Ups: Frisco
DESCRIPTION:Come join your Temple family neighbors in Frisco for popsicles in the park! Address given upon registration.
URL:https://www.tedallas.org/event/neighborhood-meetup-frisco/
CATEGORIES:Community,Community Events,Families
ATTACH;FMTTYPE=image/jpeg:https://www.tedallas.org/wp-content/uploads/2023/09/Family-Meet-ups-General-Website-scaled.jpg
END:VEVENT
BEGIN:VEVENT
DTSTART;TZID=America/Chicago:20231121T190000
DTEND;TZID=America/Chicago:20231121T190000
DTSTAMP:20260425T093354
CREATED:20231009T175518Z
LAST-MODIFIED:20231010T170218Z
UID:10002966-1700593200-1700593200@www.tedallas.org
SUMMARY:Jewish and You: Classes for the Curious: What does it mean to be Jewish?
DESCRIPTION:Conclude this section on the Jewish library with an exploration on how we live and breath learning and study today.
URL:https://www.tedallas.org/event/jewish-and-you-classes-for-the-curious-what-does-it-mean-to-be-jewish/
LOCATION:Temple Emanu-El Linz Hall
CATEGORIES:Adult Learning
ATTACH;FMTTYPE=image/jpeg:https://www.tedallas.org/wp-content/uploads/2023/10/Jewish-and-You-Classes-for-the-Curious-scaled.jpg
ORGANIZER;CN="Anjelica Ruiz":MAILTO:aruiz@tedallas.org
END:VEVENT
BEGIN:VEVENT
DTSTART;TZID=America/Chicago:20231124T181500
DTEND;TZID=America/Chicago:20231124T193000
DTSTAMP:20260425T093354
CREATED:20231106T220336Z
LAST-MODIFIED:20231106T220336Z
UID:10002988-1700849700-1700854200@www.tedallas.org
SUMMARY:November 24: Shabbat Evening Service
DESCRIPTION:with Rabbi Kimberly Herzog Cohen and Cantor Leslie Niren | Sermon by Rabbi Michael Lewis
URL:https://www.tedallas.org/event/november-24-shabbat-evening-service/
LOCATION:Temple Emanu-El Stern Chapel
CATEGORIES:Livestream,Prayer and Spirituality
ATTACH;FMTTYPE=image/jpeg:https://www.tedallas.org/wp-content/uploads/2022/08/Stern-Chapel-feature-image.jpg
END:VEVENT
BEGIN:VEVENT
DTSTART;TZID=America/Chicago:20231125T090000
DTEND;TZID=America/Chicago:20231125T103000
DTSTAMP:20260425T093354
CREATED:20220819T190617Z
LAST-MODIFIED:20231214T152620Z
UID:10001128-1700902800-1700908200@www.tedallas.org
SUMMARY:Chever Torah
DESCRIPTION:
URL:https://www.tedallas.org/event/chever-torah-2022-09-24/2023-11-25/
LOCATION:Temple Emanu-El Ackerman Conference Room
CATEGORIES:Adult Learning,Prayer and Spirituality
ATTACH;FMTTYPE=image/jpeg:https://www.tedallas.org/wp-content/uploads/2022/07/Temple-logo-event-image-1.jpg
END:VEVENT
BEGIN:VEVENT
DTSTART;TZID=America/Chicago:20231125T103000
DTEND;TZID=America/Chicago:20231125T120000
DTSTAMP:20260425T093354
CREATED:20231106T220613Z
LAST-MODIFIED:20231116T162537Z
UID:10002989-1700908200-1700913600@www.tedallas.org
SUMMARY:November 25: Shabbat Morning Service
DESCRIPTION:with Rabbi David Stern and Cantor Leslie Niren \nSupplemental materials can be found here
URL:https://www.tedallas.org/event/november-25-shabbat-morning-service/
LOCATION:Temple Emanu-El Lefkowitz Chapel
CATEGORIES:Livestream,Prayer and Spirituality
ATTACH;FMTTYPE=image/jpeg:https://www.tedallas.org/wp-content/uploads/2022/08/Lefkowitz-feature-image.jpg
END:VEVENT
BEGIN:VEVENT
DTSTART;TZID=America/Chicago:20231128T093000
DTEND;TZID=America/Chicago:20231128T110000
DTSTAMP:20260425T093354
CREATED:20230713T170358Z
LAST-MODIFIED:20230718T220724Z
UID:10002747-1701163800-1701169200@www.tedallas.org
SUMMARY:ECEC Visiting Days
DESCRIPTION:Come see how Temple Emanu-El ECEC’s child-centered community embraces the collaborative pedagogy approaches of Reggio Emilia and the International Baccalaureate to facilitate authentic exploration opportunities with the experiential world. Enjoy refreshments\, an in-depth presentation and tour of the ECEC building. Sign up to visit.
URL:https://www.tedallas.org/event/ecec-visiting-days-2/2023-11-28/
LOCATION:Temple Emanu-El
CATEGORIES:Early Childhood,Families,Learning
ATTACH;FMTTYPE=image/jpeg:https://www.tedallas.org/wp-content/uploads/2023/07/194A9515-scaled.jpg
ORGANIZER;CN="Leigh Wainer":MAILTO:lwainer@tedallas.org
END:VEVENT
BEGIN:VEVENT
DTSTART;TZID=America/Chicago:20231128T150000
DTEND;TZID=America/Chicago:20231128T160000
DTSTAMP:20260425T093354
CREATED:20230929T190552Z
LAST-MODIFIED:20230929T190553Z
UID:10002880-1701183600-1701187200@www.tedallas.org
SUMMARY:Yoga Emanu-El
DESCRIPTION:Join instructor Debbi K. Levy for an hour long yoga and meditation session with a Jewish lens. No registration required.
URL:https://www.tedallas.org/event/yoga-emanu-el-2/2023-11-28/
LOCATION:Temple Emanu-El
CATEGORIES:Adult Learning,Community
ATTACH;FMTTYPE=image/jpeg:https://www.tedallas.org/wp-content/uploads/2022/09/yoga-emanu-el-e1662676573556.jpg
END:VEVENT
BEGIN:VEVENT
DTSTART;TZID=America/Chicago:20231201T094500
DTEND;TZID=America/Chicago:20231201T094500
DTSTAMP:20260425T093354
CREATED:20231115T215605Z
LAST-MODIFIED:20231117T194308Z
UID:10002998-1701423900-1701423900@www.tedallas.org
SUMMARY:Israel at War: Follow Up Conversation for ECEC Parents
DESCRIPTION:Parents of ECEC and YL+E students are invited to join Rabbi Amy Rossel and Aya Margalit\, as well as Meagan Friedman and Andrew Paull\, respectively\, to reflect\, share thoughts and ask questions about how you and your children continue to understand and process the war in Israel. \nECEC \n\nDecember 1 @ 9:45 (after Shabbat) – 11 a.m.\nTemple Emanu-El Linz Hall\nIn-Person\nContact: Jennifer Richman | jrichman@tedallas.org\n\nYL+E \n\nDecember 3 @ 9:15 – 10:30 a.m.\nTemple Emanu-El Ackerman Conference Room\nIn-Person\nContact: Karin Lester | klester@tedallas.org
URL:https://www.tedallas.org/event/israel-at-war-follow-up-conversation-for-ecec-parents/
LOCATION:Temple Emanu-El Linz Hall
CATEGORIES:Early Childhood,Israel,Learning
ATTACH;FMTTYPE=image/jpeg:https://www.tedallas.org/wp-content/uploads/2023/03/Israeli-Flag-scaled.jpg
END:VEVENT
BEGIN:VEVENT
DTSTART;TZID=America/Chicago:20231201T181500
DTEND;TZID=America/Chicago:20231201T193000
DTSTAMP:20260425T093354
CREATED:20231106T220917Z
LAST-MODIFIED:20231106T220917Z
UID:10002990-1701454500-1701459000@www.tedallas.org
SUMMARY:December 1: Shabbat Evening Service
DESCRIPTION:with Rabbi David Stern and Cantor Vicky Glikin | Sermon by Rabbi Debra Robbins
URL:https://www.tedallas.org/event/december-1-shabbat-evening-service/
LOCATION:Temple Emanu-El Stern Chapel
CATEGORIES:Livestream,Prayer and Spirituality
ATTACH;FMTTYPE=image/jpeg:https://www.tedallas.org/wp-content/uploads/2022/08/Stern-Chapel-feature-image.jpg
END:VEVENT
BEGIN:VEVENT
DTSTART;TZID=America/Chicago:20231202T090000
DTEND;TZID=America/Chicago:20231202T103000
DTSTAMP:20260425T093354
CREATED:20220819T190617Z
LAST-MODIFIED:20231214T152620Z
UID:10001129-1701507600-1701513000@www.tedallas.org
SUMMARY:Chever Torah
DESCRIPTION:
URL:https://www.tedallas.org/event/chever-torah-2022-09-24/2023-12-02/
LOCATION:Temple Emanu-El Ackerman Conference Room
CATEGORIES:Adult Learning,Prayer and Spirituality
ATTACH;FMTTYPE=image/jpeg:https://www.tedallas.org/wp-content/uploads/2022/07/Temple-logo-event-image-1.jpg
END:VEVENT
BEGIN:VEVENT
DTSTART;TZID=America/Chicago:20231202T103000
DTEND;TZID=America/Chicago:20231202T120000
DTSTAMP:20260425T093354
CREATED:20230817T162504Z
LAST-MODIFIED:20230817T162518Z
UID:10002794-1701513000-1701518400@www.tedallas.org
SUMMARY:December 2: Ted Levy Bar Mitzvah
DESCRIPTION:
URL:https://www.tedallas.org/event/ted-levy/
LOCATION:Temple Emanu-El Stern Chapel
ATTACH;FMTTYPE=image/jpeg:https://www.tedallas.org/wp-content/uploads/2022/08/Stern-Chapel-feature-image.jpg
END:VEVENT
BEGIN:VEVENT
DTSTART;TZID=America/Chicago:20231202T103000
DTEND;TZID=America/Chicago:20231202T120000
DTSTAMP:20260425T093354
CREATED:20231106T221204Z
LAST-MODIFIED:20231130T221529Z
UID:10002991-1701513000-1701518400@www.tedallas.org
SUMMARY:December 2: Shabbat Morning Service
DESCRIPTION:with Rabbi Kimberly Herzog Cohen and Hallie Weiner\, Cantorial Intern \nSupplemental materials for Shabbat morning
URL:https://www.tedallas.org/event/december-2-shabbat-morning-service/
LOCATION:Temple Emanu-El Lefkowitz Chapel
CATEGORIES:Livestream,Prayer and Spirituality
ATTACH;FMTTYPE=image/jpeg:https://www.tedallas.org/wp-content/uploads/2022/08/Lefkowitz-feature-image.jpg
END:VEVENT
BEGIN:VEVENT
DTSTART;TZID=America/Chicago:20231202T163000
DTEND;TZID=America/Chicago:20231202T180000
DTSTAMP:20260425T093354
CREATED:20230817T162954Z
LAST-MODIFIED:20230817T163007Z
UID:10002795-1701534600-1701540000@www.tedallas.org
SUMMARY:December 2: Jacob Bassman Bar Mitzvah
DESCRIPTION:
URL:https://www.tedallas.org/event/jacob-bassman/
LOCATION:Temple Emanu-El Stern Chapel
CATEGORIES:Prayer and Spirituality
ATTACH;FMTTYPE=image/jpeg:https://www.tedallas.org/wp-content/uploads/2022/08/Stern-Chapel-feature-image.jpg
END:VEVENT
BEGIN:VEVENT
DTSTART;TZID=America/Chicago:20231202T173000
DTEND;TZID=America/Chicago:20231202T193000
DTSTAMP:20260425T093354
CREATED:20231114T194002Z
LAST-MODIFIED:20231114T194002Z
UID:10002995-1701538200-1701545400@www.tedallas.org
SUMMARY:Top Golf with Teen Emanu-El
DESCRIPTION:All 7th-12th graders in our community are invited to join Teen Emanu-El for a fun evening of dinner\, friends and golf! Address given upon registration.
URL:https://www.tedallas.org/event/top-golf-with-teen-emanu-el/
CATEGORIES:Youth Learning + Engagement
ATTACH;FMTTYPE=image/jpeg:https://www.tedallas.org/wp-content/uploads/2022/11/Teen-Emanuel-Website-Event-scaled.jpg
ORGANIZER;CN="Megan Sims":MAILTO:msims@tedallas.org
END:VEVENT
BEGIN:VEVENT
DTSTART;TZID=America/Chicago:20231203T091500
DTEND;TZID=America/Chicago:20231203T103000
DTSTAMP:20260425T093354
CREATED:20231113T153959Z
LAST-MODIFIED:20231117T194231Z
UID:10002994-1701594900-1701599400@www.tedallas.org
SUMMARY:Israel at War: Follow Up Conversation for YL+E Parents
DESCRIPTION:Parents of ECEC and YL+E students are invited to join Rabbi Amy Rossel and Aya Margalit\, as well as Meagan Friedman and Andrew Paull\, respectively\, to reflect\, share thoughts and ask questions about how you and your children continue to understand and process the war in Israel. \nECEC \n\nDecember 1 @ 9:45 (after Shabbat) – 11 a.m.\nTemple Emanu-El Linz Hall\nIn-Person\nContact: Jennifer Richman | jrichman@tedallas.org\n\nYL+E \n\nDecember 3 @ 9:15 – 10:30 a.m.\nTemple Emanu-El Ackerman Conference Room\nIn-Person\nContact: Karin Lester | klester@tedallas.org\n\n 
URL:https://www.tedallas.org/event/israel-at-war-follow-up-conversation-for-parents/
LOCATION:Temple Emanu-El Ackerman Conference Room
CATEGORIES:Israel,Learning,Youth Learning + Engagement
ATTACH;FMTTYPE=image/jpeg:https://www.tedallas.org/wp-content/uploads/2023/03/Israeli-Flag-scaled.jpg
END:VEVENT
BEGIN:VEVENT
DTSTART;TZID=America/Chicago:20231205T150000
DTEND;TZID=America/Chicago:20231205T160000
DTSTAMP:20260425T093354
CREATED:20230929T190552Z
LAST-MODIFIED:20230929T190553Z
UID:10002881-1701788400-1701792000@www.tedallas.org
SUMMARY:Yoga Emanu-El
DESCRIPTION:Join instructor Debbi K. Levy for an hour long yoga and meditation session with a Jewish lens. No registration required.
URL:https://www.tedallas.org/event/yoga-emanu-el-2/2023-12-05/
LOCATION:Temple Emanu-El
CATEGORIES:Adult Learning,Community
ATTACH;FMTTYPE=image/jpeg:https://www.tedallas.org/wp-content/uploads/2022/09/yoga-emanu-el-e1662676573556.jpg
END:VEVENT
BEGIN:VEVENT
DTSTART;TZID=America/Chicago:20231208T180000
DTEND;TZID=America/Chicago:20231208T193000
DTSTAMP:20260425T093354
CREATED:20231107T224445Z
LAST-MODIFIED:20231207T180616Z
UID:10002992-1702058400-1702063800@www.tedallas.org
SUMMARY:Hanukkah All-In Shabbat
DESCRIPTION:Experience the warmth of community as we come together to celebrate the second night of Hanukkah. Enjoy a festive service for all ages with Rabbi David Stern\, Cantor Vicky Glikin and the Kol Shir youth choir. Bring your hanukkiyah and candles to light as a congregation followed by a Hanukah dinner complete with latkes and activities for kids. \nSign up to help volunteer here \nSupplemental materials can be found here
URL:https://www.tedallas.org/event/hanukkah-all-in-shabbat-2/
LOCATION:Temple Emanu-El Olan Sancutary
CATEGORIES:Community,Families,Jewish Holidays,Livestream,Prayer and Spirituality
ATTACH;FMTTYPE=image/jpeg:https://www.tedallas.org/wp-content/uploads/2023/11/Hanukkiyah-Web-scaled.jpg
ORGANIZER;CN="Tal Drori":MAILTO:tdrori@tedallas.org
END:VEVENT
BEGIN:VEVENT
DTSTART;TZID=America/Chicago:20231209T090000
DTEND;TZID=America/Chicago:20231209T103000
DTSTAMP:20260425T093354
CREATED:20220819T190617Z
LAST-MODIFIED:20231214T152620Z
UID:10001130-1702112400-1702117800@www.tedallas.org
SUMMARY:Chever Torah
DESCRIPTION:
URL:https://www.tedallas.org/event/chever-torah-2022-09-24/2023-12-09/
LOCATION:Temple Emanu-El Ackerman Conference Room
CATEGORIES:Adult Learning,Prayer and Spirituality
ATTACH;FMTTYPE=image/jpeg:https://www.tedallas.org/wp-content/uploads/2022/07/Temple-logo-event-image-1.jpg
END:VEVENT
BEGIN:VEVENT
DTSTART;TZID=America/Chicago:20231209T100000
DTEND;TZID=America/Chicago:20231209T120000
DTSTAMP:20260425T093354
CREATED:20231019T220031Z
LAST-MODIFIED:20231019T220031Z
UID:10002980-1702116000-1702123200@www.tedallas.org
SUMMARY:Hanukkah in the Hood: East Dallas
DESCRIPTION:This Family Meet-Up will give our families an opportunity to celebrate the joy of Hanukkah together! Enjoy a home-hosted Hanukkah-themed brunch complete with a family scavenger hunt and dreidel spinning. If you live in East Dallas\, or even if you don’t\, we hope to see you there!
URL:https://www.tedallas.org/event/hanukkah-in-the-hood-east-dallas/
LOCATION:East Dallas
CATEGORIES:Families,Jewish Holidays,Youth Learning + Engagement
ATTACH;FMTTYPE=image/jpeg:https://www.tedallas.org/wp-content/uploads/2023/09/Family-Meet-ups-General-Website-scaled.jpg
END:VEVENT
BEGIN:VEVENT
DTSTART;TZID=America/Chicago:20231209T103000
DTEND;TZID=America/Chicago:20231209T120000
DTSTAMP:20260425T093354
CREATED:20230817T163253Z
LAST-MODIFIED:20230817T163253Z
UID:10002796-1702117800-1702123200@www.tedallas.org
SUMMARY:December 9: Kate Blum Bat Mitzvah
DESCRIPTION:
URL:https://www.tedallas.org/event/kate-blum/
LOCATION:Temple Emanu-El Stern Chapel
CATEGORIES:Prayer and Spirituality
ATTACH;FMTTYPE=image/jpeg:https://www.tedallas.org/wp-content/uploads/2022/08/Stern-Chapel-feature-image.jpg
END:VEVENT
END:VCALENDAR