BEGIN:VCALENDAR
VERSION:2.0
PRODID:-//Temple Emanu-El - ECPv6.15.20//NONSGML v1.0//EN
CALSCALE:GREGORIAN
METHOD:PUBLISH
X-WR-CALNAME:Temple Emanu-El
X-ORIGINAL-URL:https://www.tedallas.org
X-WR-CALDESC:Events for Temple Emanu-El
REFRESH-INTERVAL;VALUE=DURATION:PT1H
X-Robots-Tag:noindex
X-PUBLISHED-TTL:PT1H
BEGIN:VTIMEZONE
TZID:America/Chicago
BEGIN:DAYLIGHT
TZOFFSETFROM:-0600
TZOFFSETTO:-0500
TZNAME:CDT
DTSTART:20220313T080000
END:DAYLIGHT
BEGIN:STANDARD
TZOFFSETFROM:-0500
TZOFFSETTO:-0600
TZNAME:CST
DTSTART:20221106T070000
END:STANDARD
BEGIN:DAYLIGHT
TZOFFSETFROM:-0600
TZOFFSETTO:-0500
TZNAME:CDT
DTSTART:20230312T080000
END:DAYLIGHT
BEGIN:STANDARD
TZOFFSETFROM:-0500
TZOFFSETTO:-0600
TZNAME:CST
DTSTART:20231105T070000
END:STANDARD
BEGIN:DAYLIGHT
TZOFFSETFROM:-0600
TZOFFSETTO:-0500
TZNAME:CDT
DTSTART:20240310T080000
END:DAYLIGHT
BEGIN:STANDARD
TZOFFSETFROM:-0500
TZOFFSETTO:-0600
TZNAME:CST
DTSTART:20241103T070000
END:STANDARD
END:VTIMEZONE
BEGIN:VEVENT
DTSTART;TZID=America/Chicago:20230520T090000
DTEND;TZID=America/Chicago:20230520T103000
DTSTAMP:20260422T042307
CREATED:20220819T190617Z
LAST-MODIFIED:20231214T152620Z
UID:10001101-1684573200-1684578600@www.tedallas.org
SUMMARY:Chever Torah
DESCRIPTION:
URL:https://www.tedallas.org/event/chever-torah-2022-09-24/2023-05-20/
LOCATION:Temple Emanu-El Ackerman Conference Room
CATEGORIES:Adult Learning,Prayer and Spirituality
ATTACH;FMTTYPE=image/jpeg:https://www.tedallas.org/wp-content/uploads/2022/07/Temple-logo-event-image-1.jpg
END:VEVENT
BEGIN:VEVENT
DTSTART;TZID=America/Chicago:20230517T193000
DTEND;TZID=America/Chicago:20230517T204500
DTSTAMP:20260422T042307
CREATED:20230119T223658Z
LAST-MODIFIED:20230119T223658Z
UID:10001486-1684351800-1684356300@www.tedallas.org
SUMMARY:Goin' to the Chuppah Spring 2023
DESCRIPTION:All classes are from 7:30-8:45 p.m. and locations for specific dates will be confirmed at a later date (in-person at Temple/Zoom/congregant home). Goin’ to the Chuppah is open to any couple who plans to create a Jewish home. Jewish\, interfaith\, LGBTQ – all are welcome! Goin’ to the Chuppah is a registered TwoTogether in Texas provider which means that couples being married in Texas are eligible for a substantial discount on their marriage license for completing the class. We strongly encourage couples to attend at least 3 of the 4 sessions so that you can form relationships with the other participants. If you need to attend a weekday class via Zoom\, it will be made available.
URL:https://www.tedallas.org/event/goin-to-the-chuppah-spring-2023-4/
CATEGORIES:Adult Learning,Community
ATTACH;FMTTYPE=image/jpeg:https://www.tedallas.org/wp-content/uploads/2023/01/ChuppahPicture-scaled.jpg
END:VEVENT
BEGIN:VEVENT
DTSTART;TZID=America/Chicago:20230516T150000
DTEND;TZID=America/Chicago:20230516T160000
DTSTAMP:20260422T042307
CREATED:20220908T223725Z
LAST-MODIFIED:20230929T190509Z
UID:10002852-1684249200-1684252800@www.tedallas.org
SUMMARY:Yoga Emanu-El
DESCRIPTION:Join instructor Debbi K. Levy for an hour long yoga and meditation session with a Jewish lens. No registration required.
URL:https://www.tedallas.org/event/yoga-emanu-el/2023-05-16/
LOCATION:Temple Emanu-El
CATEGORIES:Adult Learning,Community
ATTACH;FMTTYPE=image/jpeg:https://www.tedallas.org/wp-content/uploads/2022/09/yoga-emanu-el-e1662676573556.jpg
END:VEVENT
BEGIN:VEVENT
DTSTART;TZID=America/Chicago:20230513T190000
DTEND;TZID=America/Chicago:20230513T203000
DTSTAMP:20260422T042307
CREATED:20230427T161725Z
LAST-MODIFIED:20230427T161725Z
UID:10002699-1684004400-1684009800@www.tedallas.org
SUMMARY:2023 Confirmation Ceremony
DESCRIPTION:Join us in honoring the Confirmation Class of 5783/2023 with a special Havdalah service. This year’s confirmation students will present reflections on their year of learning and come together with the congregation to confirm their commitment to Judaism. The service will be held in Stern Chapel at 7 p.m.\, followed by a festive oneg. All are welcome to attend.
URL:https://www.tedallas.org/event/2023-confirmation-ceremony/
LOCATION:Temple Emanu-El Stern Chapel
CATEGORIES:Community,Livestream,Prayer and Spirituality,Youth Learning + Engagement
ATTACH;FMTTYPE=image/jpeg:https://www.tedallas.org/wp-content/uploads/2022/08/Stern-Chapel-feature-image.jpg
ORGANIZER;CN="Megan Sims":MAILTO:msims@tedallas.org
END:VEVENT
BEGIN:VEVENT
DTSTART;TZID=America/Chicago:20230513T103000
DTEND;TZID=America/Chicago:20230513T120000
DTSTAMP:20260422T042307
CREATED:20230404T194136Z
LAST-MODIFIED:20230511T182939Z
UID:10002686-1683973800-1683979200@www.tedallas.org
SUMMARY:May 13: Shabbat Morning Service
DESCRIPTION:with Rabbi Debra Robbins and Cantor Leslie Niren \nSupplemental materials for Shabbat morning
URL:https://www.tedallas.org/event/may-13-shabbat-morning-service/
LOCATION:Temple Emanu-El Lefkowitz Chapel
CATEGORIES:Livestream,Prayer and Spirituality
ATTACH;FMTTYPE=image/jpeg:https://www.tedallas.org/wp-content/uploads/2022/08/Lefkowitz-feature-image.jpg
ORGANIZER;CN="Tal Drori":MAILTO:tdrori@tedallas.org
END:VEVENT
BEGIN:VEVENT
DTSTART;TZID=America/Chicago:20230513T090000
DTEND;TZID=America/Chicago:20230513T103000
DTSTAMP:20260422T042307
CREATED:20220819T190617Z
LAST-MODIFIED:20231214T152620Z
UID:10001100-1683968400-1683973800@www.tedallas.org
SUMMARY:Chever Torah
DESCRIPTION:
URL:https://www.tedallas.org/event/chever-torah-2022-09-24/2023-05-13/
LOCATION:Temple Emanu-El Ackerman Conference Room
CATEGORIES:Adult Learning,Prayer and Spirituality
ATTACH;FMTTYPE=image/jpeg:https://www.tedallas.org/wp-content/uploads/2022/07/Temple-logo-event-image-1.jpg
END:VEVENT
BEGIN:VEVENT
DTSTART;TZID=America/Chicago:20230512T181500
DTEND;TZID=America/Chicago:20230512T193000
DTSTAMP:20260422T042307
CREATED:20230314T205301Z
LAST-MODIFIED:20230404T193747Z
UID:10002648-1683915300-1683919800@www.tedallas.org
SUMMARY:May 12: Shabbat Evening Service of Farewell and Appreciation For Shelly Sender
DESCRIPTION:Let’s show Shelly our appreciation for 16 wonderful years of service to the Early Childhood Education Center. She will be honored at this Shabbat evening service led by Rabbi David Stern and Cantor Leslie Niren. Do you have pictures of your children and your family that we can include in this special evening? Please send them to us at ecec@tedallas.org.
URL:https://www.tedallas.org/event/shelly-sender-shabbat/
LOCATION:Temple Emanu-El Stern Chapel
CATEGORIES:Community,Early Childhood,Livestream,Prayer and Spirituality
ATTACH;FMTTYPE=image/jpeg:https://www.tedallas.org/wp-content/uploads/2023/03/ShellyFarewellWeb-1-scaled.jpg
ORGANIZER;CN="Jennifer Richman":MAILTO:jrichman@tedallas.org
END:VEVENT
BEGIN:VEVENT
DTSTART;TZID=America/Chicago:20230511T190000
DTEND;TZID=America/Chicago:20230511T203000
DTSTAMP:20260422T042307
CREATED:20230331T164755Z
LAST-MODIFIED:20230426T172546Z
UID:10002679-1683831600-1683837000@www.tedallas.org
SUMMARY:Rabbi Levi A. Olan Lecture: Anxiety and Hope
DESCRIPTION:The 2023 Rabbi Levi A. Olan Lecture is the second of three keynote lectures for TE150. Rabbi Marmur will address the landscape of contemporary Judaism\, particularly through the lens of modern Israel. A scholar in modern Jewish thought\, Rabbi Marmur describes anxiety as a significant engine for Jewish spirituality and theology. He also explores the dynamics of hope: “Hope is the national anthem of Israel…what does it mean to look at the world with hope?” Rabbi Marmur is the Vice-President for Academic Affairs of the Hebrew Union College-Jewish Institute of Religion. Based in Jerusalem\, he works with colleagues on each of HUC’s campuses. His doctoral work is on the work of Abraham Joshua Heschel.
URL:https://www.tedallas.org/event/anxiety-and-hope/
LOCATION:Temple Emanu-El Stern Chapel
CATEGORIES:Learning,Livestream,TE150
ATTACH;FMTTYPE=image/jpeg:https://www.tedallas.org/wp-content/uploads/2023/03/olan-lecture-website.jpg
END:VEVENT
BEGIN:VEVENT
DTSTART;TZID=America/Chicago:20230510T193000
DTEND;TZID=America/Chicago:20230510T204500
DTSTAMP:20260422T042307
CREATED:20230119T223432Z
LAST-MODIFIED:20230119T223432Z
UID:10001485-1683747000-1683751500@www.tedallas.org
SUMMARY:Goin' to the Chuppah Spring 2023
DESCRIPTION:All classes are from 7:30-8:45 p.m. and locations for specific dates will be confirmed at a later date (in-person at Temple/Zoom/congregant home). Goin’ to the Chuppah is open to any couple who plans to create a Jewish home. Jewish\, interfaith\, LGBTQ – all are welcome! Goin’ to the Chuppah is a registered TwoTogether in Texas provider which means that couples being married in Texas are eligible for a substantial discount on their marriage license for completing the class. We strongly encourage couples to attend at least 3 of the 4 sessions so that you can form relationships with the other participants. If you need to attend a weekday class via Zoom\, it will be made available.
URL:https://www.tedallas.org/event/goin-to-the-chuppah-spring-2023-3/
CATEGORIES:Adult Learning,Community
ATTACH;FMTTYPE=image/jpeg:https://www.tedallas.org/wp-content/uploads/2023/01/ChuppahPicture-scaled.jpg
END:VEVENT
BEGIN:VEVENT
DTSTART;TZID=America/Chicago:20230509T150000
DTEND;TZID=America/Chicago:20230509T160000
DTSTAMP:20260422T042307
CREATED:20220908T223725Z
LAST-MODIFIED:20230929T190509Z
UID:10002851-1683644400-1683648000@www.tedallas.org
SUMMARY:Yoga Emanu-El
DESCRIPTION:Join instructor Debbi K. Levy for an hour long yoga and meditation session with a Jewish lens. No registration required.
URL:https://www.tedallas.org/event/yoga-emanu-el/2023-05-09/
LOCATION:Temple Emanu-El
CATEGORIES:Adult Learning,Community
ATTACH;FMTTYPE=image/jpeg:https://www.tedallas.org/wp-content/uploads/2022/09/yoga-emanu-el-e1662676573556.jpg
END:VEVENT
BEGIN:VEVENT
DTSTART;TZID=America/Chicago:20230507T093000
DTEND;TZID=America/Chicago:20230507T110000
DTSTAMP:20260422T042307
CREATED:20230307T193318Z
LAST-MODIFIED:20230403T214726Z
UID:10001302-1683451800-1683457200@www.tedallas.org
SUMMARY:Delivery Room Spring Session
DESCRIPTION:First-time expectant parents will have the opportunity to explore the roles and responsibilities of parents in Jewish life. Participants will learn about Jewish parenting and child-rearing rituals in a small group environment which fosters community and connection through learning\, conversation\, and a shared Shabbat experience with Elena Paull. Join us to discuss the Jewish home and Shabbat\, bedtime rituals\, mindfulness\, and Jewish values. This four-session class is free. Space is limited\, please email klester@tedallas.org with any questions.
URL:https://www.tedallas.org/event/delivery-room-spring-session/2023-05-07/
LOCATION:Temple Emanu-El Archives
CATEGORIES:Adult Learning,Families
ATTACH;FMTTYPE=image/jpeg:https://www.tedallas.org/wp-content/uploads/2022/07/Temple-logo-event-image-1.jpg
END:VEVENT
BEGIN:VEVENT
DTSTART;TZID=America/Chicago:20230506T163000
DTEND;TZID=America/Chicago:20230506T183000
DTSTAMP:20260422T042307
CREATED:20221108T224139Z
LAST-MODIFIED:20221108T224139Z
UID:10001448-1683390600-1683397800@www.tedallas.org
SUMMARY:May 6: Alexandra Sheimberg Bat Mitzvah
DESCRIPTION:
URL:https://www.tedallas.org/event/alexandrasheimberg/
LOCATION:Temple Emanu-El Stern Chapel
CATEGORIES:Prayer and Spirituality
ATTACH;FMTTYPE=image/jpeg:https://www.tedallas.org/wp-content/uploads/2022/08/Stern-Chapel-feature-image.jpg
END:VEVENT
BEGIN:VEVENT
DTSTART;TZID=America/Chicago:20230506T103000
DTEND;TZID=America/Chicago:20230506T120000
DTSTAMP:20260422T042307
CREATED:20230404T193443Z
LAST-MODIFIED:20230504T141952Z
UID:10002685-1683369000-1683374400@www.tedallas.org
SUMMARY:May 6: Shabbat Morning Service
DESCRIPTION:with Rabbi David Stern and Cantor Vicky Glikin \nSupplemental materials for Shabbat morning
URL:https://www.tedallas.org/event/may-6-shabbat-morning-service/
LOCATION:Temple Emanu-El Lefkowitz Chapel
CATEGORIES:Livestream,Prayer and Spirituality
ATTACH;FMTTYPE=image/jpeg:https://www.tedallas.org/wp-content/uploads/2022/08/Lefkowitz-feature-image.jpg
ORGANIZER;CN="Tal Drori":MAILTO:tdrori@tedallas.org
END:VEVENT
BEGIN:VEVENT
DTSTART;TZID=America/Chicago:20230506T103000
DTEND;TZID=America/Chicago:20230506T120000
DTSTAMP:20260422T042307
CREATED:20230215T161350Z
LAST-MODIFIED:20230215T161350Z
UID:10001841-1683369000-1683374400@www.tedallas.org
SUMMARY:May 6: Ella McCallister Bat Mitzvah
DESCRIPTION:
URL:https://www.tedallas.org/event/ellamccallister/
LOCATION:Temple Emanu-El Stern Chapel
CATEGORIES:Prayer and Spirituality
ATTACH;FMTTYPE=image/jpeg:https://www.tedallas.org/wp-content/uploads/2022/08/Stern-Chapel-feature-image.jpg
END:VEVENT
BEGIN:VEVENT
DTSTART;TZID=America/Chicago:20230506T090000
DTEND;TZID=America/Chicago:20230506T103000
DTSTAMP:20260422T042307
CREATED:20220819T190617Z
LAST-MODIFIED:20231214T152620Z
UID:10001099-1683363600-1683369000@www.tedallas.org
SUMMARY:Chever Torah
DESCRIPTION:
URL:https://www.tedallas.org/event/chever-torah-2022-09-24/2023-05-06/
LOCATION:Temple Emanu-El Ackerman Conference Room
CATEGORIES:Adult Learning,Prayer and Spirituality
ATTACH;FMTTYPE=image/jpeg:https://www.tedallas.org/wp-content/uploads/2022/07/Temple-logo-event-image-1.jpg
END:VEVENT
BEGIN:VEVENT
DTSTART;TZID=America/Chicago:20230505T181500
DTEND;TZID=America/Chicago:20230505T193000
DTSTAMP:20260422T042307
CREATED:20230404T192911Z
LAST-MODIFIED:20230404T192911Z
UID:10002684-1683310500-1683315000@www.tedallas.org
SUMMARY:May 5: Senior Sendoff Shabbat
DESCRIPTION:Celebrate the high school graduating class of 2023 with a Shabbat service and blessing for the future with Rabbi David Stern and Cantor Leslie Niren.
URL:https://www.tedallas.org/event/may-5-senior-sendoff-shabbat/
LOCATION:Temple Emanu-El Stern Chapel
CATEGORIES:Families,Livestream,Prayer and Spirituality
ATTACH;FMTTYPE=image/jpeg:https://www.tedallas.org/wp-content/uploads/2022/08/Stern-Chapel-feature-image.jpg
ORGANIZER;CN="Tal Drori":MAILTO:tdrori@tedallas.org
END:VEVENT
BEGIN:VEVENT
DTSTART;TZID=America/Chicago:20230503T180000
DTEND;TZID=America/Chicago:20230503T180000
DTSTAMP:20260422T042307
CREATED:20230403T213756Z
LAST-MODIFIED:20230403T213823Z
UID:10002680-1683136800-1683136800@www.tedallas.org
SUMMARY:ATiD Sidecar Social
DESCRIPTION:Join ATiD for happy hour at Sidecar Social in Addison. Enjoy shmoozing with old friends or new Dallasites. Participants are expected to buy their own drinks.
URL:https://www.tedallas.org/event/atid-sidecar-social/
CATEGORIES:ATiD 20s and 30s
ATTACH;FMTTYPE=image/jpeg:https://www.tedallas.org/wp-content/uploads/2022/09/Atid-Website-Image.jpg
END:VEVENT
BEGIN:VEVENT
DTSTART;TZID=America/Chicago:20230502T190000
DTEND;TZID=America/Chicago:20230502T200000
DTSTAMP:20260422T042307
CREATED:20230411T153401Z
LAST-MODIFIED:20230501T185822Z
UID:10002693-1683054000-1683057600@www.tedallas.org
SUMMARY:Sh'ma Emanu-El TE150 Listening Campaign
DESCRIPTION:Join us in the Weiss Youth Hall for a listening campaign event for anyone who has been\, wants to be or is currently in a Sh’ma group.
URL:https://www.tedallas.org/event/shma-emanu-el-listening-campaign/
LOCATION:Temple Emanu-El Weiss Youth Wing
CATEGORIES:Adult Learning,Community,TE150
ATTACH;FMTTYPE=image/jpeg:https://www.tedallas.org/wp-content/uploads/2023/04/Shma-Web-scaled.jpg
ORGANIZER;CN="Shira Stevenson":MAILTO:sstevenson@tedallas.org
END:VEVENT
BEGIN:VEVENT
DTSTART;TZID=America/Chicago:20230502T150000
DTEND;TZID=America/Chicago:20230502T160000
DTSTAMP:20260422T042307
CREATED:20220908T223725Z
LAST-MODIFIED:20230929T190509Z
UID:10002850-1683039600-1683043200@www.tedallas.org
SUMMARY:Yoga Emanu-El
DESCRIPTION:Join instructor Debbi K. Levy for an hour long yoga and meditation session with a Jewish lens. No registration required.
URL:https://www.tedallas.org/event/yoga-emanu-el/2023-05-02/
LOCATION:Temple Emanu-El
CATEGORIES:Adult Learning,Community
ATTACH;FMTTYPE=image/jpeg:https://www.tedallas.org/wp-content/uploads/2022/09/yoga-emanu-el-e1662676573556.jpg
END:VEVENT
BEGIN:VEVENT
DTSTART;TZID=America/Chicago:20230502T120000
DTEND;TZID=America/Chicago:20230502T130000
DTSTAMP:20260422T042307
CREATED:20230105T174222Z
LAST-MODIFIED:20230428T151258Z
UID:10001817-1683028800-1683032400@www.tedallas.org
SUMMARY:Rabbinic Robes: Revealing Ourselves in Every Generation
DESCRIPTION:Join us for the third Women Who Weave event. Rabbi Robbins (1991-present) will join with Rabbi Ellen Lewis\, (Temple Emanu-El’s first female rabbi\, 1980-1985) for a conversation about how women clergy have shaped congregational life over the past 50 years. \nJoin through Zoom here\nPassword: Women
URL:https://www.tedallas.org/event/rabbinic-robes-revealing-ourselves-in-every-generation/
CATEGORIES:Adult Learning,Community,Learning,Women of Reform Judaism
ATTACH;FMTTYPE=image/jpeg:https://www.tedallas.org/wp-content/uploads/2023/01/Women-who-weave-website-event-scaled.jpg
END:VEVENT
BEGIN:VEVENT
DTSTART;TZID=America/Chicago:20230430T103000
DTEND;TZID=America/Chicago:20230430T120000
DTSTAMP:20260422T042307
CREATED:20230317T163532Z
LAST-MODIFIED:20230321T211248Z
UID:10002664-1682850600-1682856000@www.tedallas.org
SUMMARY:Navigating Next Steps: An Honest Conversation about Teen Mental Health and Well Being
DESCRIPTION:Hear from Shine the Light chairs Fran Toubin and Amy Roseman\, who will share how they drew upon Temple resources to support their families as they worked through mental health crises with their older teens. Rabbi Debra Robbins will join them in the conversation. You’ll also learn how to create a mental health emergency plan for children turning 18 and craft a checklist for 18-22-year-olds to navigate mental health care decisions in the event of a crisis. A Q&A session will follow the workshop.
URL:https://www.tedallas.org/event/navigating-next-steps-an-honest-conversation-about-teen-mental-health-and-well-being/
LOCATION:Temple Emanu-El Linz Hall
CATEGORIES:Adult Learning,Families,Learning
ATTACH;FMTTYPE=image/jpeg:https://www.tedallas.org/wp-content/uploads/2022/07/Temple-logo-event-image-1.jpg
ORGANIZER;CN="Meredith Pryzant":MAILTO:mpryzant@tedallas.org
END:VEVENT
BEGIN:VEVENT
DTSTART;TZID=America/Chicago:20230430T093000
DTEND;TZID=America/Chicago:20230430T110000
DTSTAMP:20260422T042307
CREATED:20230307T193318Z
LAST-MODIFIED:20230403T214726Z
UID:10001301-1682847000-1682852400@www.tedallas.org
SUMMARY:Delivery Room Spring Session
DESCRIPTION:First-time expectant parents will have the opportunity to explore the roles and responsibilities of parents in Jewish life. Participants will learn about Jewish parenting and child-rearing rituals in a small group environment which fosters community and connection through learning\, conversation\, and a shared Shabbat experience with Elena Paull. Join us to discuss the Jewish home and Shabbat\, bedtime rituals\, mindfulness\, and Jewish values. This four-session class is free. Space is limited\, please email klester@tedallas.org with any questions.
URL:https://www.tedallas.org/event/delivery-room-spring-session/2023-04-30/
LOCATION:Temple Emanu-El Archives
CATEGORIES:Adult Learning,Families
ATTACH;FMTTYPE=image/jpeg:https://www.tedallas.org/wp-content/uploads/2022/07/Temple-logo-event-image-1.jpg
END:VEVENT
BEGIN:VEVENT
DTSTART;TZID=America/Chicago:20230429T193000
DTEND;TZID=America/Chicago:20230429T204500
DTSTAMP:20260422T042307
CREATED:20230119T210008Z
LAST-MODIFIED:20230119T210008Z
UID:10001484-1682796600-1682801100@www.tedallas.org
SUMMARY:Goin' to the Chuppah Spring 2023
DESCRIPTION:All classes are from 7:30-8:45pm and locations for specific dates will be confirmed at a later date (in-person at Temple/Zoom/congregant home). Goin’ to the Chuppah is open to any couple who plans to create a Jewish home. Jewish\, interfaith\, LGBTQ – all are welcome! Goin’ to the Chuppah is a registered TwoTogether in Texas provider which means that couples being married in Texas are eligible for a substantial discount on their marriage license for completing the class. We strongly encourage couples to attend at least 3 of the 4 sessions so that you can form relationships with the other participants. If you need to attend a weekday class via Zoom\, it will be made available.
URL:https://www.tedallas.org/event/goin-to-the-chuppah-spring-2023-2/
CATEGORIES:Adult Learning,Community
ATTACH;FMTTYPE=image/jpeg:https://www.tedallas.org/wp-content/uploads/2023/01/ChuppahPicture-scaled.jpg
END:VEVENT
BEGIN:VEVENT
DTSTART;TZID=America/Chicago:20230429T173000
DTEND;TZID=America/Chicago:20230429T203000
DTSTAMP:20260422T042307
CREATED:20230411T152650Z
LAST-MODIFIED:20230411T152903Z
UID:10002690-1682789400-1682800200@www.tedallas.org
SUMMARY:B’yachad Night Out
DESCRIPTION:Temple is pleased to begin offering a parents’ night out once a month for families who have children with special needs. The program is designed for children aged 5–18 with special needs and their siblings. It will start with Havdalah and lead into activities such as parachute play\, music\, time in the quiet room and more. Adults are paired with each child\, and a nurse is on site. The program is open to the community and is generously funded by a grant from the Jewish Federation of Greater Dallas. \nIf you have any questions\, would like to participate or know of someone who would like to volunteer to help\, please contact Shira Stevenson\, Director of Small Groups and Diversity\, at sstevenson@tedallas.org
URL:https://www.tedallas.org/event/byachad-night-out-2/2023-04-29/
LOCATION:Temple Emanu-El Tycher Gathering Space
CATEGORIES:Community,Families
ATTACH;FMTTYPE=image/jpeg:https://www.tedallas.org/wp-content/uploads/2023/01/InclusionWebsite-scaled.jpg
ORGANIZER;CN="Shira Stevenson":MAILTO:sstevenson@tedallas.org
END:VEVENT
BEGIN:VEVENT
DTSTART;TZID=America/Chicago:20230429T163000
DTEND;TZID=America/Chicago:20230429T180000
DTSTAMP:20260422T042307
CREATED:20221108T223843Z
LAST-MODIFIED:20221108T223843Z
UID:10001333-1682785800-1682791200@www.tedallas.org
SUMMARY:April 29: Jay Zopolsky Bar Mitzvah
DESCRIPTION:
URL:https://www.tedallas.org/event/jayzopolsky/
LOCATION:Temple Emanu-El Stern Chapel
CATEGORIES:Prayer and Spirituality
ATTACH;FMTTYPE=image/jpeg:https://www.tedallas.org/wp-content/uploads/2022/08/Stern-Chapel-feature-image.jpg
END:VEVENT
BEGIN:VEVENT
DTSTART;TZID=America/Chicago:20230429T103000
DTEND;TZID=America/Chicago:20230429T120000
DTSTAMP:20260422T042307
CREATED:20230404T191511Z
LAST-MODIFIED:20230427T211951Z
UID:10002683-1682764200-1682769600@www.tedallas.org
SUMMARY:April 29: Shabbat Morning Service
DESCRIPTION:with Rabbi Debra Robbins and Randy Pearlman\, Cantorial Soloist
URL:https://www.tedallas.org/event/april-29-shabbat-morning-service/
LOCATION:Temple Emanu-El Lefkowitz Chapel
CATEGORIES:Livestream,Prayer and Spirituality
ATTACH;FMTTYPE=image/jpeg:https://www.tedallas.org/wp-content/uploads/2022/08/Lefkowitz-feature-image.jpg
ORGANIZER;CN="Tal Drori":MAILTO:tdrori@tedallas.org
END:VEVENT
BEGIN:VEVENT
DTSTART;TZID=America/Chicago:20230429T090000
DTEND;TZID=America/Chicago:20230429T103000
DTSTAMP:20260422T042307
CREATED:20220819T190617Z
LAST-MODIFIED:20231214T152620Z
UID:10001098-1682758800-1682764200@www.tedallas.org
SUMMARY:Chever Torah
DESCRIPTION:
URL:https://www.tedallas.org/event/chever-torah-2022-09-24/2023-04-29/
LOCATION:Temple Emanu-El Ackerman Conference Room
CATEGORIES:Adult Learning,Prayer and Spirituality
ATTACH;FMTTYPE=image/jpeg:https://www.tedallas.org/wp-content/uploads/2022/07/Temple-logo-event-image-1.jpg
END:VEVENT
BEGIN:VEVENT
DTSTART;TZID=America/Chicago:20230428T180000
DTEND;TZID=America/Chicago:20230428T203000
DTSTAMP:20260422T042307
CREATED:20230322T194443Z
LAST-MODIFIED:20230329T201429Z
UID:10002665-1682704800-1682713800@www.tedallas.org
SUMMARY:April 28: Shabbat Evening Service and Concert with Yemen Blues
DESCRIPTION:Celebrate Israel’s 75th birthday and Temple’s 150th anniversary with a Shabbat service and concert by Yemen Blues\, a “world music” band founded in Israel. Yemen Blues features the mesmerizing Ravid Kahalani and fuses traditional Yemeni and Hebrew melodies with jazz\, blues and funk influences. Join us at 6 p.m. for a middle eastern congregational dinner followed by an All-In Shabbat service and concert featuring Yemen Blues with a special performance by Kol Shir.
URL:https://www.tedallas.org/event/shabbat-evening-with-yemen-blues/
CATEGORIES:Jewish Holidays,Livestream,Music, Arts, and Culture,Prayer and Spirituality,TE150
ATTACH;FMTTYPE=image/jpeg:https://www.tedallas.org/wp-content/uploads/2023/03/Yemen-Website2.jpg
ORGANIZER;CN="Tal Drori":MAILTO:tdrori@tedallas.org
END:VEVENT
BEGIN:VEVENT
DTSTART;TZID=America/Chicago:20230426T190000
DTEND;TZID=America/Chicago:20230426T210000
DTSTAMP:20260422T042307
CREATED:20230330T171222Z
LAST-MODIFIED:20230404T150103Z
UID:10002678-1682535600-1682542800@www.tedallas.org
SUMMARY:Yom HaAtzmaut Cantor in the Kitch
DESCRIPTION:Join Temple’s Women of Reform Judaism and celebrate Israel’s 75th birthday with Cantor in the Kitch with Cantor Leslie Niren! This event will feature Israeli music\, creative dishes and a fun guest chef.
URL:https://www.tedallas.org/event/yom-haatzmaut-cantor-in-the-kitch/
LOCATION:Temple Emanu-El Tycher Gathering Space
CATEGORIES:Community,Jewish Holidays,Women of Reform Judaism
ATTACH;FMTTYPE=image/jpeg:https://www.tedallas.org/wp-content/uploads/2023/03/Israeli-Flag-scaled.jpg
END:VEVENT
BEGIN:VEVENT
DTSTART;TZID=America/Chicago:20230425T150000
DTEND;TZID=America/Chicago:20230425T160000
DTSTAMP:20260422T042307
CREATED:20220908T223725Z
LAST-MODIFIED:20230929T190509Z
UID:10002849-1682434800-1682438400@www.tedallas.org
SUMMARY:Yoga Emanu-El
DESCRIPTION:Join instructor Debbi K. Levy for an hour long yoga and meditation session with a Jewish lens. No registration required.
URL:https://www.tedallas.org/event/yoga-emanu-el/2023-04-25/
LOCATION:Temple Emanu-El
CATEGORIES:Adult Learning,Community
ATTACH;FMTTYPE=image/jpeg:https://www.tedallas.org/wp-content/uploads/2022/09/yoga-emanu-el-e1662676573556.jpg
END:VEVENT
END:VCALENDAR