BEGIN:VCALENDAR
VERSION:2.0
PRODID:-//Temple Emanu-El - ECPv6.15.20//NONSGML v1.0//EN
CALSCALE:GREGORIAN
METHOD:PUBLISH
X-WR-CALNAME:Temple Emanu-El
X-ORIGINAL-URL:https://www.tedallas.org
X-WR-CALDESC:Events for Temple Emanu-El
REFRESH-INTERVAL;VALUE=DURATION:PT1H
X-Robots-Tag:noindex
X-PUBLISHED-TTL:PT1H
BEGIN:VTIMEZONE
TZID:America/Chicago
BEGIN:DAYLIGHT
TZOFFSETFROM:-0600
TZOFFSETTO:-0500
TZNAME:CDT
DTSTART:20240310T080000
END:DAYLIGHT
BEGIN:STANDARD
TZOFFSETFROM:-0500
TZOFFSETTO:-0600
TZNAME:CST
DTSTART:20241103T070000
END:STANDARD
BEGIN:DAYLIGHT
TZOFFSETFROM:-0600
TZOFFSETTO:-0500
TZNAME:CDT
DTSTART:20250309T080000
END:DAYLIGHT
BEGIN:STANDARD
TZOFFSETFROM:-0500
TZOFFSETTO:-0600
TZNAME:CST
DTSTART:20251102T070000
END:STANDARD
BEGIN:DAYLIGHT
TZOFFSETFROM:-0600
TZOFFSETTO:-0500
TZNAME:CDT
DTSTART:20260308T080000
END:DAYLIGHT
BEGIN:STANDARD
TZOFFSETFROM:-0500
TZOFFSETTO:-0600
TZNAME:CST
DTSTART:20261101T070000
END:STANDARD
END:VTIMEZONE
BEGIN:VEVENT
DTSTART;TZID=America/Chicago:20250405T103000
DTEND;TZID=America/Chicago:20250405T123000
DTSTAMP:20260420T055436
CREATED:20250404T161504Z
LAST-MODIFIED:20250417T160850Z
UID:10003933-1743849000-1743856200@www.tedallas.org
SUMMARY:April 5\, 2025: Shabbat Morning Service
DESCRIPTION:with Rabbi David Stern and Cantor Leslie Niren
URL:https://www.tedallas.org/event/april-5-2025-shabbat-morning-service/
LOCATION:Temple Emanu-El Lefkowitz Chapel
CATEGORIES:Livestream,Prayer and Spirituality
ATTACH;FMTTYPE=image/jpeg:https://www.tedallas.org/wp-content/uploads/2022/08/Lefkowitz-feature-image.jpg
END:VEVENT
BEGIN:VEVENT
DTSTART;TZID=America/Chicago:20250405T163000
DTEND;TZID=America/Chicago:20250405T180000
DTSTAMP:20260420T055436
CREATED:20250328T194022Z
LAST-MODIFIED:20250328T194022Z
UID:10003930-1743870600-1743876000@www.tedallas.org
SUMMARY:April 5\, 2025: Charlie Postel Bat Mitzvah
DESCRIPTION:
URL:https://www.tedallas.org/event/charlie-postel/
LOCATION:Temple Emanu-El Olan Sancutary
CATEGORIES:Prayer and Spirituality
ATTACH;FMTTYPE=image/jpeg:https://www.tedallas.org/wp-content/uploads/2023/08/Olan-Web-scaled.jpg
END:VEVENT
BEGIN:VEVENT
DTSTART;TZID=America/Chicago:20250411T181500
DTEND;TZID=America/Chicago:20250411T193000
DTSTAMP:20260420T055436
CREATED:20250409T225411Z
LAST-MODIFIED:20250417T160939Z
UID:10003936-1744395300-1744399800@www.tedallas.org
SUMMARY:April 11\, 2025: Shabbat Evening Service
DESCRIPTION:with Rabbi David Stern and Cantor Leslie Niren | Sermon by Rabbi Michael Lewis
URL:https://www.tedallas.org/event/april-11-2025-shabbat-evening-service/
LOCATION:Temple Emanu-El Stern Chapel
CATEGORIES:Livestream,Prayer and Spirituality
ATTACH;FMTTYPE=image/jpeg:https://www.tedallas.org/wp-content/uploads/2022/08/Stern-Chapel-feature-image.jpg
END:VEVENT
BEGIN:VEVENT
DTSTART;TZID=America/Chicago:20250412T090000
DTEND;TZID=America/Chicago:20250412T103000
DTSTAMP:20260420T055436
CREATED:20240318T154426Z
LAST-MODIFIED:20260102T200915Z
UID:10003788-1744448400-1744453800@www.tedallas.org
SUMMARY:Chever Torah
DESCRIPTION:
URL:https://www.tedallas.org/event/chever-torah-2022-09-24-3-2/2025-04-12/
LOCATION:Temple Emanu-El Barbara Zale Center for Living History
CATEGORIES:Adult Learning,Prayer and Spirituality
ATTACH;FMTTYPE=image/jpeg:https://www.tedallas.org/wp-content/uploads/2024/03/chever-torah-web.jpg
END:VEVENT
BEGIN:VEVENT
DTSTART;TZID=America/Chicago:20250412T103000
DTEND;TZID=America/Chicago:20250412T120000
DTSTAMP:20260420T055436
CREATED:20250409T225542Z
LAST-MODIFIED:20250417T161029Z
UID:10003937-1744453800-1744459200@www.tedallas.org
SUMMARY:April 12\, 2025: Shabbat Morning Service
DESCRIPTION:with Rabbi Kimberly Herzog Cohen and Cantor Hallie Weiner
URL:https://www.tedallas.org/event/april-12-2025-shabbat-morning-service/
LOCATION:Temple Emanu-El Lefkowitz Chapel
CATEGORIES:Livestream,Prayer and Spirituality
ATTACH;FMTTYPE=image/jpeg:https://www.tedallas.org/wp-content/uploads/2022/08/Lefkowitz-feature-image.jpg
END:VEVENT
BEGIN:VEVENT
DTSTART;TZID=America/Chicago:20250413T103000
DTEND;TZID=America/Chicago:20250413T120000
DTSTAMP:20260420T055436
CREATED:20250328T184724Z
LAST-MODIFIED:20250417T162010Z
UID:10003925-1744540200-1744545600@www.tedallas.org
SUMMARY:April 13\, 2025: Pesach Festival Service
DESCRIPTION:Celebrate freedom and the timeless story of our people in this service that includes psalms of praise. Led by Rabbi Debra Robbins and Cantor Hallie Weiner.
URL:https://www.tedallas.org/event/2025-pesach-festival-service/
LOCATION:Temple Emanu-El Stern Chapel
CATEGORIES:Jewish Holidays,Livestream,Prayer and Spirituality
ATTACH;FMTTYPE=image/jpeg:https://www.tedallas.org/wp-content/uploads/2024/02/Passover2025Web-1.jpg
END:VEVENT
BEGIN:VEVENT
DTSTART;TZID=America/Chicago:20250418T181500
DTEND;TZID=America/Chicago:20250418T194500
DTSTAMP:20260420T055436
CREATED:20250415T212735Z
LAST-MODIFIED:20250421T195101Z
UID:10003938-1745000100-1745005500@www.tedallas.org
SUMMARY:April 18\, 2025: Shabbat Evening Service
DESCRIPTION:with Rabbi David Stern and Cantor Leslie Niren | Sermon by Rabbi Debra Robbins
URL:https://www.tedallas.org/event/april-18-2025-shabbat-evening-service/
LOCATION:Temple Emanu-El Stern Chapel
CATEGORIES:Livestream,Prayer and Spirituality
ATTACH;FMTTYPE=image/jpeg:https://www.tedallas.org/wp-content/uploads/2022/08/Stern-Chapel-feature-image.jpg
END:VEVENT
BEGIN:VEVENT
DTSTART;TZID=America/Chicago:20250419T090000
DTEND;TZID=America/Chicago:20250419T103000
DTSTAMP:20260420T055436
CREATED:20240318T154426Z
LAST-MODIFIED:20260102T200915Z
UID:10003789-1745053200-1745058600@www.tedallas.org
SUMMARY:Chever Torah
DESCRIPTION:
URL:https://www.tedallas.org/event/chever-torah-2022-09-24-3-2/2025-04-19/
LOCATION:Temple Emanu-El Barbara Zale Center for Living History
CATEGORIES:Adult Learning,Prayer and Spirituality
ATTACH;FMTTYPE=image/jpeg:https://www.tedallas.org/wp-content/uploads/2024/03/chever-torah-web.jpg
END:VEVENT
BEGIN:VEVENT
DTSTART;TZID=America/Chicago:20250419T103000
DTEND;TZID=America/Chicago:20250419T120000
DTSTAMP:20260420T055436
CREATED:20250328T194353Z
LAST-MODIFIED:20250421T195135Z
UID:10003932-1745058600-1745064000@www.tedallas.org
SUMMARY:April 19\, 2025: Shabbat and Pesach Festival Service with Yizkor
DESCRIPTION:Conclude the festival with prayers of memory and the joy of Shabbat. Led by Rabbi David Stern and Cantor Leslie Niren.
URL:https://www.tedallas.org/event/april-19-2025-shabbat-and-pesach-festival-service-with-yizkor/
LOCATION:Temple Emanu-El Stern Chapel
CATEGORIES:Livestream,Prayer and Spirituality
ATTACH;FMTTYPE=image/jpeg:https://www.tedallas.org/wp-content/uploads/2024/02/Passover2025Web-1.jpg
END:VEVENT
BEGIN:VEVENT
DTSTART;TZID=America/Chicago:20250425T181500
DTEND;TZID=America/Chicago:20250425T200000
DTSTAMP:20260420T055436
CREATED:20250421T202035Z
LAST-MODIFIED:20250521T164114Z
UID:10003940-1745604900-1745611200@www.tedallas.org
SUMMARY:April 25\, 2025: Shabbat Evening Service
DESCRIPTION:with Rabbi Michael Lewis and Cantor Hallie Weiner | Sermon by Rabbi David Stern
URL:https://www.tedallas.org/event/april-25-2025-shabbat-evening-service/
LOCATION:Temple Emanu-El Stern Chapel
CATEGORIES:Livestream,Prayer and Spirituality
ATTACH;FMTTYPE=image/jpeg:https://www.tedallas.org/wp-content/uploads/2022/08/Stern-Chapel-feature-image.jpg
END:VEVENT
BEGIN:VEVENT
DTSTART;TZID=America/Chicago:20250426T090000
DTEND;TZID=America/Chicago:20250426T103000
DTSTAMP:20260420T055436
CREATED:20240318T154426Z
LAST-MODIFIED:20260102T200915Z
UID:10003790-1745658000-1745663400@www.tedallas.org
SUMMARY:Chever Torah
DESCRIPTION:
URL:https://www.tedallas.org/event/chever-torah-2022-09-24-3-2/2025-04-26/
LOCATION:Temple Emanu-El Barbara Zale Center for Living History
CATEGORIES:Adult Learning,Prayer and Spirituality
ATTACH;FMTTYPE=image/jpeg:https://www.tedallas.org/wp-content/uploads/2024/03/chever-torah-web.jpg
END:VEVENT
BEGIN:VEVENT
DTSTART;TZID=America/Chicago:20250426T103000
DTEND;TZID=America/Chicago:20250426T120000
DTSTAMP:20260420T055436
CREATED:20250328T193850Z
LAST-MODIFIED:20250328T193850Z
UID:10003929-1745663400-1745668800@www.tedallas.org
SUMMARY:April 26\, 2025: Erin Cohen Bat Mitzvah
DESCRIPTION:
URL:https://www.tedallas.org/event/erin-cohen/
LOCATION:Temple Emanu-El Stern Chapel
CATEGORIES:Prayer and Spirituality
ATTACH;FMTTYPE=image/jpeg:https://www.tedallas.org/wp-content/uploads/2022/08/Stern-Chapel-feature-image.jpg
END:VEVENT
BEGIN:VEVENT
DTSTART;TZID=America/Chicago:20250426T103000
DTEND;TZID=America/Chicago:20250426T120000
DTSTAMP:20260420T055436
CREATED:20250421T202826Z
LAST-MODIFIED:20250521T164144Z
UID:10003942-1745663400-1745668800@www.tedallas.org
SUMMARY:April 26\, 2025: Shabbat Morning Service
DESCRIPTION:with Cantor Hallie Weiner and Rabbi Josh Taub
URL:https://www.tedallas.org/event/april-26-2025-shabbat-morning-service/
LOCATION:Temple Emanu-El Lefkowitz Chapel
CATEGORIES:Livestream,Prayer and Spirituality
ATTACH;FMTTYPE=image/jpeg:https://www.tedallas.org/wp-content/uploads/2022/08/Lefkowitz-feature-image.jpg
END:VEVENT
BEGIN:VEVENT
DTSTART;TZID=America/Chicago:20250426T163000
DTEND;TZID=America/Chicago:20250426T180000
DTSTAMP:20260420T055436
CREATED:20250328T194130Z
LAST-MODIFIED:20250328T194130Z
UID:10003931-1745685000-1745690400@www.tedallas.org
SUMMARY:April 26\, 2025: William Medland Bar Mitzvah
DESCRIPTION:
URL:https://www.tedallas.org/event/william-medland/
LOCATION:Temple Emanu-El Stern Chapel
CATEGORIES:Prayer and Spirituality
ATTACH;FMTTYPE=image/jpeg:https://www.tedallas.org/wp-content/uploads/2022/08/Stern-Chapel-feature-image.jpg
END:VEVENT
BEGIN:VEVENT
DTSTART;TZID=America/Chicago:20250502T180000
DTEND;TZID=America/Chicago:20250502T200000
DTSTAMP:20260420T055436
CREATED:20250328T183846Z
LAST-MODIFIED:20250521T164223Z
UID:10003923-1746208800-1746216000@www.tedallas.org
SUMMARY:May 2\, 2025: Yom HaAtzmaut All-In Shabbat
DESCRIPTION:Join us to celebrate Yom HaAtzmaut with a Shabbat evening for the whole family! Enjoy a family friendly service followed by an Israeli-style congregational dinner and activities for kids. Before the service\, spend some time at our Israeli shuk that will highlight Israeli inventions and innovations\, Israeli food and even give you a chance to get hands on with Israeli art.
URL:https://www.tedallas.org/event/may-2-all-in-shabbat/
LOCATION:Temple Emanu-El Nasher-Haemisegger Family Atrium
CATEGORIES:Community,Early Childhood,Families,Israel,Jewish Holidays,Livestream,Prayer and Spirituality
ATTACH;FMTTYPE=image/jpeg:https://www.tedallas.org/wp-content/uploads/2024/01/All-In-Shabbat-Web-Feb-16-scaled.jpg
ORGANIZER;CN="Tal Drori":MAILTO:tdrori@tedallas.org
END:VEVENT
BEGIN:VEVENT
DTSTART;TZID=America/Chicago:20250503T090000
DTEND;TZID=America/Chicago:20250503T103000
DTSTAMP:20260420T055436
CREATED:20240318T154426Z
LAST-MODIFIED:20260102T200915Z
UID:10003791-1746262800-1746268200@www.tedallas.org
SUMMARY:Chever Torah
DESCRIPTION:
URL:https://www.tedallas.org/event/chever-torah-2022-09-24-3-2/2025-05-03/
LOCATION:Temple Emanu-El Barbara Zale Center for Living History
CATEGORIES:Adult Learning,Prayer and Spirituality
ATTACH;FMTTYPE=image/jpeg:https://www.tedallas.org/wp-content/uploads/2024/03/chever-torah-web.jpg
END:VEVENT
BEGIN:VEVENT
DTSTART;TZID=America/Chicago:20250503T103000
DTEND;TZID=America/Chicago:20250503T120000
DTSTAMP:20260420T055436
CREATED:20250421T203521Z
LAST-MODIFIED:20250521T164310Z
UID:10003943-1746268200-1746273600@www.tedallas.org
SUMMARY:May 3\, 2025: Shabbat Morning Service
DESCRIPTION:with Rabbi Michael Lewis and Randy Pearlman\, Cantorial Soloist
URL:https://www.tedallas.org/event/may-3-2025-shabbat-morning-service/
LOCATION:Temple Emanu-El Lefkowitz Chapel
CATEGORIES:Livestream,Prayer and Spirituality
ATTACH;FMTTYPE=image/jpeg:https://www.tedallas.org/wp-content/uploads/2022/08/Lefkowitz-feature-image.jpg
END:VEVENT
BEGIN:VEVENT
DTSTART;TZID=America/Chicago:20250503T103000
DTEND;TZID=America/Chicago:20250503T120000
DTSTAMP:20260420T055436
CREATED:20250430T214700Z
LAST-MODIFIED:20250430T214700Z
UID:10003950-1746268200-1746273600@www.tedallas.org
SUMMARY:May 3\, 2025: Molly Gerstenhaber Bat Mitzvah
DESCRIPTION:
URL:https://www.tedallas.org/event/molly-gerstenhaber/
LOCATION:Temple Emanu-El Stern Chapel
CATEGORIES:Prayer and Spirituality
ATTACH;FMTTYPE=image/jpeg:https://www.tedallas.org/wp-content/uploads/2022/08/Stern-Chapel-feature-image.jpg
END:VEVENT
BEGIN:VEVENT
DTSTART;TZID=America/Chicago:20250503T163000
DTEND;TZID=America/Chicago:20250503T173000
DTSTAMP:20260420T055436
CREATED:20250430T221037Z
LAST-MODIFIED:20250430T221037Z
UID:10003954-1746289800-1746293400@www.tedallas.org
SUMMARY:May 3\, 2025: Rebecca Molina Bat Mitzvah
DESCRIPTION:
URL:https://www.tedallas.org/event/rebecca-molina/
LOCATION:Temple Emanu-El Stern Chapel
CATEGORIES:Prayer and Spirituality
ATTACH;FMTTYPE=image/jpeg:https://www.tedallas.org/wp-content/uploads/2022/08/Stern-Chapel-feature-image.jpg
END:VEVENT
BEGIN:VEVENT
DTSTART;TZID=America/Chicago:20250509T181500
DTEND;TZID=America/Chicago:20250509T200000
DTSTAMP:20260420T055436
CREATED:20250421T202256Z
LAST-MODIFIED:20250521T164348Z
UID:10003941-1746814500-1746820800@www.tedallas.org
SUMMARY:May 9\, 2025: Shabbat Evening Service
DESCRIPTION:with Rabbi Michael Lewis and Cantor Hallie Weiner | Sermon by Rabbi Debra Robbins
URL:https://www.tedallas.org/event/may-9-2025-shabbat-evening-service/
LOCATION:Temple Emanu-El Stern Chapel
CATEGORIES:Livestream,Prayer and Spirituality
ATTACH;FMTTYPE=image/jpeg:https://www.tedallas.org/wp-content/uploads/2022/08/Stern-Chapel-feature-image.jpg
END:VEVENT
BEGIN:VEVENT
DTSTART;TZID=America/Chicago:20250510T090000
DTEND;TZID=America/Chicago:20250510T103000
DTSTAMP:20260420T055437
CREATED:20240318T154426Z
LAST-MODIFIED:20260102T200915Z
UID:10003792-1746867600-1746873000@www.tedallas.org
SUMMARY:Chever Torah
DESCRIPTION:
URL:https://www.tedallas.org/event/chever-torah-2022-09-24-3-2/2025-05-10/
LOCATION:Temple Emanu-El Barbara Zale Center for Living History
CATEGORIES:Adult Learning,Prayer and Spirituality
ATTACH;FMTTYPE=image/jpeg:https://www.tedallas.org/wp-content/uploads/2024/03/chever-torah-web.jpg
END:VEVENT
BEGIN:VEVENT
DTSTART;TZID=America/Chicago:20250510T103000
DTEND;TZID=America/Chicago:20250510T120000
DTSTAMP:20260420T055437
CREATED:20250421T204116Z
LAST-MODIFIED:20250521T164419Z
UID:10003944-1746873000-1746878400@www.tedallas.org
SUMMARY:May 10\, 2025: Shabbat Morning Service
DESCRIPTION:with Rabbi David Stern and Randy Pearlman\, Cantorial Soloist
URL:https://www.tedallas.org/event/may-10-2025-shabbat-morning-service/
LOCATION:Temple Emanu-El Lefkowitz Chapel
CATEGORIES:Livestream,Prayer and Spirituality
ATTACH;FMTTYPE=image/jpeg:https://www.tedallas.org/wp-content/uploads/2022/08/Lefkowitz-feature-image.jpg
END:VEVENT
BEGIN:VEVENT
DTSTART;TZID=America/Chicago:20250510T103000
DTEND;TZID=America/Chicago:20250510T120000
DTSTAMP:20260420T055437
CREATED:20250430T215726Z
LAST-MODIFIED:20250430T215726Z
UID:10003951-1746873000-1746878400@www.tedallas.org
SUMMARY:May 10\, 2025: Stella Cohen Bat Mitzvah
DESCRIPTION:
URL:https://www.tedallas.org/event/stella-cohen/
LOCATION:Temple Emanu-El Stern Chapel
CATEGORIES:Prayer and Spirituality
ATTACH;FMTTYPE=image/jpeg:https://www.tedallas.org/wp-content/uploads/2022/08/Stern-Chapel-feature-image.jpg
END:VEVENT
BEGIN:VEVENT
DTSTART;TZID=America/Chicago:20250516T181500
DTEND;TZID=America/Chicago:20250516T200000
DTSTAMP:20260420T055437
CREATED:20250417T181235Z
LAST-MODIFIED:20250521T164450Z
UID:10003939-1747419300-1747425600@www.tedallas.org
SUMMARY:May 16\, 2025: Board Installation Shabbat and Congregational Dinner
DESCRIPTION:Join us for a Shabbat service that will include the Temple Emanu-El Choir\, welcoming our new officers\, trustees and leadership council and honor our outgoing board members. Enjoy a congregational dinner following the service. Register and order dinner below.
URL:https://www.tedallas.org/event/2025-installation-shabbat/
LOCATION:Temple Emanu-El Stern Chapel
CATEGORIES:Community,Livestream,Prayer and Spirituality
ATTACH;FMTTYPE=image/jpeg:https://www.tedallas.org/wp-content/uploads/2023/01/Annual-Meeting-web-1.jpg
ORGANIZER;CN="Andrew Paull":MAILTO:apaull@tedallas.org
END:VEVENT
BEGIN:VEVENT
DTSTART;TZID=America/Chicago:20250517T090000
DTEND;TZID=America/Chicago:20250517T103000
DTSTAMP:20260420T055437
CREATED:20240318T154426Z
LAST-MODIFIED:20260102T200915Z
UID:10003793-1747472400-1747477800@www.tedallas.org
SUMMARY:Chever Torah
DESCRIPTION:
URL:https://www.tedallas.org/event/chever-torah-2022-09-24-3-2/2025-05-17/
LOCATION:Temple Emanu-El Barbara Zale Center for Living History
CATEGORIES:Adult Learning,Prayer and Spirituality
ATTACH;FMTTYPE=image/jpeg:https://www.tedallas.org/wp-content/uploads/2024/03/chever-torah-web.jpg
END:VEVENT
BEGIN:VEVENT
DTSTART;TZID=America/Chicago:20250517T103000
DTEND;TZID=America/Chicago:20250517T120000
DTSTAMP:20260420T055437
CREATED:20250430T215832Z
LAST-MODIFIED:20250430T215832Z
UID:10003952-1747477800-1747483200@www.tedallas.org
SUMMARY:May 17\, 2025: Aaron Berde Bar Mitzvah
DESCRIPTION:
URL:https://www.tedallas.org/event/aaron-berde/
LOCATION:Temple Emanu-El Stern Chapel
CATEGORIES:Prayer and Spirituality
ATTACH;FMTTYPE=image/jpeg:https://www.tedallas.org/wp-content/uploads/2022/08/Stern-Chapel-feature-image.jpg
END:VEVENT
BEGIN:VEVENT
DTSTART;TZID=America/Chicago:20250517T103000
DTEND;TZID=America/Chicago:20250517T120000
DTSTAMP:20260420T055437
CREATED:20250514T221117Z
LAST-MODIFIED:20250521T164520Z
UID:10003961-1747477800-1747483200@www.tedallas.org
SUMMARY:May 17\, 2025: Shabbat Morning Service and Jonah Apfel Bar Mitzvah
DESCRIPTION:with Rabbi David Stern and Cantor Vicky Glikin
URL:https://www.tedallas.org/event/may-17-2025-shabbat-morning-service-and-jonah-apfel-bar-mitzvah/
LOCATION:Temple Emanu-El Lefkowitz Chapel
CATEGORIES:Community,Livestream,Prayer and Spirituality
ATTACH;FMTTYPE=image/jpeg:https://www.tedallas.org/wp-content/uploads/2022/08/Lefkowitz-feature-image.jpg
END:VEVENT
BEGIN:VEVENT
DTSTART;TZID=America/Chicago:20250517T163000
DTEND;TZID=America/Chicago:20250517T173000
DTSTAMP:20260420T055437
CREATED:20250430T221210Z
LAST-MODIFIED:20250430T221321Z
UID:10003955-1747499400-1747503000@www.tedallas.org
SUMMARY:May 17\, 2025: Eva Fishman Bat Mitzvah
DESCRIPTION:
URL:https://www.tedallas.org/event/eva-fishman/
LOCATION:Temple Emanu-El Stern Chapel
CATEGORIES:Prayer and Spirituality
ATTACH;FMTTYPE=image/jpeg:https://www.tedallas.org/wp-content/uploads/2022/08/Stern-Chapel-feature-image.jpg
END:VEVENT
BEGIN:VEVENT
DTSTART;TZID=America/Chicago:20250522T190000
DTEND;TZID=America/Chicago:20250522T203000
DTSTAMP:20260420T055437
CREATED:20250430T162546Z
LAST-MODIFIED:20250515T182604Z
UID:10003946-1747940400-1747945800@www.tedallas.org
SUMMARY:The Soul of Poetry with Rabbi David Stern and Valerie Taylor
DESCRIPTION:Explore the power of poetry as a tool for spiritual growth in this four-session course led by Rabbi David Stern and Valerie Taylor. Through the lens of four Jewish themes—gratitude\, grief and memory\, justice\, and connections—participants will engage with poetry from both Jewish and non-Jewish voices. The sessions combine analytical and experiential approaches and are designed to build on each other for a deeper journey into personal meaning and reflection. Learners are encouraged to attend all four sessions\, as themes\, skills and practices will build on one another. \nThis class series has reached capacity. Please contact Sammy Weyser to stay updated on future learning opportunities.
URL:https://www.tedallas.org/event/the-soul-of-poetry/2025-05-22/
LOCATION:Temple Emanu-El Linz Hall
CATEGORIES:Adult Learning,Learning,Prayer and Spirituality
ATTACH;FMTTYPE=image/jpeg:https://www.tedallas.org/wp-content/uploads/2025/04/poetry-web.jpg
ORGANIZER;CN="Sammy Weyser":MAILTO:sweyser@tedallas.org
END:VEVENT
BEGIN:VEVENT
DTSTART;TZID=America/Chicago:20250523T181500
DTEND;TZID=America/Chicago:20250523T193000
DTSTAMP:20260420T055437
CREATED:20250521T164934Z
LAST-MODIFIED:20250529T160854Z
UID:10003963-1748024100-1748028600@www.tedallas.org
SUMMARY:May 23\, 2025: Shabbat Evening Service
DESCRIPTION:with Rabbi Debra Robbins and Cantor Hallie Weiner | Sermon by Rabbi David Stern
URL:https://www.tedallas.org/event/may-23-2025-shabbat-evening-service/
LOCATION:Temple Emanu-El Stern Chapel
CATEGORIES:Livestream,Prayer and Spirituality
ATTACH;FMTTYPE=image/jpeg:https://www.tedallas.org/wp-content/uploads/2022/08/Stern-Chapel-feature-image.jpg
END:VEVENT
END:VCALENDAR