BEGIN:VCALENDAR
VERSION:2.0
PRODID:-//Temple Emanu-El - ECPv6.15.20//NONSGML v1.0//EN
CALSCALE:GREGORIAN
METHOD:PUBLISH
X-ORIGINAL-URL:https://www.tedallas.org
X-WR-CALDESC:Events for Temple Emanu-El
REFRESH-INTERVAL;VALUE=DURATION:PT1H
X-Robots-Tag:noindex
X-PUBLISHED-TTL:PT1H
BEGIN:VTIMEZONE
TZID:America/Chicago
BEGIN:DAYLIGHT
TZOFFSETFROM:-0600
TZOFFSETTO:-0500
TZNAME:CDT
DTSTART:20240310T080000
END:DAYLIGHT
BEGIN:STANDARD
TZOFFSETFROM:-0500
TZOFFSETTO:-0600
TZNAME:CST
DTSTART:20241103T070000
END:STANDARD
BEGIN:DAYLIGHT
TZOFFSETFROM:-0600
TZOFFSETTO:-0500
TZNAME:CDT
DTSTART:20250309T080000
END:DAYLIGHT
BEGIN:STANDARD
TZOFFSETFROM:-0500
TZOFFSETTO:-0600
TZNAME:CST
DTSTART:20251102T070000
END:STANDARD
BEGIN:DAYLIGHT
TZOFFSETFROM:-0600
TZOFFSETTO:-0500
TZNAME:CDT
DTSTART:20260308T080000
END:DAYLIGHT
BEGIN:STANDARD
TZOFFSETFROM:-0500
TZOFFSETTO:-0600
TZNAME:CST
DTSTART:20261101T070000
END:STANDARD
END:VTIMEZONE
BEGIN:VEVENT
DTSTART;TZID=America/Chicago:20250916T190000
DTEND;TZID=America/Chicago:20250916T203000
DTSTAMP:20260422T164850
CREATED:20250908T193845Z
LAST-MODIFIED:20250909T142416Z
UID:10004087-1758049200-1758054600@www.tedallas.org
SUMMARY:Mussar with Michael Selz Fall 2025
DESCRIPTION:Season of Mussar II is in session from September 16 – December 16\, inviting participants into the Jewish practice of spiritual ethics that has guided seekers for centuries. Rooted in teachings created by The Mussar Institute and endorsed by the Union for Reform Judaism\, Mussar helps cultivate the qualities of the inner mensch by exploring middot—soul-traits such as patience\, forgiveness\, simplicity\, lovingkindness\, strength\, and faith. Open to all regardless of prior Jewish knowledge or Hebrew fluency\, the program blends study\, reflection\, and practice to foster awareness\, balance\, and growth. Through group learning\, partner study\, and personal exercises like journaling and mindful action\, participants engage in a discipline that uncovers the soul’s inner light and offers a path toward wisdom\, wholeness\, and spiritual transformation.
URL:https://www.tedallas.org/event/mussar-with-michael-selz-fall-2025/
LOCATION:Temple Emanu-El Barbara Zale Center for Living History
CATEGORIES:Adult Learning,Prayer and Spirituality
ATTACH;FMTTYPE=image/jpeg:https://www.tedallas.org/wp-content/uploads/2025/09/mussar-web-scaled.jpg
ORGANIZER;CN="Sammy Weyser":MAILTO:sweyser@tedallas.org
END:VEVENT
BEGIN:VEVENT
DTSTART;TZID=America/Chicago:20250917T090000
DTEND;TZID=America/Chicago:20250917T094500
DTSTAMP:20260422T164850
CREATED:20250818T170940Z
LAST-MODIFIED:20250909T142152Z
UID:10004032-1758099600-1758102300@www.tedallas.org
SUMMARY:Opening Your Heart with Psalm 27
DESCRIPTION:Psalms have long brought comfort to people on difficult days\, hope and courage at challenging times\, in both personal and communal life\, for us as individuals and as Jewish people. Psalm 27 guides us through the full range of human emotions over the seven weeks surrounding Rosh Hashanah and Yom Kippur. Join Rabbi Debra Robbins to explore this sustaining and surprising Psalm throughout the sacred season.  The online class includes music\, writing\, reflection and conversation. Please be prepared to turn on your camera as is the custom of this weekly communal gathering. \nWe will use Opening Your Heart with Psalm 27 by Rabbi Debra Robbins which is available at Judaic Treasures or from the CCAR Press\, Opening Your Heart with Psalm 27: A Spiritual Practice for the Jewish New Year.  It is also available as an e-book or as an App.  \nIf you’d like to follow along each day here is the Reader’s Navigation Guide from CCAR Press.\nReader’s Navigation Guide 2025.pdf \nNOTE: In order to have 6 sessions during this time period around the various holy days our class meets on a variety of days\, but always at the same time!.
URL:https://www.tedallas.org/event/returning-to-psalm-27-2025/2025-09-17/
LOCATION:Online on Zoom
CATEGORIES:Adult Learning,Prayer and Spirituality
ATTACH;FMTTYPE=image/jpeg:https://www.tedallas.org/wp-content/uploads/2024/08/Psalm-27-2024-web.jpg
ORGANIZER;CN="Sammy Weyser":MAILTO:sweyser@tedallas.org
END:VEVENT
BEGIN:VEVENT
DTSTART;TZID=America/Chicago:20250919T181500
DTEND;TZID=America/Chicago:20250919T193000
DTSTAMP:20260422T164850
CREATED:20250918T161929Z
LAST-MODIFIED:20251017T163813Z
UID:10004090-1758305700-1758310200@www.tedallas.org
SUMMARY:September 19\, 2025: Shabbat Evening Service
DESCRIPTION:with Rabbi Debra Robbins and Cantor Vicky Glikin | Sermon by Rabbi David Stern
URL:https://www.tedallas.org/event/september-19-2025-shabbat-evening-service/
LOCATION:Temple Emanu-El Stern Chapel
CATEGORIES:Livestream,Prayer and Spirituality
ATTACH;FMTTYPE=image/jpeg:https://www.tedallas.org/wp-content/uploads/2022/08/Stern-Chapel-feature-image.jpg
END:VEVENT
BEGIN:VEVENT
DTSTART;TZID=America/Chicago:20250920T090000
DTEND;TZID=America/Chicago:20250920T103000
DTSTAMP:20260422T164850
CREATED:20240318T154426Z
LAST-MODIFIED:20260102T200915Z
UID:10003811-1758358800-1758364200@www.tedallas.org
SUMMARY:Chever Torah
DESCRIPTION:
URL:https://www.tedallas.org/event/chever-torah-2022-09-24-3-2/2025-09-20/
LOCATION:Temple Emanu-El Barbara Zale Center for Living History
CATEGORIES:Adult Learning,Prayer and Spirituality
ATTACH;FMTTYPE=image/jpeg:https://www.tedallas.org/wp-content/uploads/2024/03/chever-torah-web.jpg
END:VEVENT
BEGIN:VEVENT
DTSTART;TZID=America/Chicago:20250920T103000
DTEND;TZID=America/Chicago:20250920T123000
DTSTAMP:20260422T164850
CREATED:20250918T162040Z
LAST-MODIFIED:20250920T145755Z
UID:10004091-1758364200-1758371400@www.tedallas.org
SUMMARY:September 20\, 2025: Shabbat Morning Service
DESCRIPTION:with Rabbi Kimberly Herzog Cohen and Cantor Hallie Weiner
URL:https://www.tedallas.org/event/september-20-2025-shabbat-morning-service/
LOCATION:Temple Emanu-El Lefkowitz Chapel
CATEGORIES:Livestream,Prayer and Spirituality
ATTACH;FMTTYPE=image/jpeg:https://www.tedallas.org/wp-content/uploads/2022/08/Lefkowitz-feature-image.jpg
END:VEVENT
BEGIN:VEVENT
DTSTART;TZID=America/Chicago:20250922T180000
DTEND;TZID=America/Chicago:20250923T150000
DTSTAMP:20260422T164850
CREATED:20250919T143047Z
LAST-MODIFIED:20250919T143429Z
UID:10004094-1758564000-1758639600@www.tedallas.org
SUMMARY:Rosh Hashanah 2025/5786
DESCRIPTION:Since last Rosh Hashanah\, we have experienced the sweetness of honey and the salt of tears. We have felt anxiety and relief\, loneliness and enduring connection. The stirring shofar sounds remind us that our faith and community can steady us and inspire us with hope. We look forward to many meaningful\, spiritual and connective moments together\, in person and online\, with friends and family\, as our hearts connect to one another and to the Holy one. Shanah Tovah!
URL:https://www.tedallas.org/event/rosh-hashanah-2025/
LOCATION:Temple Emanu-El Dallas
CATEGORIES:Community,High Holy Days,Jewish Holidays,Prayer and Spirituality
ATTACH;FMTTYPE=image/jpeg:https://www.tedallas.org/wp-content/uploads/2025/08/hhd-RH.jpg
END:VEVENT
BEGIN:VEVENT
DTSTART;TZID=America/Chicago:20250925T090000
DTEND;TZID=America/Chicago:20250925T094500
DTSTAMP:20260422T164850
CREATED:20250818T170940Z
LAST-MODIFIED:20250909T142152Z
UID:10004033-1758790800-1758793500@www.tedallas.org
SUMMARY:Opening Your Heart with Psalm 27
DESCRIPTION:Psalms have long brought comfort to people on difficult days\, hope and courage at challenging times\, in both personal and communal life\, for us as individuals and as Jewish people. Psalm 27 guides us through the full range of human emotions over the seven weeks surrounding Rosh Hashanah and Yom Kippur. Join Rabbi Debra Robbins to explore this sustaining and surprising Psalm throughout the sacred season.  The online class includes music\, writing\, reflection and conversation. Please be prepared to turn on your camera as is the custom of this weekly communal gathering. \nWe will use Opening Your Heart with Psalm 27 by Rabbi Debra Robbins which is available at Judaic Treasures or from the CCAR Press\, Opening Your Heart with Psalm 27: A Spiritual Practice for the Jewish New Year.  It is also available as an e-book or as an App.  \nIf you’d like to follow along each day here is the Reader’s Navigation Guide from CCAR Press.\nReader’s Navigation Guide 2025.pdf \nNOTE: In order to have 6 sessions during this time period around the various holy days our class meets on a variety of days\, but always at the same time!.
URL:https://www.tedallas.org/event/returning-to-psalm-27-2025/2025-09-25/
LOCATION:Online on Zoom
CATEGORIES:Adult Learning,Prayer and Spirituality
ATTACH;FMTTYPE=image/jpeg:https://www.tedallas.org/wp-content/uploads/2024/08/Psalm-27-2024-web.jpg
ORGANIZER;CN="Sammy Weyser":MAILTO:sweyser@tedallas.org
END:VEVENT
BEGIN:VEVENT
DTSTART;TZID=America/Chicago:20250926T181500
DTEND;TZID=America/Chicago:20250926T193000
DTSTAMP:20260422T164850
CREATED:20250918T172243Z
LAST-MODIFIED:20251017T163834Z
UID:10004092-1758910500-1758915000@www.tedallas.org
SUMMARY:September 26\, 2025: Shabbat Evening Service
DESCRIPTION:with Cantor Vicky Glikin and Rabbi Kimberly Herzog Cohen | Sermon by Rabbi Debra Robbins
URL:https://www.tedallas.org/event/september-26-2025-shabbat-evening-service/
LOCATION:Temple Emanu-El Stern Chapel
CATEGORIES:Livestream,Prayer and Spirituality
ATTACH;FMTTYPE=image/jpeg:https://www.tedallas.org/wp-content/uploads/2022/08/Stern-Chapel-feature-image.jpg
END:VEVENT
BEGIN:VEVENT
DTSTART;TZID=America/Chicago:20250927T090000
DTEND;TZID=America/Chicago:20250927T103000
DTSTAMP:20260422T164850
CREATED:20240318T154426Z
LAST-MODIFIED:20260102T200915Z
UID:10003812-1758963600-1758969000@www.tedallas.org
SUMMARY:Chever Torah
DESCRIPTION:
URL:https://www.tedallas.org/event/chever-torah-2022-09-24-3-2/2025-09-27/
LOCATION:Temple Emanu-El Barbara Zale Center for Living History
CATEGORIES:Adult Learning,Prayer and Spirituality
ATTACH;FMTTYPE=image/jpeg:https://www.tedallas.org/wp-content/uploads/2024/03/chever-torah-web.jpg
END:VEVENT
BEGIN:VEVENT
DTSTART;TZID=America/Chicago:20250927T103000
DTEND;TZID=America/Chicago:20250927T120000
DTSTAMP:20260422T164850
CREATED:20250918T172913Z
LAST-MODIFIED:20251017T163845Z
UID:10004093-1758969000-1758974400@www.tedallas.org
SUMMARY:September 27\, 2025: Shabbat Morning Service
DESCRIPTION:with Rabbi Michael Lewis and Cantor Hallie Weiner
URL:https://www.tedallas.org/event/september-27-2025-shabbat-morning-service/
LOCATION:Temple Emanu-El Lefkowitz Chapel
CATEGORIES:Livestream,Prayer and Spirituality
ATTACH;FMTTYPE=image/jpeg:https://www.tedallas.org/wp-content/uploads/2022/08/Lefkowitz-feature-image.jpg
END:VEVENT
BEGIN:VEVENT
DTSTART;TZID=America/Chicago:20251001T193000
DTEND;TZID=America/Chicago:20251002T183000
DTSTAMP:20260422T164850
CREATED:20250919T143322Z
LAST-MODIFIED:20250919T143322Z
UID:10004095-1759347000-1759429800@www.tedallas.org
SUMMARY:Yom Kippur 2025/5786
DESCRIPTION:Since last Rosh Hashanah\, we have experienced the sweetness of honey and the salt of tears. We have felt anxiety and relief\, loneliness and enduring connection. The stirring shofar sounds remind us that our faith and community can steady us and inspire us with hope. We look forward to many meaningful\, spiritual and connective moments together\, in person and online\, with friends and family\, as our hearts connect to one another and to the Holy one. G’mar Chatimah Tovah!
URL:https://www.tedallas.org/event/yom-kippur-2025/
LOCATION:Temple Emanu-El Dallas
CATEGORIES:Community,High Holy Days,Jewish Holidays,Prayer and Spirituality
ATTACH;FMTTYPE=image/jpeg:https://www.tedallas.org/wp-content/uploads/2025/09/hhd-YK.jpg
END:VEVENT
BEGIN:VEVENT
DTSTART;TZID=America/Chicago:20251003T181500
DTEND;TZID=America/Chicago:20251003T193000
DTSTAMP:20260422T164850
CREATED:20251003T185620Z
LAST-MODIFIED:20251017T164046Z
UID:10004097-1759515300-1759519800@www.tedallas.org
SUMMARY:October 3\, 2025: Shabbat Evening Service
DESCRIPTION:with Cantor Leslie Niren and Rabbi Michael Lewis
URL:https://www.tedallas.org/event/october-3-2025-shabbat-evening-service/
LOCATION:Temple Emanu-El Stern Chapel
CATEGORIES:Livestream,Prayer and Spirituality
ATTACH;FMTTYPE=image/jpeg:https://www.tedallas.org/wp-content/uploads/2022/08/Stern-Chapel-feature-image.jpg
END:VEVENT
BEGIN:VEVENT
DTSTART;TZID=America/Chicago:20251004T090000
DTEND;TZID=America/Chicago:20251004T103000
DTSTAMP:20260422T164850
CREATED:20240318T154426Z
LAST-MODIFIED:20260102T200915Z
UID:10003813-1759568400-1759573800@www.tedallas.org
SUMMARY:Chever Torah
DESCRIPTION:
URL:https://www.tedallas.org/event/chever-torah-2022-09-24-3-2/2025-10-04/
LOCATION:Temple Emanu-El Barbara Zale Center for Living History
CATEGORIES:Adult Learning,Prayer and Spirituality
ATTACH;FMTTYPE=image/jpeg:https://www.tedallas.org/wp-content/uploads/2024/03/chever-torah-web.jpg
END:VEVENT
BEGIN:VEVENT
DTSTART;TZID=America/Chicago:20251004T103000
DTEND;TZID=America/Chicago:20251004T120000
DTSTAMP:20260422T164850
CREATED:20251003T185739Z
LAST-MODIFIED:20251017T164057Z
UID:10004098-1759573800-1759579200@www.tedallas.org
SUMMARY:October 4\, 2025: Shabbat Morning Service
DESCRIPTION:with Rabbi Kimberly Herzog Cohen and Randy Pearlman\, Cantorial Soloist
URL:https://www.tedallas.org/event/october-4-2025-shabbat-morning-service/
LOCATION:Temple Emanu-El Lefkowitz Chapel
CATEGORIES:Livestream,Prayer and Spirituality
ATTACH;FMTTYPE=image/jpeg:https://www.tedallas.org/wp-content/uploads/2022/08/Lefkowitz-feature-image.jpg
END:VEVENT
BEGIN:VEVENT
DTSTART;TZID=America/Chicago:20251007T103000
DTEND;TZID=America/Chicago:20251007T120000
DTSTAMP:20260422T164850
CREATED:20250829T160706Z
LAST-MODIFIED:20250926T195308Z
UID:10004051-1759833000-1759838400@www.tedallas.org
SUMMARY:October 7\, 2025: Sukkot Morning Festival Service
DESCRIPTION:Our outdoor Sukkot morning service will celebrate the joy of the season and the wonder of God’s world with song and silence\, words of praise and Torah and the lulav and etrog. Together we will also mark the second anniversary of the October 7 terrorist attacks\, honoring the creativity that has emerged in Israel since that day with a special art piece by Yael Sela of the Nova Tribe Community Association and an exhibition of healing and hope by Israeli artist Ira Ginzburg\, provided by the Jewish Federation of Greater Dallas. The morning will conclude with an oneg reception in the courtyard and the opportunity to meet Tal Kuperstein\, cousin of our community Sh’lichah Aya Margalit and father of Bar Kuperstein (age 23)\, who is being held hostage in Gaza. Please dress comfortably for the weather. \nPlease note\, this service is in person only.
URL:https://www.tedallas.org/event/2025-sukkot-morning-festival-service/
LOCATION:Temple Sukkah
CATEGORIES:Jewish Holidays,Prayer and Spirituality
ATTACH;FMTTYPE=image/jpeg:https://www.tedallas.org/wp-content/uploads/2025/08/hhd-sukkot-Web-Event.jpg
END:VEVENT
BEGIN:VEVENT
DTSTART;TZID=America/Chicago:20251008T090000
DTEND;TZID=America/Chicago:20251008T094500
DTSTAMP:20260422T164850
CREATED:20250818T170940Z
LAST-MODIFIED:20250909T142152Z
UID:10004034-1759914000-1759916700@www.tedallas.org
SUMMARY:Opening Your Heart with Psalm 27
DESCRIPTION:Psalms have long brought comfort to people on difficult days\, hope and courage at challenging times\, in both personal and communal life\, for us as individuals and as Jewish people. Psalm 27 guides us through the full range of human emotions over the seven weeks surrounding Rosh Hashanah and Yom Kippur. Join Rabbi Debra Robbins to explore this sustaining and surprising Psalm throughout the sacred season.  The online class includes music\, writing\, reflection and conversation. Please be prepared to turn on your camera as is the custom of this weekly communal gathering. \nWe will use Opening Your Heart with Psalm 27 by Rabbi Debra Robbins which is available at Judaic Treasures or from the CCAR Press\, Opening Your Heart with Psalm 27: A Spiritual Practice for the Jewish New Year.  It is also available as an e-book or as an App.  \nIf you’d like to follow along each day here is the Reader’s Navigation Guide from CCAR Press.\nReader’s Navigation Guide 2025.pdf \nNOTE: In order to have 6 sessions during this time period around the various holy days our class meets on a variety of days\, but always at the same time!.
URL:https://www.tedallas.org/event/returning-to-psalm-27-2025/2025-10-08/
LOCATION:Online on Zoom
CATEGORIES:Adult Learning,Prayer and Spirituality
ATTACH;FMTTYPE=image/jpeg:https://www.tedallas.org/wp-content/uploads/2024/08/Psalm-27-2024-web.jpg
ORGANIZER;CN="Sammy Weyser":MAILTO:sweyser@tedallas.org
END:VEVENT
BEGIN:VEVENT
DTSTART;TZID=America/Chicago:20251010T170000
DTEND;TZID=America/Chicago:20251010T200000
DTSTAMP:20260422T164850
CREATED:20250829T161256Z
LAST-MODIFIED:20251017T164109Z
UID:10004052-1760115600-1760126400@www.tedallas.org
SUMMARY:October 10\, 2025: Sukkot All-In Shabbat
DESCRIPTION:5-6 p.m.: Chavayah: Sukkot HaYotzer | Start the evening with an experiential hour of art projects for all age groups. \n6-7 p.m.: Shabbat service for all ages. \n7-8 p.m.: Festive congregational dinner
URL:https://www.tedallas.org/event/sukkot-all-in-shabbat-2025/
LOCATION:Temple Emanu-El Nasher-Haemisegger Family Atrium
CATEGORIES:Community,Families,Jewish Holidays,Karla & Larry Steinberg Center for Jewish Learning,Livestream,Prayer and Spirituality
ATTACH;FMTTYPE=image/jpeg:https://www.tedallas.org/wp-content/uploads/2025/08/hhd-sukkot-Web-Event.jpg
ORGANIZER;CN="Tal Drori":MAILTO:tdrori@tedallas.org
END:VEVENT
BEGIN:VEVENT
DTSTART;TZID=America/Chicago:20251011T090000
DTEND;TZID=America/Chicago:20251011T103000
DTSTAMP:20260422T164850
CREATED:20240318T154426Z
LAST-MODIFIED:20260102T200915Z
UID:10003814-1760173200-1760178600@www.tedallas.org
SUMMARY:Chever Torah
DESCRIPTION:
URL:https://www.tedallas.org/event/chever-torah-2022-09-24-3-2/2025-10-11/
LOCATION:Temple Emanu-El Barbara Zale Center for Living History
CATEGORIES:Adult Learning,Prayer and Spirituality
ATTACH;FMTTYPE=image/jpeg:https://www.tedallas.org/wp-content/uploads/2024/03/chever-torah-web.jpg
END:VEVENT
BEGIN:VEVENT
DTSTART;TZID=America/Chicago:20251011T103000
DTEND;TZID=America/Chicago:20251011T120000
DTSTAMP:20260422T164850
CREATED:20251009T172118Z
LAST-MODIFIED:20251017T164119Z
UID:10004103-1760178600-1760184000@www.tedallas.org
SUMMARY:October 11\, 2025: Shabbat Morning Service
DESCRIPTION:with Rabbi Kimberly Herzog Cohen and Cantor Hallie Weiner
URL:https://www.tedallas.org/event/october-11-2025-shabbat-morning-service/
LOCATION:Temple Emanu-El Lefkowitz Chapel
CATEGORIES:Livestream,Prayer and Spirituality
ATTACH;FMTTYPE=image/jpeg:https://www.tedallas.org/wp-content/uploads/2022/08/Lefkowitz-feature-image.jpg
END:VEVENT
BEGIN:VEVENT
DTSTART;TZID=America/Chicago:20251011T103000
DTEND;TZID=America/Chicago:20251011T120000
DTSTAMP:20260422T164850
CREATED:20251009T225259Z
LAST-MODIFIED:20251009T225259Z
UID:10004105-1760178600-1760184000@www.tedallas.org
SUMMARY:October 11\, 2025: Kayleigh Potash Bat Mitzvah
DESCRIPTION:
URL:https://www.tedallas.org/event/kayleigh-potash/
LOCATION:Temple Emanu-El Stern Chapel
CATEGORIES:Prayer and Spirituality
ATTACH;FMTTYPE=image/jpeg:https://www.tedallas.org/wp-content/uploads/2022/08/Stern-Chapel-feature-image.jpg
END:VEVENT
BEGIN:VEVENT
DTSTART;TZID=America/Chicago:20251011T163000
DTEND;TZID=America/Chicago:20251011T180000
DTSTAMP:20260422T164850
CREATED:20251009T225403Z
LAST-MODIFIED:20251009T225403Z
UID:10004106-1760200200-1760205600@www.tedallas.org
SUMMARY:October 11\, 2025: Jack Morrow Bar Mitzvah
DESCRIPTION:
URL:https://www.tedallas.org/event/jack-morrow/
LOCATION:Temple Emanu-El Stern Chapel
CATEGORIES:Prayer and Spirituality
ATTACH;FMTTYPE=image/jpeg:https://www.tedallas.org/wp-content/uploads/2022/08/Stern-Chapel-feature-image.jpg
END:VEVENT
BEGIN:VEVENT
DTSTART;TZID=America/Chicago:20251013T170000
DTEND;TZID=America/Chicago:20251013T190000
DTSTAMP:20260422T164850
CREATED:20250829T162127Z
LAST-MODIFIED:20251017T164131Z
UID:10004053-1760374800-1760382000@www.tedallas.org
SUMMARY:October 13\, 2025: Simchat Torah Evening Service
DESCRIPTION:5 p.m.: Casual Congregational Dinner \n6 p.m.: Simchat Torah Evening Service  \nThis joyful and energetic evening will include consecration of our youngest learners\, unrolling the Torah from beginning to end\, Torah reading by post b’nai mitzvah students\, singing and dancing with the Torah and our sixth-grade siddur ceremony. Join us for cookies and ice cream following the service.
URL:https://www.tedallas.org/event/2025-simchat-torah-evening/
LOCATION:Temple Emanu-El Stern Chapel
CATEGORIES:Community,Families,Jewish Holidays,Karla & Larry Steinberg Center for Jewish Learning,Livestream,Prayer and Spirituality
ATTACH;FMTTYPE=image/jpeg:https://www.tedallas.org/wp-content/uploads/2025/08/hhd-simchat-torah.jpg
ORGANIZER;CN="Tal Drori":MAILTO:tdrori@tedallas.org
END:VEVENT
BEGIN:VEVENT
DTSTART;TZID=America/Chicago:20251014T103000
DTEND;TZID=America/Chicago:20251014T120000
DTSTAMP:20260422T164850
CREATED:20250829T162249Z
LAST-MODIFIED:20251017T164142Z
UID:10004054-1760437800-1760443200@www.tedallas.org
SUMMARY:October 14\, 2025: Simchat Torah Morning Festival Service with Yizkor
DESCRIPTION:This service includes the opportunity to read the end and the beginning of the Torah and to remember your loved ones.
URL:https://www.tedallas.org/event/2025-simchat-torah-festival-service/
LOCATION:Temple Emanu-El Stern Chapel
CATEGORIES:Jewish Holidays,Livestream,Prayer and Spirituality
ATTACH;FMTTYPE=image/jpeg:https://www.tedallas.org/wp-content/uploads/2025/08/hhd-simchat-torah.jpg
END:VEVENT
BEGIN:VEVENT
DTSTART;TZID=America/Chicago:20251017T181500
DTEND;TZID=America/Chicago:20251017T193000
DTSTAMP:20260422T164850
CREATED:20251016T200126Z
LAST-MODIFIED:20251105T173512Z
UID:10004109-1760724900-1760729400@www.tedallas.org
SUMMARY:October 17\, 2025: Shabbat Evening Service
DESCRIPTION:
URL:https://www.tedallas.org/event/october-17-2025-shabbat-evening-service/
LOCATION:Temple Emanu-El Stern Chapel
CATEGORIES:Livestream,Prayer and Spirituality
ATTACH;FMTTYPE=image/jpeg:https://www.tedallas.org/wp-content/uploads/2022/08/Stern-Chapel-feature-image.jpg
END:VEVENT
BEGIN:VEVENT
DTSTART;TZID=America/Chicago:20251018T090000
DTEND;TZID=America/Chicago:20251018T103000
DTSTAMP:20260422T164850
CREATED:20240318T154426Z
LAST-MODIFIED:20260102T200915Z
UID:10003815-1760778000-1760783400@www.tedallas.org
SUMMARY:Chever Torah
DESCRIPTION:
URL:https://www.tedallas.org/event/chever-torah-2022-09-24-3-2/2025-10-18/
LOCATION:Temple Emanu-El Barbara Zale Center for Living History
CATEGORIES:Adult Learning,Prayer and Spirituality
ATTACH;FMTTYPE=image/jpeg:https://www.tedallas.org/wp-content/uploads/2024/03/chever-torah-web.jpg
END:VEVENT
BEGIN:VEVENT
DTSTART;TZID=America/Chicago:20251018T103000
DTEND;TZID=America/Chicago:20251018T120000
DTSTAMP:20260422T164850
CREATED:20251016T200233Z
LAST-MODIFIED:20251105T173442Z
UID:10004110-1760783400-1760788800@www.tedallas.org
SUMMARY:October 18\, 2025: Shabbat Morning Service
DESCRIPTION:
URL:https://www.tedallas.org/event/october-18-2025-shabbat-morning-service/
LOCATION:Temple Emanu-El Lefkowitz Chapel
CATEGORIES:Livestream,Prayer and Spirituality
ATTACH;FMTTYPE=image/jpeg:https://www.tedallas.org/wp-content/uploads/2022/08/Lefkowitz-feature-image.jpg
END:VEVENT
BEGIN:VEVENT
DTSTART;TZID=America/Chicago:20251018T103000
DTEND;TZID=America/Chicago:20251018T120000
DTSTAMP:20260422T164850
CREATED:20251016T215603Z
LAST-MODIFIED:20251016T215603Z
UID:10004112-1760783400-1760788800@www.tedallas.org
SUMMARY:October 18\, 2025: Caroline & Shayna Cooper B'nai Mitzvah
DESCRIPTION:
URL:https://www.tedallas.org/event/caroline-and-shayna-cooper/
LOCATION:Temple Emanu-El Stern Chapel
CATEGORIES:Prayer and Spirituality
ATTACH;FMTTYPE=image/jpeg:https://www.tedallas.org/wp-content/uploads/2022/08/Stern-Chapel-feature-image.jpg
END:VEVENT
BEGIN:VEVENT
DTSTART;TZID=America/Chicago:20251018T163000
DTEND;TZID=America/Chicago:20251018T180000
DTSTAMP:20260422T164850
CREATED:20251016T215843Z
LAST-MODIFIED:20251016T215843Z
UID:10004113-1760805000-1760810400@www.tedallas.org
SUMMARY:October 18\, 2025: Ella Bogdanow Bat Mitzvah
DESCRIPTION:
URL:https://www.tedallas.org/event/ella-bogdanow/
LOCATION:Temple Emanu-El Stern Chapel
CATEGORIES:Prayer and Spirituality
ATTACH;FMTTYPE=image/jpeg:https://www.tedallas.org/wp-content/uploads/2022/08/Stern-Chapel-feature-image.jpg
END:VEVENT
BEGIN:VEVENT
DTSTART;TZID=America/Chicago:20251024T173000
DTEND;TZID=America/Chicago:20251024T183000
DTSTAMP:20260422T164850
CREATED:20251006T204603Z
LAST-MODIFIED:20251013T185457Z
UID:10004099-1761327000-1761330600@www.tedallas.org
SUMMARY:October Tot Shabbat
DESCRIPTION:Calling all families with children ages 0-5 for a joyful Tot Shabbat.  Wear your costume as we sing\, dance and welcome Shabbat with this fun\, interactive service made just for little ones and their families.
URL:https://www.tedallas.org/event/october-tot-shabbat/
LOCATION:Temple Emanu-El Haas Amphitheater and Ratner Courtyard
CATEGORIES:Early Childhood,Families,Prayer and Spirituality
ATTACH;FMTTYPE=image/jpeg:https://www.tedallas.org/wp-content/uploads/2022/07/Tot-Shabbat-website.jpg
ORGANIZER;CN="Erica Matsil":MAILTO:ematsil@tedallas.org
END:VEVENT
BEGIN:VEVENT
DTSTART;TZID=America/Chicago:20251024T181500
DTEND;TZID=America/Chicago:20251024T193000
DTSTAMP:20260422T164850
CREATED:20250829T171610Z
LAST-MODIFIED:20251105T173243Z
UID:10004070-1761329700-1761334200@www.tedallas.org
SUMMARY:October 24\, 2025: Shabbat Evening Service with Dr. Mark Chancey
DESCRIPTION:Join us for Shabbat Evening Services featuring the Rabbi David Lefkowitz Memorial Lecture. We are honored to welcome back Dr. Mark Chancey\, Professor of Religious Studies at SMU and a nationally recognized expert on religion in public schools\, for his fifth presentation at Temple Emanu-El. \nDr. Chancey’s keynote address\, delivered during the service\, will explore the issues and controversies surrounding religion in Texas classrooms today. From the Bluebonnet curriculum to proposed displays of the Ten Commandments\, prayer\, and Bible reading in schools\, he will offer insight into the legal questions\, challenges and strategies for navigating this new reality.
URL:https://www.tedallas.org/event/october-24-2025-shabbat-evening-service/
LOCATION:Temple Emanu-El Stern Chapel
CATEGORIES:Adult Learning,Community,Livestream,Prayer and Spirituality
ATTACH;FMTTYPE=image/jpeg:https://www.tedallas.org/wp-content/uploads/2025/09/October-MarkC-1.jpg
ORGANIZER;CN="Sammy Weyser":MAILTO:sweyser@tedallas.org
END:VEVENT
END:VCALENDAR