BEGIN:VCALENDAR
VERSION:2.0
PRODID:-//Temple Emanu-El - ECPv6.15.20//NONSGML v1.0//EN
CALSCALE:GREGORIAN
METHOD:PUBLISH
X-ORIGINAL-URL:https://www.tedallas.org
X-WR-CALDESC:Events for Temple Emanu-El
REFRESH-INTERVAL;VALUE=DURATION:PT1H
X-Robots-Tag:noindex
X-PUBLISHED-TTL:PT1H
BEGIN:VTIMEZONE
TZID:UTC
BEGIN:STANDARD
TZOFFSETFROM:+0000
TZOFFSETTO:+0000
TZNAME:UTC
DTSTART:20230101T000000
END:STANDARD
END:VTIMEZONE
BEGIN:VTIMEZONE
TZID:America/Chicago
BEGIN:DAYLIGHT
TZOFFSETFROM:-0600
TZOFFSETTO:-0500
TZNAME:CDT
DTSTART:20230312T080000
END:DAYLIGHT
BEGIN:STANDARD
TZOFFSETFROM:-0500
TZOFFSETTO:-0600
TZNAME:CST
DTSTART:20231105T070000
END:STANDARD
BEGIN:DAYLIGHT
TZOFFSETFROM:-0600
TZOFFSETTO:-0500
TZNAME:CDT
DTSTART:20240310T080000
END:DAYLIGHT
BEGIN:STANDARD
TZOFFSETFROM:-0500
TZOFFSETTO:-0600
TZNAME:CST
DTSTART:20241103T070000
END:STANDARD
BEGIN:DAYLIGHT
TZOFFSETFROM:-0600
TZOFFSETTO:-0500
TZNAME:CDT
DTSTART:20250309T080000
END:DAYLIGHT
BEGIN:STANDARD
TZOFFSETFROM:-0500
TZOFFSETTO:-0600
TZNAME:CST
DTSTART:20251102T070000
END:STANDARD
END:VTIMEZONE
BEGIN:VEVENT
DTSTART;TZID=UTC:20241012T090000
DTEND;TZID=UTC:20241012T090000
DTSTAMP:20260422T060845
CREATED:20220721T003836Z
LAST-MODIFIED:20240730T212443Z
UID:10000671-1728723600-1728723600@www.tedallas.org
SUMMARY:Yom Kippur Tots Service
DESCRIPTION:Geared towards families with children age birth-kindergarten. Learn more about the 2024/5785 High Holy Days season here.
URL:https://www.tedallas.org/event/yom-kippur-tots-service/
LOCATION:Temple Emanu-El Stern Chapel
CATEGORIES:Early Childhood,High Holy Days,Prayer and Spirituality
ATTACH;FMTTYPE=image/jpeg:https://www.tedallas.org/wp-content/uploads/2024/07/HHD-website-event.jpg
END:VEVENT
BEGIN:VEVENT
DTSTART;TZID=America/Chicago:20241012T090000
DTEND;TZID=America/Chicago:20241012T103000
DTSTAMP:20260422T060845
CREATED:20240318T154426Z
LAST-MODIFIED:20260102T200915Z
UID:10001174-1728723600-1728729000@www.tedallas.org
SUMMARY:Chever Torah
DESCRIPTION:
URL:https://www.tedallas.org/event/chever-torah-2022-09-24-3-2/2024-10-12/
LOCATION:Temple Emanu-El Barbara Zale Center for Living History
CATEGORIES:Adult Learning,Prayer and Spirituality
ATTACH;FMTTYPE=image/jpeg:https://www.tedallas.org/wp-content/uploads/2024/03/chever-torah-web.jpg
END:VEVENT
BEGIN:VEVENT
DTSTART;TZID=UTC:20241012T100000
DTEND;TZID=UTC:20241012T100000
DTSTAMP:20260422T060845
CREATED:20220721T002924Z
LAST-MODIFIED:20240730T212235Z
UID:10000667-1728727200-1728727200@www.tedallas.org
SUMMARY:Yom Kippur Congregational Morning Service
DESCRIPTION:Learn more about the 2024/5785 High Holy Days season here.
URL:https://www.tedallas.org/event/yom-kippur-congregational-morning-service/
LOCATION:Temple Emanu-El Olan Sancutary
CATEGORIES:High Holy Days,Prayer and Spirituality
ATTACH;FMTTYPE=image/jpeg:https://www.tedallas.org/wp-content/uploads/2024/07/HHD-website-event.jpg
END:VEVENT
BEGIN:VEVENT
DTSTART;TZID=UTC:20241012T103000
DTEND;TZID=UTC:20241012T103000
DTSTAMP:20260422T060845
CREATED:20220721T002752Z
LAST-MODIFIED:20240730T212130Z
UID:10000666-1728729000-1728729000@www.tedallas.org
SUMMARY:Yom Kippur Family Service
DESCRIPTION:Service geared towards families with children in grades K-5.  Learn more about the 2024/5785 High Holy Days season here.
URL:https://www.tedallas.org/event/yom-kippur-family-service/
LOCATION:Temple Emanu-El Stern Chapel
CATEGORIES:High Holy Days,Prayer and Spirituality,Youth Learning + Engagement
ATTACH;FMTTYPE=image/jpeg:https://www.tedallas.org/wp-content/uploads/2024/07/HHD-website-event.jpg
END:VEVENT
BEGIN:VEVENT
DTSTART;TZID=UTC:20241012T150000
DTEND;TZID=UTC:20241012T150000
DTSTAMP:20260422T060845
CREATED:20220721T003557Z
LAST-MODIFIED:20240730T212353Z
UID:10000670-1728745200-1728745200@www.tedallas.org
SUMMARY:Yom Kippur Prayer and Music of the Heart
DESCRIPTION:Learn more about the 2024/5785 High Holy Days season here.
URL:https://www.tedallas.org/event/yom-kippur-prayer-and-music-of-the-heart/
LOCATION:Temple Emanu-El Olan Sancutary
CATEGORIES:High Holy Days,Prayer and Spirituality
ATTACH;FMTTYPE=image/jpeg:https://www.tedallas.org/wp-content/uploads/2024/07/HHD-website-event.jpg
END:VEVENT
BEGIN:VEVENT
DTSTART;TZID=UTC:20241012T163000
DTEND;TZID=UTC:20241012T163000
DTSTAMP:20260422T060845
CREATED:20220721T004131Z
LAST-MODIFIED:20240730T212522Z
UID:10000672-1728750600-1728750600@www.tedallas.org
SUMMARY:Yom Kippur Yizkor Service
DESCRIPTION:
URL:https://www.tedallas.org/event/yom-kippur-yizkor-service/
LOCATION:Temple Emanu-El Olan Sancutary
CATEGORIES:High Holy Days,Prayer and Spirituality
ATTACH;FMTTYPE=image/jpeg:https://www.tedallas.org/wp-content/uploads/2024/07/HHD-website-event.jpg
END:VEVENT
BEGIN:VEVENT
DTSTART;TZID=UTC:20241012T173000
DTEND;TZID=UTC:20241012T173000
DTSTAMP:20260422T060845
CREATED:20220721T004232Z
LAST-MODIFIED:20240730T212607Z
UID:10000673-1728754200-1728754200@www.tedallas.org
SUMMARY:Yom Kippur N'ilah and Havdalah Service
DESCRIPTION:Learn more about the 2024/5785 High Holy Days season here.
URL:https://www.tedallas.org/event/yom-kippur-nilah-and-havdalah-service/
LOCATION:Temple Emanu-El Olan Sancutary
CATEGORIES:High Holy Days,Prayer and Spirituality
ATTACH;FMTTYPE=image/jpeg:https://www.tedallas.org/wp-content/uploads/2024/07/HHD-website-event.jpg
END:VEVENT
BEGIN:VEVENT
DTSTART;TZID=UTC:20241012T183000
DTEND;TZID=UTC:20241012T183000
DTSTAMP:20260422T060845
CREATED:20220721T004421Z
LAST-MODIFIED:20240730T212700Z
UID:10000674-1728757800-1728757800@www.tedallas.org
SUMMARY:Congregational Break Fast
DESCRIPTION:Learn more about the 2024/5785 High Holy Days season here.
URL:https://www.tedallas.org/event/congregational-break-fast/
LOCATION:Temple Emanu-El Tycher Gathering Space
CATEGORIES:High Holy Days,Prayer and Spirituality
ATTACH;FMTTYPE=image/jpeg:https://www.tedallas.org/wp-content/uploads/2024/07/HHD-website-event.jpg
END:VEVENT
BEGIN:VEVENT
DTSTART;TZID=America/Chicago:20241016T090000
DTEND;TZID=America/Chicago:20241016T100000
DTSTAMP:20260422T060845
CREATED:20240829T204322Z
LAST-MODIFIED:20240829T204322Z
UID:10003633-1729069200-1729072800@www.tedallas.org
SUMMARY:Psalm 27: Online Class with Rabbi Debra Robbins
DESCRIPTION:Psalm 27\, with its 14 verses and myriad emotions\, invites us to consider our place in God’s creation and how we\, like our Creator\, can engage in acts of transformation and repair. This Elul marks the sixth season of “Opening Your Heart with Psalm 27” and we return to these words for inspiration\, courage and hope. Please come prepared to journal and turn your cameras on.
URL:https://www.tedallas.org/event/psalm-27-online-class/2024-10-16/
LOCATION:Online on Zoom
CATEGORIES:Adult Learning,High Holy Days,Prayer and Spirituality
ATTACH;FMTTYPE=image/jpeg:https://www.tedallas.org/wp-content/uploads/2024/08/Psalm-27-2024-web.jpg
ORGANIZER;CN="Sammy Weyser":MAILTO:sweyser@tedallas.org
END:VEVENT
BEGIN:VEVENT
DTSTART;TZID=America/Chicago:20241017T103000
DTEND;TZID=America/Chicago:20241017T103000
DTSTAMP:20260422T060845
CREATED:20240909T204931Z
LAST-MODIFIED:20240912T204734Z
UID:10003646-1729161000-1729161000@www.tedallas.org
SUMMARY:Sukkot Festival Service
DESCRIPTION:Celebrate the festival of Sukkot in the Temple sukkah with Rabbi Kimberly Herzog Cohen and Cantor Leslie Niren.
URL:https://www.tedallas.org/event/sukkot-festival-service/
LOCATION:Temple Sukkah
CATEGORIES:Jewish Holidays,Prayer and Spirituality
ATTACH;FMTTYPE=image/jpeg:https://www.tedallas.org/wp-content/uploads/2024/09/Sukkot-website-scaled.jpg
END:VEVENT
BEGIN:VEVENT
DTSTART;TZID=America/Chicago:20241018T170000
DTEND;TZID=America/Chicago:20241018T170000
DTSTAMP:20260422T060845
CREATED:20241009T204533Z
LAST-MODIFIED:20241009T204533Z
UID:10003680-1729270800-1729270800@www.tedallas.org
SUMMARY:Sukkot Ha'Yotzer
DESCRIPTION:Each year during Sukkot\, Kibbutz Nir Yitzhak\, the home of our community Sh’lichah Aya Margalit\, invites people of all ages to come into the sukkah and create art with the guidance of artists from the community.  This year\, Temple will have our very own Sukkot Ha’Yotzer during All-In Shabbat! Join us to learn from Temple artists\, Michelle Beruman\, Marc Dominus\, Cydney Forman\, Presley Lisner\, Liz McCoy\, Beri and Chana Schwitzer\, Megan Sims and Karla Steinberg\, and be guided to create artwork of your own\, including pumpkin decorations\, friendship bracelets and challah covers.
URL:https://www.tedallas.org/event/sukkot-hayotzer/
LOCATION:Temple Emanu-El Nasher-Haemisegger Family Atrium
CATEGORIES:Community,Prayer and Spirituality
ATTACH;FMTTYPE=image/jpeg:https://www.tedallas.org/wp-content/uploads/2024/09/Sukkot-website-scaled.jpg
ORGANIZER;CN="Tal Drori":MAILTO:tdrori@tedallas.org
END:VEVENT
BEGIN:VEVENT
DTSTART;TZID=America/Chicago:20241018T170000
DTEND;TZID=America/Chicago:20241018T203000
DTSTAMP:20260422T060845
CREATED:20240909T205325Z
LAST-MODIFIED:20241030T213910Z
UID:10003647-1729270800-1729283400@www.tedallas.org
SUMMARY:October 18: Sukkot All-In Shabbat with Jacob Spike Kraus
DESCRIPTION:Celebrate Sukkot in a Shabbat service for all generations. The evening begins before the service at 5 p.m. with Sukkot Ha’Yotzer\, a custom from Kibbutz Nir Yitzhak\, the home of our community Sh’lichah Aya Margalit\, that invites people of all ages to come into the sukkah to create art. Enjoy a family-friendly service and congregational dinner followed by an exciting concert with Spike to keep the festive spirit flowing!
URL:https://www.tedallas.org/event/october-18-sukkot-all-in-shabbat/
LOCATION:Temple Emanu-El Nasher-Haemisegger Family Atrium
CATEGORIES:Community,Early Childhood,Families,Jewish Holidays,Livestream,Music, Arts, and Culture,Prayer and Spirituality
ATTACH;FMTTYPE=image/jpeg:https://www.tedallas.org/wp-content/uploads/2024/09/sukkot-with-spike-Website.jpg
ORGANIZER;CN="Tal Drori":MAILTO:tdrori@tedallas.org
END:VEVENT
BEGIN:VEVENT
DTSTART;TZID=America/Chicago:20241019T090000
DTEND;TZID=America/Chicago:20241019T103000
DTSTAMP:20260422T060845
CREATED:20240318T154426Z
LAST-MODIFIED:20260102T200915Z
UID:10001175-1729328400-1729333800@www.tedallas.org
SUMMARY:Chever Torah
DESCRIPTION:
URL:https://www.tedallas.org/event/chever-torah-2022-09-24-3-2/2024-10-19/
LOCATION:Temple Emanu-El Barbara Zale Center for Living History
CATEGORIES:Adult Learning,Prayer and Spirituality
ATTACH;FMTTYPE=image/jpeg:https://www.tedallas.org/wp-content/uploads/2024/03/chever-torah-web.jpg
END:VEVENT
BEGIN:VEVENT
DTSTART;TZID=America/Chicago:20241019T090000
DTEND;TZID=America/Chicago:20241019T103000
DTSTAMP:20260422T060845
CREATED:20240909T205654Z
LAST-MODIFIED:20240918T204343Z
UID:10003648-1729328400-1729333800@www.tedallas.org
SUMMARY:Shabbat Morning Concert with Spike
DESCRIPTION:Calling our Tot Shabbat community and all families with young children! Enjoy a lively Shabbat of music and prayer with Spike for the whole family\, complete with a bagel breakfast.
URL:https://www.tedallas.org/event/shabbat-morning-with-spike/
LOCATION:Temple Emanu-El Nasher-Haemisegger Family Atrium
CATEGORIES:Early Childhood,Families,Music, Arts, and Culture,Prayer and Spirituality
ATTACH;FMTTYPE=image/jpeg:https://www.tedallas.org/wp-content/uploads/2024/09/sukkot-with-spike-Website.jpg
ORGANIZER;CN="Jennifer Richman":MAILTO:jrichman@tedallas.org
END:VEVENT
BEGIN:VEVENT
DTSTART;TZID=America/Chicago:20241019T102500
DTEND;TZID=America/Chicago:20241019T123000
DTSTAMP:20260422T060845
CREATED:20241008T214533Z
LAST-MODIFIED:20241030T214023Z
UID:10003665-1729333500-1729341000@www.tedallas.org
SUMMARY:October 19: Shabbat Morning Service
DESCRIPTION:with Rabbi Kimberly Herzog Cohen and Cantor Hallie Weiner
URL:https://www.tedallas.org/event/october-19-shabbat-morning-service/
LOCATION:Temple Emanu-El Lefkowitz Chapel
CATEGORIES:Livestream,Prayer and Spirituality
ATTACH;FMTTYPE=image/jpeg:https://www.tedallas.org/wp-content/uploads/2022/08/Lefkowitz-feature-image.jpg
END:VEVENT
BEGIN:VEVENT
DTSTART;TZID=America/Chicago:20241019T103000
DTEND;TZID=America/Chicago:20241019T123000
DTSTAMP:20260422T060845
CREATED:20241008T215338Z
LAST-MODIFIED:20241008T215755Z
UID:10003666-1729333800-1729341000@www.tedallas.org
SUMMARY:October 19: Harper Segal Bat Mitzvah
DESCRIPTION:
URL:https://www.tedallas.org/event/harper-segal/
LOCATION:Temple Emanu-El Stern Chapel
CATEGORIES:Prayer and Spirituality
ATTACH;FMTTYPE=image/jpeg:https://www.tedallas.org/wp-content/uploads/2022/08/Stern-Chapel-feature-image.jpg
END:VEVENT
BEGIN:VEVENT
DTSTART;TZID=America/Chicago:20241019T163000
DTEND;TZID=America/Chicago:20241019T180000
DTSTAMP:20260422T060845
CREATED:20241008T215626Z
LAST-MODIFIED:20241008T215626Z
UID:10003668-1729355400-1729360800@www.tedallas.org
SUMMARY:October 19: Ava Whitman Bat Mitzvah
DESCRIPTION:
URL:https://www.tedallas.org/event/ava-whitman/
LOCATION:Temple Emanu-El Stern Chapel
CATEGORIES:Prayer and Spirituality
ATTACH;FMTTYPE=image/jpeg:https://www.tedallas.org/wp-content/uploads/2022/08/Stern-Chapel-feature-image.jpg
END:VEVENT
BEGIN:VEVENT
DTSTART;TZID=America/Chicago:20241023T090000
DTEND;TZID=America/Chicago:20241023T100000
DTSTAMP:20260422T060845
CREATED:20240829T204322Z
LAST-MODIFIED:20240829T204322Z
UID:10003634-1729674000-1729677600@www.tedallas.org
SUMMARY:Psalm 27: Online Class with Rabbi Debra Robbins
DESCRIPTION:Psalm 27\, with its 14 verses and myriad emotions\, invites us to consider our place in God’s creation and how we\, like our Creator\, can engage in acts of transformation and repair. This Elul marks the sixth season of “Opening Your Heart with Psalm 27” and we return to these words for inspiration\, courage and hope. Please come prepared to journal and turn your cameras on.
URL:https://www.tedallas.org/event/psalm-27-online-class/2024-10-23/
LOCATION:Online on Zoom
CATEGORIES:Adult Learning,High Holy Days,Prayer and Spirituality
ATTACH;FMTTYPE=image/jpeg:https://www.tedallas.org/wp-content/uploads/2024/08/Psalm-27-2024-web.jpg
ORGANIZER;CN="Sammy Weyser":MAILTO:sweyser@tedallas.org
END:VEVENT
BEGIN:VEVENT
DTSTART;TZID=America/Chicago:20241023T180000
DTEND;TZID=America/Chicago:20241023T180000
DTSTAMP:20260422T060845
CREATED:20240909T210157Z
LAST-MODIFIED:20241030T214134Z
UID:10003650-1729706400-1729706400@www.tedallas.org
SUMMARY:Simchat Torah Evening Service
DESCRIPTION:Join us for a joyful and energetic evening that will include consecration of our youngest learners\, unrolling the Torah from beginning to end\, singing and dancing with the Torah and our sixth grade siddur ceremony. For those interested\, a family-friend dinner will be available before the service starting at 5 p.m.
URL:https://www.tedallas.org/event/simchat-torah-evening-service/
LOCATION:Temple Emanu-El Stern Chapel
CATEGORIES:Families,Jewish Holidays,Livestream,Prayer and Spirituality,Youth Learning + Engagement
ATTACH;FMTTYPE=image/jpeg:https://www.tedallas.org/wp-content/uploads/2024/09/Simchat-Torah-Website.jpg
ORGANIZER;CN="Tal Drori":MAILTO:tdrori@tedallas.org
END:VEVENT
BEGIN:VEVENT
DTSTART;TZID=America/Chicago:20241024T103000
DTEND;TZID=America/Chicago:20241024T120000
DTSTAMP:20260422T060845
CREATED:20240909T210406Z
LAST-MODIFIED:20241030T214315Z
UID:10003651-1729765800-1729771200@www.tedallas.org
SUMMARY:Simchat Torah Morning and Festival Service with Yizkor
DESCRIPTION:This service includes the opportunity to remember your loved ones. Led by Rabbi Debra Robbins and Cantor Vicky Glikin.
URL:https://www.tedallas.org/event/simchat-torah-festival-service/
LOCATION:Temple Emanu-El Stern Chapel
CATEGORIES:Jewish Holidays,Livestream,Prayer and Spirituality
ATTACH;FMTTYPE=image/jpeg:https://www.tedallas.org/wp-content/uploads/2022/07/Temple-logo-event-image-1.jpg
ORGANIZER;CN="Tal Drori":MAILTO:tdrori@tedallas.org
END:VEVENT
BEGIN:VEVENT
DTSTART;TZID=America/Chicago:20241025T180500
DTEND;TZID=America/Chicago:20241025T200000
DTSTAMP:20260422T060845
CREATED:20241008T215945Z
LAST-MODIFIED:20241030T214345Z
UID:10003670-1729879500-1729886400@www.tedallas.org
SUMMARY:October 25: Shabbat Evening Service
DESCRIPTION:with Cantor Vicky Glikin and Rabbi Michael Lewis | Sermon by Rabbi David Stern
URL:https://www.tedallas.org/event/october-25-shabbat-evening-service/
LOCATION:Temple Emanu-El Stern Chapel
CATEGORIES:Livestream,Prayer and Spirituality
ATTACH;FMTTYPE=image/jpeg:https://www.tedallas.org/wp-content/uploads/2022/08/Stern-Chapel-feature-image.jpg
END:VEVENT
BEGIN:VEVENT
DTSTART;TZID=America/Chicago:20241026T090000
DTEND;TZID=America/Chicago:20241026T103000
DTSTAMP:20260422T060845
CREATED:20240318T154426Z
LAST-MODIFIED:20260102T200915Z
UID:10001176-1729933200-1729938600@www.tedallas.org
SUMMARY:Chever Torah
DESCRIPTION:
URL:https://www.tedallas.org/event/chever-torah-2022-09-24-3-2/2024-10-26/
LOCATION:Temple Emanu-El Barbara Zale Center for Living History
CATEGORIES:Adult Learning,Prayer and Spirituality
ATTACH;FMTTYPE=image/jpeg:https://www.tedallas.org/wp-content/uploads/2024/03/chever-torah-web.jpg
END:VEVENT
BEGIN:VEVENT
DTSTART;TZID=America/Chicago:20241026T102000
DTEND;TZID=America/Chicago:20241026T123000
DTSTAMP:20260422T060845
CREATED:20241008T220105Z
LAST-MODIFIED:20241030T214458Z
UID:10003671-1729938000-1729945800@www.tedallas.org
SUMMARY:October 26: Shabbat Morning Service
DESCRIPTION:with Rabbi Michael Lewis and Randy Pearlman\, Cantorial Soloist
URL:https://www.tedallas.org/event/october-26-shabbat-morning-service/
LOCATION:Temple Emanu-El Lefkowitz Chapel
CATEGORIES:Livestream,Prayer and Spirituality
ATTACH;FMTTYPE=image/jpeg:https://www.tedallas.org/wp-content/uploads/2022/08/Lefkowitz-feature-image.jpg
END:VEVENT
BEGIN:VEVENT
DTSTART;TZID=America/Chicago:20241026T103000
DTEND;TZID=America/Chicago:20241026T123000
DTSTAMP:20260422T060845
CREATED:20241008T215506Z
LAST-MODIFIED:20241008T215506Z
UID:10003667-1729938600-1729945800@www.tedallas.org
SUMMARY:October 26: Alexandra Leib Bat Mitzvah
DESCRIPTION:
URL:https://www.tedallas.org/event/alexandra-leib/
LOCATION:Temple Emanu-El Olan Sancutary
CATEGORIES:Prayer and Spirituality
ATTACH;FMTTYPE=image/jpeg:https://www.tedallas.org/wp-content/uploads/2023/08/Olan-Web-scaled.jpg
END:VEVENT
BEGIN:VEVENT
DTSTART;TZID=America/Chicago:20241026T163000
DTEND;TZID=America/Chicago:20241026T173000
DTSTAMP:20260422T060845
CREATED:20241008T215737Z
LAST-MODIFIED:20241008T215737Z
UID:10003669-1729960200-1729963800@www.tedallas.org
SUMMARY:October 26: Abigail Goldman Bat Mitzvah
DESCRIPTION:
URL:https://www.tedallas.org/event/abigail-goldman/
LOCATION:Temple Emanu-El Stern Chapel
CATEGORIES:Prayer and Spirituality
ATTACH;FMTTYPE=image/jpeg:https://www.tedallas.org/wp-content/uploads/2022/08/Stern-Chapel-feature-image.jpg
END:VEVENT
BEGIN:VEVENT
DTSTART;TZID=America/Chicago:20241101T181000
DTEND;TZID=America/Chicago:20241101T193000
DTSTAMP:20260422T060845
CREATED:20241028T205135Z
LAST-MODIFIED:20241105T215839Z
UID:10003684-1730484600-1730489400@www.tedallas.org
SUMMARY:November 1: Shabbat Evening Service
DESCRIPTION:with Rabbi Kimberly Herzog Cohen and Cantor Leslie Niren | Sermon by Rabbi Michael Lewis
URL:https://www.tedallas.org/event/november-1-shabbat-evening-service/
LOCATION:Temple Emanu-El Stern Chapel
CATEGORIES:Livestream,Prayer and Spirituality
ATTACH;FMTTYPE=image/jpeg:https://www.tedallas.org/wp-content/uploads/2022/08/Stern-Chapel-feature-image.jpg
END:VEVENT
BEGIN:VEVENT
DTSTART;TZID=America/Chicago:20241102T090000
DTEND;TZID=America/Chicago:20241102T103000
DTSTAMP:20260422T060845
CREATED:20241030T195354Z
LAST-MODIFIED:20241030T195543Z
UID:10001177-1730538000-1730543400@www.tedallas.org
SUMMARY:Chever Torah
DESCRIPTION:Supplemental information can be viewed here.
URL:https://www.tedallas.org/event/chever-torah-2022-09-24-3-2-2/
LOCATION:Temple Emanu-El Barbara Zale Center for Living History
CATEGORIES:Adult Learning,Prayer and Spirituality
ATTACH;FMTTYPE=image/jpeg:https://www.tedallas.org/wp-content/uploads/2022/07/Temple-logo-event-image-1.jpg
ORGANIZER;CN="Sammy Weyser":MAILTO:sweyser@tedallas.org
END:VEVENT
BEGIN:VEVENT
DTSTART;TZID=America/Chicago:20241102T103000
DTEND;TZID=America/Chicago:20241102T130000
DTSTAMP:20260422T060845
CREATED:20240830T194617Z
LAST-MODIFIED:20241105T215800Z
UID:10003635-1730543400-1730552400@www.tedallas.org
SUMMARY:November 2: Samuel Noam Leybovich-Glikin Bar Mitzvah
DESCRIPTION:With great love\, joy and pride Cantor Vicky Glikin & Vlad Leybovich invite you to join them as their son\, Samuel Noam\, is called to the torah as a Bar Mitzvah. The congregation is invited to attend the service as well as a luncheon to follow. RSVP below.
URL:https://www.tedallas.org/event/samuel-noam/
LOCATION:Temple Emanu-El Stern Chapel
CATEGORIES:Community,Livestream,Prayer and Spirituality
ATTACH;FMTTYPE=image/jpeg:https://www.tedallas.org/wp-content/uploads/2022/08/Stern-Chapel-feature-image.jpg
END:VEVENT
BEGIN:VEVENT
DTSTART;TZID=America/Chicago:20241102T163000
DTEND;TZID=America/Chicago:20241102T180000
DTSTAMP:20260422T060845
CREATED:20241028T205530Z
LAST-MODIFIED:20241105T215944Z
UID:10003685-1730565000-1730570400@www.tedallas.org
SUMMARY:November 2: Ella Seidenstein Bat Mitzvah
DESCRIPTION:
URL:https://www.tedallas.org/event/ella-seidenstein/
LOCATION:Temple Emanu-El Stern Chapel
CATEGORIES:Prayer and Spirituality
ATTACH;FMTTYPE=image/jpeg:https://www.tedallas.org/wp-content/uploads/2022/08/Stern-Chapel-feature-image.jpg
END:VEVENT
BEGIN:VEVENT
DTSTART;TZID=America/Chicago:20241108T180500
DTEND;TZID=America/Chicago:20241108T200000
DTSTAMP:20260422T060845
CREATED:20241105T205714Z
LAST-MODIFIED:20241115T193449Z
UID:10003696-1731089100-1731096000@www.tedallas.org
SUMMARY:November 8: Shabbat Evening Service
DESCRIPTION:with Rabbi Debra Robbins and Cantor Vicky Glikin | Sermon by Rabbi David Stern
URL:https://www.tedallas.org/event/november-8-shabbat-evening-service/
LOCATION:Temple Emanu-El Stern Chapel
CATEGORIES:Livestream,Prayer and Spirituality
ATTACH;FMTTYPE=image/jpeg:https://www.tedallas.org/wp-content/uploads/2022/08/Stern-Chapel-feature-image.jpg
END:VEVENT
END:VCALENDAR