BEGIN:VCALENDAR
VERSION:2.0
PRODID:-//Temple Emanu-El - ECPv6.15.20//NONSGML v1.0//EN
CALSCALE:GREGORIAN
METHOD:PUBLISH
X-WR-CALNAME:Temple Emanu-El
X-ORIGINAL-URL:https://www.tedallas.org
X-WR-CALDESC:Events for Temple Emanu-El
REFRESH-INTERVAL;VALUE=DURATION:PT1H
X-Robots-Tag:noindex
X-PUBLISHED-TTL:PT1H
BEGIN:VTIMEZONE
TZID:America/Chicago
BEGIN:DAYLIGHT
TZOFFSETFROM:-0600
TZOFFSETTO:-0500
TZNAME:CDT
DTSTART:20250309T080000
END:DAYLIGHT
BEGIN:STANDARD
TZOFFSETFROM:-0500
TZOFFSETTO:-0600
TZNAME:CST
DTSTART:20251102T070000
END:STANDARD
BEGIN:DAYLIGHT
TZOFFSETFROM:-0600
TZOFFSETTO:-0500
TZNAME:CDT
DTSTART:20260308T080000
END:DAYLIGHT
BEGIN:STANDARD
TZOFFSETFROM:-0500
TZOFFSETTO:-0600
TZNAME:CST
DTSTART:20261101T070000
END:STANDARD
BEGIN:DAYLIGHT
TZOFFSETFROM:-0600
TZOFFSETTO:-0500
TZNAME:CDT
DTSTART:20270314T080000
END:DAYLIGHT
BEGIN:STANDARD
TZOFFSETFROM:-0500
TZOFFSETTO:-0600
TZNAME:CST
DTSTART:20271107T070000
END:STANDARD
END:VTIMEZONE
BEGIN:VEVENT
DTSTART;TZID=America/Chicago:20260509T103000
DTEND;TZID=America/Chicago:20260509T130000
DTSTAMP:20260422T052733
CREATED:20260416T165128Z
LAST-MODIFIED:20260416T165128Z
UID:10004415-1778322600-1778331600@www.tedallas.org
SUMMARY:Shabbat of Appreciation for Cantor Hallie Weiner
DESCRIPTION:Temple has loved being a part of Cantor Weiner’s journey to the cantorate and are excited to celebrate her as she spreads her wings and moves to Pittsburgh for a cantorial position. Let’s show our appreciation to Cantor Weiner for the many ways she has touched our lives. The congregation is invited to a Kiddush luncheon following the service\, please register to attend below.
URL:https://www.tedallas.org/event/appreciation-for-cantor-hallie-weiner/
LOCATION:Temple Emanu-El Lefkowitz Chapel
CATEGORIES:Community,Prayer and Spirituality
ATTACH;FMTTYPE=image/jpeg:https://www.tedallas.org/wp-content/uploads/2026/04/CHW_Shabbat_Web-1.jpg
ORGANIZER;CN="Martha Bowden":MAILTO:mbowden@tedallas.org
END:VEVENT
BEGIN:VEVENT
DTSTART;TZID=America/Chicago:20260515T181500
DTEND;TZID=America/Chicago:20260515T203000
DTSTAMP:20260422T052733
CREATED:20260415T190010Z
LAST-MODIFIED:20260416T152706Z
UID:10004414-1778868900-1778877000@www.tedallas.org
SUMMARY:Shabbat Service of Gratitude for Cantor Leslie Niren
DESCRIPTION:Join us for a special Shabbat evening as we honor Cantor Leslie Niren for 16 years of dedicated service to our Temple community. \nCantor Niren has shared her love of Judaism\, deep commitment to our youth and teens\, creative leadership in worship and Purim spiels\, passion for Israel and even her culinary skills throughout her years as both a full-time cantor and student cantor. She has comforted us in times of loss and uplifted us during simchas. This evening is an opportunity to express our heartfelt gratitude. \nFollowing the service\, we invite you to a congregational dinner as we celebrate and thank Cantor Niren together.
URL:https://www.tedallas.org/event/service-of-gratitude-for-cantor-niren/
LOCATION:Temple Emanu-El Stern Chapel
CATEGORIES:Community,Prayer and Spirituality
ATTACH;FMTTYPE=image/jpeg:https://www.tedallas.org/wp-content/uploads/2026/04/CLN_tribute_web.jpg
ORGANIZER;CN="Martha Bowden":MAILTO:mbowden@tedallas.org
END:VEVENT
BEGIN:VEVENT
DTSTART;TZID=America/Chicago:20260516T090000
DTEND;TZID=America/Chicago:20260516T103000
DTSTAMP:20260422T052733
CREATED:20260102T200835Z
LAST-MODIFIED:20260316T165146Z
UID:10004286-1778922000-1778927400@www.tedallas.org
SUMMARY:Torah Study: Our Chever Torah
DESCRIPTION:
URL:https://www.tedallas.org/event/chever-torah-2022-09-24-3-2-4/2026-05-16/
LOCATION:Temple Emanu-El Barbara Zale Center for Living History
CATEGORIES:Adult Learning,Prayer and Spirituality
ATTACH;FMTTYPE=image/jpeg:https://www.tedallas.org/wp-content/uploads/2024/03/chever-torah-web.jpg
END:VEVENT
BEGIN:VEVENT
DTSTART;TZID=America/Chicago:20260523T090000
DTEND;TZID=America/Chicago:20260523T103000
DTSTAMP:20260422T052733
CREATED:20260102T200835Z
LAST-MODIFIED:20260316T165146Z
UID:10004287-1779526800-1779532200@www.tedallas.org
SUMMARY:Torah Study: Our Chever Torah
DESCRIPTION:
URL:https://www.tedallas.org/event/chever-torah-2022-09-24-3-2-4/2026-05-23/
LOCATION:Temple Emanu-El Barbara Zale Center for Living History
CATEGORIES:Adult Learning,Prayer and Spirituality
ATTACH;FMTTYPE=image/jpeg:https://www.tedallas.org/wp-content/uploads/2024/03/chever-torah-web.jpg
END:VEVENT
BEGIN:VEVENT
DTSTART;TZID=America/Chicago:20260523T103000
DTEND;TZID=America/Chicago:20260523T140000
DTSTAMP:20260422T052733
CREATED:20260420T162259Z
LAST-MODIFIED:20260420T162259Z
UID:10004416-1779532200-1779544800@www.tedallas.org
SUMMARY:May 23\, 2026: Shabbat Morning Service
DESCRIPTION:The congregation is cordially invited to an Aufruf honoring the marriage of Rabbi Michael Lewis and Jake Ettinger during the Shabbat morning service on Saturday\, May 23 at 10:30 a.m. in Lefkowitz Chapel. Continue the celebration with a Kiddush luncheon following the service. \nWe kindly request that you let us know that you’re planning to attend the luncheon by registering below.
URL:https://www.tedallas.org/event/shabbat-and-aufruf/
LOCATION:Temple Emanu-El Lefkowitz Chapel
CATEGORIES:Community,Prayer and Spirituality
ATTACH;FMTTYPE=image/jpeg:https://www.tedallas.org/wp-content/uploads/2022/07/Temple-logo-event-image-1.jpg
ORGANIZER;CN="Alice Martinez":MAILTO:amartinez@tedallas.org
END:VEVENT
BEGIN:VEVENT
DTSTART;TZID=America/Chicago:20260530T090000
DTEND;TZID=America/Chicago:20260530T103000
DTSTAMP:20260422T052733
CREATED:20260102T200835Z
LAST-MODIFIED:20260316T165146Z
UID:10004288-1780131600-1780137000@www.tedallas.org
SUMMARY:Torah Study: Our Chever Torah
DESCRIPTION:
URL:https://www.tedallas.org/event/chever-torah-2022-09-24-3-2-4/2026-05-30/
LOCATION:Temple Emanu-El Barbara Zale Center for Living History
CATEGORIES:Adult Learning,Prayer and Spirituality
ATTACH;FMTTYPE=image/jpeg:https://www.tedallas.org/wp-content/uploads/2024/03/chever-torah-web.jpg
END:VEVENT
BEGIN:VEVENT
DTSTART;TZID=America/Chicago:20260606T090000
DTEND;TZID=America/Chicago:20260606T103000
DTSTAMP:20260422T052733
CREATED:20260102T200835Z
LAST-MODIFIED:20260316T165146Z
UID:10004289-1780736400-1780741800@www.tedallas.org
SUMMARY:Torah Study: Our Chever Torah
DESCRIPTION:
URL:https://www.tedallas.org/event/chever-torah-2022-09-24-3-2-4/2026-06-06/
LOCATION:Temple Emanu-El Barbara Zale Center for Living History
CATEGORIES:Adult Learning,Prayer and Spirituality
ATTACH;FMTTYPE=image/jpeg:https://www.tedallas.org/wp-content/uploads/2024/03/chever-torah-web.jpg
END:VEVENT
BEGIN:VEVENT
DTSTART;TZID=America/Chicago:20260613T090000
DTEND;TZID=America/Chicago:20260613T103000
DTSTAMP:20260422T052733
CREATED:20260102T200835Z
LAST-MODIFIED:20260316T165146Z
UID:10004290-1781341200-1781346600@www.tedallas.org
SUMMARY:Torah Study: Our Chever Torah
DESCRIPTION:
URL:https://www.tedallas.org/event/chever-torah-2022-09-24-3-2-4/2026-06-13/
LOCATION:Temple Emanu-El Barbara Zale Center for Living History
CATEGORIES:Adult Learning,Prayer and Spirituality
ATTACH;FMTTYPE=image/jpeg:https://www.tedallas.org/wp-content/uploads/2024/03/chever-torah-web.jpg
END:VEVENT
BEGIN:VEVENT
DTSTART;TZID=America/Chicago:20260620T090000
DTEND;TZID=America/Chicago:20260620T103000
DTSTAMP:20260422T052733
CREATED:20260102T200835Z
LAST-MODIFIED:20260316T165146Z
UID:10004291-1781946000-1781951400@www.tedallas.org
SUMMARY:Torah Study: Our Chever Torah
DESCRIPTION:
URL:https://www.tedallas.org/event/chever-torah-2022-09-24-3-2-4/2026-06-20/
LOCATION:Temple Emanu-El Barbara Zale Center for Living History
CATEGORIES:Adult Learning,Prayer and Spirituality
ATTACH;FMTTYPE=image/jpeg:https://www.tedallas.org/wp-content/uploads/2024/03/chever-torah-web.jpg
END:VEVENT
BEGIN:VEVENT
DTSTART;TZID=America/Chicago:20260627T090000
DTEND;TZID=America/Chicago:20260627T103000
DTSTAMP:20260422T052733
CREATED:20260102T200835Z
LAST-MODIFIED:20260316T165146Z
UID:10004292-1782550800-1782556200@www.tedallas.org
SUMMARY:Torah Study: Our Chever Torah
DESCRIPTION:
URL:https://www.tedallas.org/event/chever-torah-2022-09-24-3-2-4/2026-06-27/
LOCATION:Temple Emanu-El Barbara Zale Center for Living History
CATEGORIES:Adult Learning,Prayer and Spirituality
ATTACH;FMTTYPE=image/jpeg:https://www.tedallas.org/wp-content/uploads/2024/03/chever-torah-web.jpg
END:VEVENT
BEGIN:VEVENT
DTSTART;TZID=America/Chicago:20260704T090000
DTEND;TZID=America/Chicago:20260704T103000
DTSTAMP:20260422T052733
CREATED:20260102T200835Z
LAST-MODIFIED:20260316T165146Z
UID:10004293-1783155600-1783161000@www.tedallas.org
SUMMARY:Torah Study: Our Chever Torah
DESCRIPTION:
URL:https://www.tedallas.org/event/chever-torah-2022-09-24-3-2-4/2026-07-04/
LOCATION:Temple Emanu-El Barbara Zale Center for Living History
CATEGORIES:Adult Learning,Prayer and Spirituality
ATTACH;FMTTYPE=image/jpeg:https://www.tedallas.org/wp-content/uploads/2024/03/chever-torah-web.jpg
END:VEVENT
BEGIN:VEVENT
DTSTART;TZID=America/Chicago:20260711T090000
DTEND;TZID=America/Chicago:20260711T103000
DTSTAMP:20260422T052733
CREATED:20260102T200835Z
LAST-MODIFIED:20260316T165146Z
UID:10004294-1783760400-1783765800@www.tedallas.org
SUMMARY:Torah Study: Our Chever Torah
DESCRIPTION:
URL:https://www.tedallas.org/event/chever-torah-2022-09-24-3-2-4/2026-07-11/
LOCATION:Temple Emanu-El Barbara Zale Center for Living History
CATEGORIES:Adult Learning,Prayer and Spirituality
ATTACH;FMTTYPE=image/jpeg:https://www.tedallas.org/wp-content/uploads/2024/03/chever-torah-web.jpg
END:VEVENT
BEGIN:VEVENT
DTSTART;TZID=America/Chicago:20260718T090000
DTEND;TZID=America/Chicago:20260718T103000
DTSTAMP:20260422T052733
CREATED:20260102T200835Z
LAST-MODIFIED:20260316T165146Z
UID:10004295-1784365200-1784370600@www.tedallas.org
SUMMARY:Torah Study: Our Chever Torah
DESCRIPTION:
URL:https://www.tedallas.org/event/chever-torah-2022-09-24-3-2-4/2026-07-18/
LOCATION:Temple Emanu-El Barbara Zale Center for Living History
CATEGORIES:Adult Learning,Prayer and Spirituality
ATTACH;FMTTYPE=image/jpeg:https://www.tedallas.org/wp-content/uploads/2024/03/chever-torah-web.jpg
END:VEVENT
BEGIN:VEVENT
DTSTART;TZID=America/Chicago:20260725T090000
DTEND;TZID=America/Chicago:20260725T103000
DTSTAMP:20260422T052733
CREATED:20260102T200835Z
LAST-MODIFIED:20260316T165146Z
UID:10004296-1784970000-1784975400@www.tedallas.org
SUMMARY:Torah Study: Our Chever Torah
DESCRIPTION:
URL:https://www.tedallas.org/event/chever-torah-2022-09-24-3-2-4/2026-07-25/
LOCATION:Temple Emanu-El Barbara Zale Center for Living History
CATEGORIES:Adult Learning,Prayer and Spirituality
ATTACH;FMTTYPE=image/jpeg:https://www.tedallas.org/wp-content/uploads/2024/03/chever-torah-web.jpg
END:VEVENT
BEGIN:VEVENT
DTSTART;TZID=America/Chicago:20260801T090000
DTEND;TZID=America/Chicago:20260801T103000
DTSTAMP:20260422T052733
CREATED:20260102T200835Z
LAST-MODIFIED:20260316T165146Z
UID:10004297-1785574800-1785580200@www.tedallas.org
SUMMARY:Torah Study: Our Chever Torah
DESCRIPTION:
URL:https://www.tedallas.org/event/chever-torah-2022-09-24-3-2-4/2026-08-01/
LOCATION:Temple Emanu-El Barbara Zale Center for Living History
CATEGORIES:Adult Learning,Prayer and Spirituality
ATTACH;FMTTYPE=image/jpeg:https://www.tedallas.org/wp-content/uploads/2024/03/chever-torah-web.jpg
END:VEVENT
BEGIN:VEVENT
DTSTART;TZID=America/Chicago:20260808T090000
DTEND;TZID=America/Chicago:20260808T103000
DTSTAMP:20260422T052733
CREATED:20260102T200835Z
LAST-MODIFIED:20260316T165146Z
UID:10004298-1786179600-1786185000@www.tedallas.org
SUMMARY:Torah Study: Our Chever Torah
DESCRIPTION:
URL:https://www.tedallas.org/event/chever-torah-2022-09-24-3-2-4/2026-08-08/
LOCATION:Temple Emanu-El Barbara Zale Center for Living History
CATEGORIES:Adult Learning,Prayer and Spirituality
ATTACH;FMTTYPE=image/jpeg:https://www.tedallas.org/wp-content/uploads/2024/03/chever-torah-web.jpg
END:VEVENT
BEGIN:VEVENT
DTSTART;TZID=America/Chicago:20260815T090000
DTEND;TZID=America/Chicago:20260815T103000
DTSTAMP:20260422T052733
CREATED:20260102T200835Z
LAST-MODIFIED:20260316T165146Z
UID:10004299-1786784400-1786789800@www.tedallas.org
SUMMARY:Torah Study: Our Chever Torah
DESCRIPTION:
URL:https://www.tedallas.org/event/chever-torah-2022-09-24-3-2-4/2026-08-15/
LOCATION:Temple Emanu-El Barbara Zale Center for Living History
CATEGORIES:Adult Learning,Prayer and Spirituality
ATTACH;FMTTYPE=image/jpeg:https://www.tedallas.org/wp-content/uploads/2024/03/chever-torah-web.jpg
END:VEVENT
BEGIN:VEVENT
DTSTART;TZID=America/Chicago:20260822T090000
DTEND;TZID=America/Chicago:20260822T103000
DTSTAMP:20260422T052733
CREATED:20260102T200835Z
LAST-MODIFIED:20260316T165146Z
UID:10004300-1787389200-1787394600@www.tedallas.org
SUMMARY:Torah Study: Our Chever Torah
DESCRIPTION:
URL:https://www.tedallas.org/event/chever-torah-2022-09-24-3-2-4/2026-08-22/
LOCATION:Temple Emanu-El Barbara Zale Center for Living History
CATEGORIES:Adult Learning,Prayer and Spirituality
ATTACH;FMTTYPE=image/jpeg:https://www.tedallas.org/wp-content/uploads/2024/03/chever-torah-web.jpg
END:VEVENT
BEGIN:VEVENT
DTSTART;TZID=America/Chicago:20260829T090000
DTEND;TZID=America/Chicago:20260829T103000
DTSTAMP:20260422T052733
CREATED:20260102T200835Z
LAST-MODIFIED:20260316T165146Z
UID:10004301-1787994000-1787999400@www.tedallas.org
SUMMARY:Torah Study: Our Chever Torah
DESCRIPTION:
URL:https://www.tedallas.org/event/chever-torah-2022-09-24-3-2-4/2026-08-29/
LOCATION:Temple Emanu-El Barbara Zale Center for Living History
CATEGORIES:Adult Learning,Prayer and Spirituality
ATTACH;FMTTYPE=image/jpeg:https://www.tedallas.org/wp-content/uploads/2024/03/chever-torah-web.jpg
END:VEVENT
BEGIN:VEVENT
DTSTART;TZID=America/Chicago:20260905T090000
DTEND;TZID=America/Chicago:20260905T103000
DTSTAMP:20260422T052733
CREATED:20260102T200835Z
LAST-MODIFIED:20260316T165146Z
UID:10004302-1788598800-1788604200@www.tedallas.org
SUMMARY:Torah Study: Our Chever Torah
DESCRIPTION:
URL:https://www.tedallas.org/event/chever-torah-2022-09-24-3-2-4/2026-09-05/
LOCATION:Temple Emanu-El Barbara Zale Center for Living History
CATEGORIES:Adult Learning,Prayer and Spirituality
ATTACH;FMTTYPE=image/jpeg:https://www.tedallas.org/wp-content/uploads/2024/03/chever-torah-web.jpg
END:VEVENT
BEGIN:VEVENT
DTSTART;TZID=America/Chicago:20260912T090000
DTEND;TZID=America/Chicago:20260912T103000
DTSTAMP:20260422T052733
CREATED:20260102T200835Z
LAST-MODIFIED:20260316T165146Z
UID:10004303-1789203600-1789209000@www.tedallas.org
SUMMARY:Torah Study: Our Chever Torah
DESCRIPTION:
URL:https://www.tedallas.org/event/chever-torah-2022-09-24-3-2-4/2026-09-12/
LOCATION:Temple Emanu-El Barbara Zale Center for Living History
CATEGORIES:Adult Learning,Prayer and Spirituality
ATTACH;FMTTYPE=image/jpeg:https://www.tedallas.org/wp-content/uploads/2024/03/chever-torah-web.jpg
END:VEVENT
BEGIN:VEVENT
DTSTART;TZID=America/Chicago:20260919T090000
DTEND;TZID=America/Chicago:20260919T103000
DTSTAMP:20260422T052733
CREATED:20260102T200835Z
LAST-MODIFIED:20260316T165146Z
UID:10004304-1789808400-1789813800@www.tedallas.org
SUMMARY:Torah Study: Our Chever Torah
DESCRIPTION:
URL:https://www.tedallas.org/event/chever-torah-2022-09-24-3-2-4/2026-09-19/
LOCATION:Temple Emanu-El Barbara Zale Center for Living History
CATEGORIES:Adult Learning,Prayer and Spirituality
ATTACH;FMTTYPE=image/jpeg:https://www.tedallas.org/wp-content/uploads/2024/03/chever-torah-web.jpg
END:VEVENT
BEGIN:VEVENT
DTSTART;TZID=America/Chicago:20260926T090000
DTEND;TZID=America/Chicago:20260926T103000
DTSTAMP:20260422T052733
CREATED:20260102T200835Z
LAST-MODIFIED:20260316T165146Z
UID:10004305-1790413200-1790418600@www.tedallas.org
SUMMARY:Torah Study: Our Chever Torah
DESCRIPTION:
URL:https://www.tedallas.org/event/chever-torah-2022-09-24-3-2-4/2026-09-26/
LOCATION:Temple Emanu-El Barbara Zale Center for Living History
CATEGORIES:Adult Learning,Prayer and Spirituality
ATTACH;FMTTYPE=image/jpeg:https://www.tedallas.org/wp-content/uploads/2024/03/chever-torah-web.jpg
END:VEVENT
BEGIN:VEVENT
DTSTART;TZID=America/Chicago:20261003T090000
DTEND;TZID=America/Chicago:20261003T103000
DTSTAMP:20260422T052733
CREATED:20260102T200835Z
LAST-MODIFIED:20260316T165146Z
UID:10004306-1791018000-1791023400@www.tedallas.org
SUMMARY:Torah Study: Our Chever Torah
DESCRIPTION:
URL:https://www.tedallas.org/event/chever-torah-2022-09-24-3-2-4/2026-10-03/
LOCATION:Temple Emanu-El Barbara Zale Center for Living History
CATEGORIES:Adult Learning,Prayer and Spirituality
ATTACH;FMTTYPE=image/jpeg:https://www.tedallas.org/wp-content/uploads/2024/03/chever-torah-web.jpg
END:VEVENT
BEGIN:VEVENT
DTSTART;TZID=America/Chicago:20261010T090000
DTEND;TZID=America/Chicago:20261010T103000
DTSTAMP:20260422T052733
CREATED:20260102T200835Z
LAST-MODIFIED:20260316T165146Z
UID:10004307-1791622800-1791628200@www.tedallas.org
SUMMARY:Torah Study: Our Chever Torah
DESCRIPTION:
URL:https://www.tedallas.org/event/chever-torah-2022-09-24-3-2-4/2026-10-10/
LOCATION:Temple Emanu-El Barbara Zale Center for Living History
CATEGORIES:Adult Learning,Prayer and Spirituality
ATTACH;FMTTYPE=image/jpeg:https://www.tedallas.org/wp-content/uploads/2024/03/chever-torah-web.jpg
END:VEVENT
BEGIN:VEVENT
DTSTART;TZID=America/Chicago:20261017T090000
DTEND;TZID=America/Chicago:20261017T103000
DTSTAMP:20260422T052733
CREATED:20260102T200835Z
LAST-MODIFIED:20260316T165146Z
UID:10004308-1792227600-1792233000@www.tedallas.org
SUMMARY:Torah Study: Our Chever Torah
DESCRIPTION:
URL:https://www.tedallas.org/event/chever-torah-2022-09-24-3-2-4/2026-10-17/
LOCATION:Temple Emanu-El Barbara Zale Center for Living History
CATEGORIES:Adult Learning,Prayer and Spirituality
ATTACH;FMTTYPE=image/jpeg:https://www.tedallas.org/wp-content/uploads/2024/03/chever-torah-web.jpg
END:VEVENT
BEGIN:VEVENT
DTSTART;TZID=America/Chicago:20261024T090000
DTEND;TZID=America/Chicago:20261024T103000
DTSTAMP:20260422T052733
CREATED:20260102T200835Z
LAST-MODIFIED:20260316T165146Z
UID:10004309-1792832400-1792837800@www.tedallas.org
SUMMARY:Torah Study: Our Chever Torah
DESCRIPTION:
URL:https://www.tedallas.org/event/chever-torah-2022-09-24-3-2-4/2026-10-24/
LOCATION:Temple Emanu-El Barbara Zale Center for Living History
CATEGORIES:Adult Learning,Prayer and Spirituality
ATTACH;FMTTYPE=image/jpeg:https://www.tedallas.org/wp-content/uploads/2024/03/chever-torah-web.jpg
END:VEVENT
BEGIN:VEVENT
DTSTART;TZID=America/Chicago:20261031T090000
DTEND;TZID=America/Chicago:20261031T103000
DTSTAMP:20260422T052733
CREATED:20260102T200835Z
LAST-MODIFIED:20260316T165146Z
UID:10004310-1793437200-1793442600@www.tedallas.org
SUMMARY:Torah Study: Our Chever Torah
DESCRIPTION:
URL:https://www.tedallas.org/event/chever-torah-2022-09-24-3-2-4/2026-10-31/
LOCATION:Temple Emanu-El Barbara Zale Center for Living History
CATEGORIES:Adult Learning,Prayer and Spirituality
ATTACH;FMTTYPE=image/jpeg:https://www.tedallas.org/wp-content/uploads/2024/03/chever-torah-web.jpg
END:VEVENT
BEGIN:VEVENT
DTSTART;TZID=America/Chicago:20261107T090000
DTEND;TZID=America/Chicago:20261107T103000
DTSTAMP:20260422T052733
CREATED:20260102T200835Z
LAST-MODIFIED:20260316T165146Z
UID:10004311-1794042000-1794047400@www.tedallas.org
SUMMARY:Torah Study: Our Chever Torah
DESCRIPTION:
URL:https://www.tedallas.org/event/chever-torah-2022-09-24-3-2-4/2026-11-07/
LOCATION:Temple Emanu-El Barbara Zale Center for Living History
CATEGORIES:Adult Learning,Prayer and Spirituality
ATTACH;FMTTYPE=image/jpeg:https://www.tedallas.org/wp-content/uploads/2024/03/chever-torah-web.jpg
END:VEVENT
BEGIN:VEVENT
DTSTART;TZID=America/Chicago:20261114T090000
DTEND;TZID=America/Chicago:20261114T103000
DTSTAMP:20260422T052733
CREATED:20260102T200835Z
LAST-MODIFIED:20260316T165146Z
UID:10004312-1794646800-1794652200@www.tedallas.org
SUMMARY:Torah Study: Our Chever Torah
DESCRIPTION:
URL:https://www.tedallas.org/event/chever-torah-2022-09-24-3-2-4/2026-11-14/
LOCATION:Temple Emanu-El Barbara Zale Center for Living History
CATEGORIES:Adult Learning,Prayer and Spirituality
ATTACH;FMTTYPE=image/jpeg:https://www.tedallas.org/wp-content/uploads/2024/03/chever-torah-web.jpg
END:VEVENT
END:VCALENDAR