BEGIN:VCALENDAR
VERSION:2.0
PRODID:-//Temple Emanu-El - ECPv6.15.20//NONSGML v1.0//EN
CALSCALE:GREGORIAN
METHOD:PUBLISH
X-ORIGINAL-URL:https://www.tedallas.org
X-WR-CALDESC:Events for Temple Emanu-El
REFRESH-INTERVAL;VALUE=DURATION:PT1H
X-Robots-Tag:noindex
X-PUBLISHED-TTL:PT1H
BEGIN:VTIMEZONE
TZID:America/Chicago
BEGIN:DAYLIGHT
TZOFFSETFROM:-0600
TZOFFSETTO:-0500
TZNAME:CDT
DTSTART:20240310T080000
END:DAYLIGHT
BEGIN:STANDARD
TZOFFSETFROM:-0500
TZOFFSETTO:-0600
TZNAME:CST
DTSTART:20241103T070000
END:STANDARD
BEGIN:DAYLIGHT
TZOFFSETFROM:-0600
TZOFFSETTO:-0500
TZNAME:CDT
DTSTART:20250309T080000
END:DAYLIGHT
BEGIN:STANDARD
TZOFFSETFROM:-0500
TZOFFSETTO:-0600
TZNAME:CST
DTSTART:20251102T070000
END:STANDARD
BEGIN:DAYLIGHT
TZOFFSETFROM:-0600
TZOFFSETTO:-0500
TZNAME:CDT
DTSTART:20260308T080000
END:DAYLIGHT
BEGIN:STANDARD
TZOFFSETFROM:-0500
TZOFFSETTO:-0600
TZNAME:CST
DTSTART:20261101T070000
END:STANDARD
END:VTIMEZONE
BEGIN:VEVENT
DTSTART;TZID=America/Chicago:20250905T090000
DTEND;TZID=America/Chicago:20250905T094500
DTSTAMP:20260422T144434
CREATED:20250818T170940Z
LAST-MODIFIED:20250909T142152Z
UID:10004030-1757062800-1757065500@www.tedallas.org
SUMMARY:Opening Your Heart with Psalm 27
DESCRIPTION:Psalms have long brought comfort to people on difficult days\, hope and courage at challenging times\, in both personal and communal life\, for us as individuals and as Jewish people. Psalm 27 guides us through the full range of human emotions over the seven weeks surrounding Rosh Hashanah and Yom Kippur. Join Rabbi Debra Robbins to explore this sustaining and surprising Psalm throughout the sacred season.  The online class includes music\, writing\, reflection and conversation. Please be prepared to turn on your camera as is the custom of this weekly communal gathering. \nWe will use Opening Your Heart with Psalm 27 by Rabbi Debra Robbins which is available at Judaic Treasures or from the CCAR Press\, Opening Your Heart with Psalm 27: A Spiritual Practice for the Jewish New Year.  It is also available as an e-book or as an App.  \nIf you’d like to follow along each day here is the Reader’s Navigation Guide from CCAR Press.\nReader’s Navigation Guide 2025.pdf \nNOTE: In order to have 6 sessions during this time period around the various holy days our class meets on a variety of days\, but always at the same time!.
URL:https://www.tedallas.org/event/returning-to-psalm-27-2025/2025-09-05/
LOCATION:Online on Zoom
CATEGORIES:Adult Learning,Prayer and Spirituality
ATTACH;FMTTYPE=image/jpeg:https://www.tedallas.org/wp-content/uploads/2024/08/Psalm-27-2024-web.jpg
ORGANIZER;CN="Sammy Weyser":MAILTO:sweyser@tedallas.org
END:VEVENT
BEGIN:VEVENT
DTSTART;TZID=America/Chicago:20250905T170000
DTEND;TZID=America/Chicago:20250905T200000
DTSTAMP:20260422T144434
CREATED:20250729T155526Z
LAST-MODIFIED:20251017T163719Z
UID:10004001-1757091600-1757102400@www.tedallas.org
SUMMARY:September 5\, 2025: New Member All-In Shabbat
DESCRIPTION:Start the evening with a pre-oneg nosh and an immersion into Temple’s core values of prayer\, learning\, social justice\, community and Israel\, with interactive activities for all ages. Following the stations\, we gather to meet new and prospective members at this all-ages friendly service with a relaxed vibe. A casual dinner will follow the service. \nIf you have joined Temple since August 2024\, please register for dinner using the option marked “New Member.”
URL:https://www.tedallas.org/event/2025-new-member-all-in-shabbat/
LOCATION:Temple Emanu-El Nasher-Haemisegger Family Atrium
CATEGORIES:Community,Early Childhood,Families,Livestream,Prayer and Spirituality
ATTACH;FMTTYPE=image/jpeg:https://www.tedallas.org/wp-content/uploads/2025/07/New-member-all-in-shabbat-2025.jpg
ORGANIZER;CN="Tal Drori":MAILTO:tdrori@tedallas.org
END:VEVENT
BEGIN:VEVENT
DTSTART;TZID=America/Chicago:20250906T090000
DTEND;TZID=America/Chicago:20250906T103000
DTSTAMP:20260422T144434
CREATED:20240318T154426Z
LAST-MODIFIED:20260102T200915Z
UID:10003809-1757149200-1757154600@www.tedallas.org
SUMMARY:Chever Torah
DESCRIPTION:
URL:https://www.tedallas.org/event/chever-torah-2022-09-24-3-2/2025-09-06/
LOCATION:Temple Emanu-El Barbara Zale Center for Living History
CATEGORIES:Adult Learning,Prayer and Spirituality
ATTACH;FMTTYPE=image/jpeg:https://www.tedallas.org/wp-content/uploads/2024/03/chever-torah-web.jpg
END:VEVENT
BEGIN:VEVENT
DTSTART;TZID=America/Chicago:20250906T103000
DTEND;TZID=America/Chicago:20250906T120000
DTSTAMP:20260422T144434
CREATED:20250829T190710Z
LAST-MODIFIED:20251017T163735Z
UID:10004076-1757154600-1757160000@www.tedallas.org
SUMMARY:September 6\, 2025: Shabbat Morning Service
DESCRIPTION:
URL:https://www.tedallas.org/event/september-6-2025-shabbat-morning-service/
LOCATION:Temple Emanu-El Lefkowitz Chapel
CATEGORIES:Livestream,Prayer and Spirituality
ATTACH;FMTTYPE=image/jpeg:https://www.tedallas.org/wp-content/uploads/2022/08/Lefkowitz-feature-image.jpg
END:VEVENT
BEGIN:VEVENT
DTSTART;TZID=America/Chicago:20250906T103000
DTEND;TZID=America/Chicago:20250906T120000
DTSTAMP:20260422T144434
CREATED:20250829T191414Z
LAST-MODIFIED:20250829T191414Z
UID:10004077-1757154600-1757160000@www.tedallas.org
SUMMARY:September 6\, 2025: Rachel Laude Bat Mitzvah
DESCRIPTION:
URL:https://www.tedallas.org/event/rachel-laude/
LOCATION:Temple Emanu-El Stern Chapel
CATEGORIES:Prayer and Spirituality
ATTACH;FMTTYPE=image/jpeg:https://www.tedallas.org/wp-content/uploads/2022/08/Stern-Chapel-feature-image.jpg
END:VEVENT
BEGIN:VEVENT
DTSTART;TZID=America/Chicago:20250906T163000
DTEND;TZID=America/Chicago:20250906T180000
DTSTAMP:20260422T144434
CREATED:20250829T191525Z
LAST-MODIFIED:20250829T191525Z
UID:10004078-1757176200-1757181600@www.tedallas.org
SUMMARY:September 6\, 2025: Myka Rothlein Bat Mitzvah
DESCRIPTION:
URL:https://www.tedallas.org/event/myka-rothlein/
LOCATION:Temple Emanu-El Stern Chapel
CATEGORIES:Prayer and Spirituality
ATTACH;FMTTYPE=image/jpeg:https://www.tedallas.org/wp-content/uploads/2022/08/Stern-Chapel-feature-image.jpg
END:VEVENT
BEGIN:VEVENT
DTSTART;TZID=America/Chicago:20250910T090000
DTEND;TZID=America/Chicago:20250910T094500
DTSTAMP:20260422T144434
CREATED:20250818T170940Z
LAST-MODIFIED:20250909T142152Z
UID:10004031-1757494800-1757497500@www.tedallas.org
SUMMARY:Opening Your Heart with Psalm 27
DESCRIPTION:Psalms have long brought comfort to people on difficult days\, hope and courage at challenging times\, in both personal and communal life\, for us as individuals and as Jewish people. Psalm 27 guides us through the full range of human emotions over the seven weeks surrounding Rosh Hashanah and Yom Kippur. Join Rabbi Debra Robbins to explore this sustaining and surprising Psalm throughout the sacred season.  The online class includes music\, writing\, reflection and conversation. Please be prepared to turn on your camera as is the custom of this weekly communal gathering. \nWe will use Opening Your Heart with Psalm 27 by Rabbi Debra Robbins which is available at Judaic Treasures or from the CCAR Press\, Opening Your Heart with Psalm 27: A Spiritual Practice for the Jewish New Year.  It is also available as an e-book or as an App.  \nIf you’d like to follow along each day here is the Reader’s Navigation Guide from CCAR Press.\nReader’s Navigation Guide 2025.pdf \nNOTE: In order to have 6 sessions during this time period around the various holy days our class meets on a variety of days\, but always at the same time!.
URL:https://www.tedallas.org/event/returning-to-psalm-27-2025/2025-09-10/
LOCATION:Online on Zoom
CATEGORIES:Adult Learning,Prayer and Spirituality
ATTACH;FMTTYPE=image/jpeg:https://www.tedallas.org/wp-content/uploads/2024/08/Psalm-27-2024-web.jpg
ORGANIZER;CN="Sammy Weyser":MAILTO:sweyser@tedallas.org
END:VEVENT
BEGIN:VEVENT
DTSTART;TZID=America/Chicago:20250910T183000
DTEND;TZID=America/Chicago:20250910T200000
DTSTAMP:20260422T144434
CREATED:20250829T160210Z
LAST-MODIFIED:20250829T160210Z
UID:10004050-1757529000-1757534400@www.tedallas.org
SUMMARY:Judaism Unfiltered: Opening our Eyes to the Wonders Around Us
DESCRIPTION:Prepare for the High Holy Days with Rabbi Lewis as we explore Rabbi Abraham Joshua Heschel’s perspective on finding wonder and awesomeness in the world around us. At the end\, we will explore some Jewish practices related to the Days of Awe and even have a chance to test some of them as we prepare for Rosh Hashanah and Yom Kippur.
URL:https://www.tedallas.org/event/judaism-unfiltered-hhd/
LOCATION:Temple Emanu-El Weiss Youth Wing
CATEGORIES:ATiD 20s and 30s,Learning,Prayer and Spirituality
ATTACH;FMTTYPE=image/jpeg:https://www.tedallas.org/wp-content/uploads/2023/03/Judaism-Unfiltered-Logo-4-scaled.jpg
ORGANIZER;CN="Sammy Weyser":MAILTO:sweyser@tedallas.org
END:VEVENT
BEGIN:VEVENT
DTSTART;TZID=America/Chicago:20250912T181500
DTEND;TZID=America/Chicago:20250912T193000
DTSTAMP:20260422T144434
CREATED:20250829T185612Z
LAST-MODIFIED:20251017T163746Z
UID:10004074-1757700900-1757705400@www.tedallas.org
SUMMARY:September 12\, 2025: Shabbat Evening Service with Maya Raviv
DESCRIPTION:Begin your journey to the Days of Awe with Maya Raviv\, Israeli composer and spiritual leader\, whose soulful music creates space for connection\, inspiration and reflection. Throughout the weekend\, Maya will help us to connect to our spiritual essence\, each other\, the people of Israel and God. \nThrough the power of the Psalms\, Maya will help us welcome Shabbat in a service designed to soothe the soul and open the heart. Join us beginning at 5:45 p.m. for a pre-oneg.
URL:https://www.tedallas.org/event/september-12-2025-shabbat-evening-service-with-maya-raviv/
LOCATION:Temple Emanu-El Stern Chapel
CATEGORIES:Community,High Holy Days,Jewish Holidays,Livestream,Music, Arts, and Culture,Prayer and Spirituality
ATTACH;FMTTYPE=image/jpeg:https://www.tedallas.org/wp-content/uploads/2025/08/hhd-selichot-Web-Event4.jpg
END:VEVENT
BEGIN:VEVENT
DTSTART;TZID=America/Chicago:20250913T090000
DTEND;TZID=America/Chicago:20250913T103000
DTSTAMP:20260422T144434
CREATED:20240318T154426Z
LAST-MODIFIED:20260102T200915Z
UID:10004088-1757754000-1757759400@www.tedallas.org
SUMMARY:Chever Torah
DESCRIPTION:
URL:https://www.tedallas.org/event/chever-torah-2022-09-24-3-2/2025-09-13/
LOCATION:Temple Emanu-El Barbara Zale Center for Living History
CATEGORIES:Adult Learning,Prayer and Spirituality
ATTACH;FMTTYPE=image/jpeg:https://www.tedallas.org/wp-content/uploads/2024/03/chever-torah-web.jpg
END:VEVENT
BEGIN:VEVENT
DTSTART;TZID=America/Chicago:20250913T103000
DTEND;TZID=America/Chicago:20250913T120000
DTSTAMP:20260422T144434
CREATED:20250829T185827Z
LAST-MODIFIED:20251017T163757Z
UID:10004075-1757759400-1757764800@www.tedallas.org
SUMMARY:September 13\, 2025: Shabbat Morning Service with Maya Raviv
DESCRIPTION:Begin your journey to the Days of Awe with Maya Raviv\, Israeli composer and spiritual leader\, whose soulful music creates space for connection\, inspiration and reflection. Throughout the weekend\, Maya will help us to connect to our spiritual essence\, each other\, the people of Israel and God. \nOur Shabbat morning service will include opportunities for meditation and reflection with Maya. She will also share about the work she has been doing with bereaved families\, hostages who have come home and hostage families. Please note: This service is in Stern Chapel. \nSupplemental materials can be viewed here.
URL:https://www.tedallas.org/event/september-13-2025-shabbat-morning-service-with-maya-raviv/
LOCATION:Temple Emanu-El Stern Chapel
CATEGORIES:Community,High Holy Days,Livestream,Music, Arts, and Culture,Prayer and Spirituality
ATTACH;FMTTYPE=image/jpeg:https://www.tedallas.org/wp-content/uploads/2025/08/hhd-selichot-Web-Event4.jpg
END:VEVENT
BEGIN:VEVENT
DTSTART;TZID=America/Chicago:20250913T190000
DTEND;TZID=America/Chicago:20250913T213000
DTSTAMP:20260422T144434
CREATED:20250813T185349Z
LAST-MODIFIED:20250912T175524Z
UID:10004021-1757790000-1757799000@www.tedallas.org
SUMMARY:Selichot Evening with Maya Raviv
DESCRIPTION:Selichot is the doorway into the High Holy Days and an opportunity to ready our hearts for the spiritual work ahead. Following Havdalah and a Selichot service\, Maya will lead us on a spiritual journey with melodies and meditations inspired by the Psalms. Through music\, journaling\, contemplation and optional sharing\, Maya will guide us in a gentle exploration of forgiveness for ourselves and others\, and the freedom that comes from letting go. \nSupplemental materials can be viewed here.
URL:https://www.tedallas.org/event/selichot-evening-with-maya-raviv/
LOCATION:Temple Emanu-El Stern Chapel
CATEGORIES:High Holy Days,Jewish Holidays,Livestream,Music, Arts, and Culture,Prayer and Spirituality
ATTACH;FMTTYPE=image/jpeg:https://www.tedallas.org/wp-content/uploads/2025/08/hhd-selichot-Web-Event4.jpg
ORGANIZER;CN="Tal Drori":MAILTO:tdrori@tedallas.org
END:VEVENT
BEGIN:VEVENT
DTSTART;TZID=America/Chicago:20250916T190000
DTEND;TZID=America/Chicago:20250916T203000
DTSTAMP:20260422T144434
CREATED:20250908T193845Z
LAST-MODIFIED:20250909T142416Z
UID:10004087-1758049200-1758054600@www.tedallas.org
SUMMARY:Mussar with Michael Selz Fall 2025
DESCRIPTION:Season of Mussar II is in session from September 16 – December 16\, inviting participants into the Jewish practice of spiritual ethics that has guided seekers for centuries. Rooted in teachings created by The Mussar Institute and endorsed by the Union for Reform Judaism\, Mussar helps cultivate the qualities of the inner mensch by exploring middot—soul-traits such as patience\, forgiveness\, simplicity\, lovingkindness\, strength\, and faith. Open to all regardless of prior Jewish knowledge or Hebrew fluency\, the program blends study\, reflection\, and practice to foster awareness\, balance\, and growth. Through group learning\, partner study\, and personal exercises like journaling and mindful action\, participants engage in a discipline that uncovers the soul’s inner light and offers a path toward wisdom\, wholeness\, and spiritual transformation.
URL:https://www.tedallas.org/event/mussar-with-michael-selz-fall-2025/
LOCATION:Temple Emanu-El Barbara Zale Center for Living History
CATEGORIES:Adult Learning,Prayer and Spirituality
ATTACH;FMTTYPE=image/jpeg:https://www.tedallas.org/wp-content/uploads/2025/09/mussar-web-scaled.jpg
ORGANIZER;CN="Sammy Weyser":MAILTO:sweyser@tedallas.org
END:VEVENT
BEGIN:VEVENT
DTSTART;TZID=America/Chicago:20250917T090000
DTEND;TZID=America/Chicago:20250917T094500
DTSTAMP:20260422T144434
CREATED:20250818T170940Z
LAST-MODIFIED:20250909T142152Z
UID:10004032-1758099600-1758102300@www.tedallas.org
SUMMARY:Opening Your Heart with Psalm 27
DESCRIPTION:Psalms have long brought comfort to people on difficult days\, hope and courage at challenging times\, in both personal and communal life\, for us as individuals and as Jewish people. Psalm 27 guides us through the full range of human emotions over the seven weeks surrounding Rosh Hashanah and Yom Kippur. Join Rabbi Debra Robbins to explore this sustaining and surprising Psalm throughout the sacred season.  The online class includes music\, writing\, reflection and conversation. Please be prepared to turn on your camera as is the custom of this weekly communal gathering. \nWe will use Opening Your Heart with Psalm 27 by Rabbi Debra Robbins which is available at Judaic Treasures or from the CCAR Press\, Opening Your Heart with Psalm 27: A Spiritual Practice for the Jewish New Year.  It is also available as an e-book or as an App.  \nIf you’d like to follow along each day here is the Reader’s Navigation Guide from CCAR Press.\nReader’s Navigation Guide 2025.pdf \nNOTE: In order to have 6 sessions during this time period around the various holy days our class meets on a variety of days\, but always at the same time!.
URL:https://www.tedallas.org/event/returning-to-psalm-27-2025/2025-09-17/
LOCATION:Online on Zoom
CATEGORIES:Adult Learning,Prayer and Spirituality
ATTACH;FMTTYPE=image/jpeg:https://www.tedallas.org/wp-content/uploads/2024/08/Psalm-27-2024-web.jpg
ORGANIZER;CN="Sammy Weyser":MAILTO:sweyser@tedallas.org
END:VEVENT
BEGIN:VEVENT
DTSTART;TZID=America/Chicago:20250919T181500
DTEND;TZID=America/Chicago:20250919T193000
DTSTAMP:20260422T144434
CREATED:20250918T161929Z
LAST-MODIFIED:20251017T163813Z
UID:10004090-1758305700-1758310200@www.tedallas.org
SUMMARY:September 19\, 2025: Shabbat Evening Service
DESCRIPTION:with Rabbi Debra Robbins and Cantor Vicky Glikin | Sermon by Rabbi David Stern
URL:https://www.tedallas.org/event/september-19-2025-shabbat-evening-service/
LOCATION:Temple Emanu-El Stern Chapel
CATEGORIES:Livestream,Prayer and Spirituality
ATTACH;FMTTYPE=image/jpeg:https://www.tedallas.org/wp-content/uploads/2022/08/Stern-Chapel-feature-image.jpg
END:VEVENT
BEGIN:VEVENT
DTSTART;TZID=America/Chicago:20250920T090000
DTEND;TZID=America/Chicago:20250920T103000
DTSTAMP:20260422T144434
CREATED:20240318T154426Z
LAST-MODIFIED:20260102T200915Z
UID:10003811-1758358800-1758364200@www.tedallas.org
SUMMARY:Chever Torah
DESCRIPTION:
URL:https://www.tedallas.org/event/chever-torah-2022-09-24-3-2/2025-09-20/
LOCATION:Temple Emanu-El Barbara Zale Center for Living History
CATEGORIES:Adult Learning,Prayer and Spirituality
ATTACH;FMTTYPE=image/jpeg:https://www.tedallas.org/wp-content/uploads/2024/03/chever-torah-web.jpg
END:VEVENT
BEGIN:VEVENT
DTSTART;TZID=America/Chicago:20250920T103000
DTEND;TZID=America/Chicago:20250920T123000
DTSTAMP:20260422T144434
CREATED:20250918T162040Z
LAST-MODIFIED:20250920T145755Z
UID:10004091-1758364200-1758371400@www.tedallas.org
SUMMARY:September 20\, 2025: Shabbat Morning Service
DESCRIPTION:with Rabbi Kimberly Herzog Cohen and Cantor Hallie Weiner
URL:https://www.tedallas.org/event/september-20-2025-shabbat-morning-service/
LOCATION:Temple Emanu-El Lefkowitz Chapel
CATEGORIES:Livestream,Prayer and Spirituality
ATTACH;FMTTYPE=image/jpeg:https://www.tedallas.org/wp-content/uploads/2022/08/Lefkowitz-feature-image.jpg
END:VEVENT
BEGIN:VEVENT
DTSTART;TZID=America/Chicago:20250922T180000
DTEND;TZID=America/Chicago:20250923T150000
DTSTAMP:20260422T144434
CREATED:20250919T143047Z
LAST-MODIFIED:20250919T143429Z
UID:10004094-1758564000-1758639600@www.tedallas.org
SUMMARY:Rosh Hashanah 2025/5786
DESCRIPTION:Since last Rosh Hashanah\, we have experienced the sweetness of honey and the salt of tears. We have felt anxiety and relief\, loneliness and enduring connection. The stirring shofar sounds remind us that our faith and community can steady us and inspire us with hope. We look forward to many meaningful\, spiritual and connective moments together\, in person and online\, with friends and family\, as our hearts connect to one another and to the Holy one. Shanah Tovah!
URL:https://www.tedallas.org/event/rosh-hashanah-2025/
LOCATION:Temple Emanu-El Dallas
CATEGORIES:Community,High Holy Days,Jewish Holidays,Prayer and Spirituality
ATTACH;FMTTYPE=image/jpeg:https://www.tedallas.org/wp-content/uploads/2025/08/hhd-RH.jpg
END:VEVENT
BEGIN:VEVENT
DTSTART;TZID=America/Chicago:20250925T090000
DTEND;TZID=America/Chicago:20250925T094500
DTSTAMP:20260422T144434
CREATED:20250818T170940Z
LAST-MODIFIED:20250909T142152Z
UID:10004033-1758790800-1758793500@www.tedallas.org
SUMMARY:Opening Your Heart with Psalm 27
DESCRIPTION:Psalms have long brought comfort to people on difficult days\, hope and courage at challenging times\, in both personal and communal life\, for us as individuals and as Jewish people. Psalm 27 guides us through the full range of human emotions over the seven weeks surrounding Rosh Hashanah and Yom Kippur. Join Rabbi Debra Robbins to explore this sustaining and surprising Psalm throughout the sacred season.  The online class includes music\, writing\, reflection and conversation. Please be prepared to turn on your camera as is the custom of this weekly communal gathering. \nWe will use Opening Your Heart with Psalm 27 by Rabbi Debra Robbins which is available at Judaic Treasures or from the CCAR Press\, Opening Your Heart with Psalm 27: A Spiritual Practice for the Jewish New Year.  It is also available as an e-book or as an App.  \nIf you’d like to follow along each day here is the Reader’s Navigation Guide from CCAR Press.\nReader’s Navigation Guide 2025.pdf \nNOTE: In order to have 6 sessions during this time period around the various holy days our class meets on a variety of days\, but always at the same time!.
URL:https://www.tedallas.org/event/returning-to-psalm-27-2025/2025-09-25/
LOCATION:Online on Zoom
CATEGORIES:Adult Learning,Prayer and Spirituality
ATTACH;FMTTYPE=image/jpeg:https://www.tedallas.org/wp-content/uploads/2024/08/Psalm-27-2024-web.jpg
ORGANIZER;CN="Sammy Weyser":MAILTO:sweyser@tedallas.org
END:VEVENT
BEGIN:VEVENT
DTSTART;TZID=America/Chicago:20250926T181500
DTEND;TZID=America/Chicago:20250926T193000
DTSTAMP:20260422T144434
CREATED:20250918T172243Z
LAST-MODIFIED:20251017T163834Z
UID:10004092-1758910500-1758915000@www.tedallas.org
SUMMARY:September 26\, 2025: Shabbat Evening Service
DESCRIPTION:with Cantor Vicky Glikin and Rabbi Kimberly Herzog Cohen | Sermon by Rabbi Debra Robbins
URL:https://www.tedallas.org/event/september-26-2025-shabbat-evening-service/
LOCATION:Temple Emanu-El Stern Chapel
CATEGORIES:Livestream,Prayer and Spirituality
ATTACH;FMTTYPE=image/jpeg:https://www.tedallas.org/wp-content/uploads/2022/08/Stern-Chapel-feature-image.jpg
END:VEVENT
BEGIN:VEVENT
DTSTART;TZID=America/Chicago:20250927T090000
DTEND;TZID=America/Chicago:20250927T103000
DTSTAMP:20260422T144434
CREATED:20240318T154426Z
LAST-MODIFIED:20260102T200915Z
UID:10003812-1758963600-1758969000@www.tedallas.org
SUMMARY:Chever Torah
DESCRIPTION:
URL:https://www.tedallas.org/event/chever-torah-2022-09-24-3-2/2025-09-27/
LOCATION:Temple Emanu-El Barbara Zale Center for Living History
CATEGORIES:Adult Learning,Prayer and Spirituality
ATTACH;FMTTYPE=image/jpeg:https://www.tedallas.org/wp-content/uploads/2024/03/chever-torah-web.jpg
END:VEVENT
BEGIN:VEVENT
DTSTART;TZID=America/Chicago:20250927T103000
DTEND;TZID=America/Chicago:20250927T120000
DTSTAMP:20260422T144434
CREATED:20250918T172913Z
LAST-MODIFIED:20251017T163845Z
UID:10004093-1758969000-1758974400@www.tedallas.org
SUMMARY:September 27\, 2025: Shabbat Morning Service
DESCRIPTION:with Rabbi Michael Lewis and Cantor Hallie Weiner
URL:https://www.tedallas.org/event/september-27-2025-shabbat-morning-service/
LOCATION:Temple Emanu-El Lefkowitz Chapel
CATEGORIES:Livestream,Prayer and Spirituality
ATTACH;FMTTYPE=image/jpeg:https://www.tedallas.org/wp-content/uploads/2022/08/Lefkowitz-feature-image.jpg
END:VEVENT
END:VCALENDAR