BEGIN:VCALENDAR
VERSION:2.0
PRODID:-//Temple Emanu-El - ECPv6.15.20//NONSGML v1.0//EN
CALSCALE:GREGORIAN
METHOD:PUBLISH
X-ORIGINAL-URL:https://www.tedallas.org
X-WR-CALDESC:Events for Temple Emanu-El
REFRESH-INTERVAL;VALUE=DURATION:PT1H
X-Robots-Tag:noindex
X-PUBLISHED-TTL:PT1H
BEGIN:VTIMEZONE
TZID:America/Chicago
BEGIN:DAYLIGHT
TZOFFSETFROM:-0600
TZOFFSETTO:-0500
TZNAME:CDT
DTSTART:20240310T080000
END:DAYLIGHT
BEGIN:STANDARD
TZOFFSETFROM:-0500
TZOFFSETTO:-0600
TZNAME:CST
DTSTART:20241103T070000
END:STANDARD
BEGIN:DAYLIGHT
TZOFFSETFROM:-0600
TZOFFSETTO:-0500
TZNAME:CDT
DTSTART:20250309T080000
END:DAYLIGHT
BEGIN:STANDARD
TZOFFSETFROM:-0500
TZOFFSETTO:-0600
TZNAME:CST
DTSTART:20251102T070000
END:STANDARD
BEGIN:DAYLIGHT
TZOFFSETFROM:-0600
TZOFFSETTO:-0500
TZNAME:CDT
DTSTART:20260308T080000
END:DAYLIGHT
BEGIN:STANDARD
TZOFFSETFROM:-0500
TZOFFSETTO:-0600
TZNAME:CST
DTSTART:20261101T070000
END:STANDARD
END:VTIMEZONE
BEGIN:VEVENT
DTSTART;TZID=America/Chicago:20250801T181500
DTEND;TZID=America/Chicago:20250801T194500
DTSTAMP:20260422T111104
CREATED:20250722T182836Z
LAST-MODIFIED:20251017T162910Z
UID:10003992-1754072100-1754077500@www.tedallas.org
SUMMARY:August 1\, 2025: Shabbat Evening Service
DESCRIPTION:With Rabbi Michael Lewis and Cantor Leslie Niren.
URL:https://www.tedallas.org/event/august-1-2025-shabbat-evening-service/
LOCATION:Temple Emanu-El Stern Chapel
CATEGORIES:Livestream,Prayer and Spirituality
ATTACH;FMTTYPE=image/jpeg:https://www.tedallas.org/wp-content/uploads/2022/08/Stern-Chapel-feature-image.jpg
END:VEVENT
BEGIN:VEVENT
DTSTART;TZID=America/Chicago:20250802T090000
DTEND;TZID=America/Chicago:20250802T103000
DTSTAMP:20260422T111104
CREATED:20240318T154426Z
LAST-MODIFIED:20260102T200915Z
UID:10003804-1754125200-1754130600@www.tedallas.org
SUMMARY:Chever Torah
DESCRIPTION:
URL:https://www.tedallas.org/event/chever-torah-2022-09-24-3-2/2025-08-02/
LOCATION:Temple Emanu-El Barbara Zale Center for Living History
CATEGORIES:Adult Learning,Prayer and Spirituality
ATTACH;FMTTYPE=image/jpeg:https://www.tedallas.org/wp-content/uploads/2024/03/chever-torah-web.jpg
END:VEVENT
BEGIN:VEVENT
DTSTART;TZID=America/Chicago:20250802T103000
DTEND;TZID=America/Chicago:20250802T120000
DTSTAMP:20260422T111104
CREATED:20250722T204009Z
LAST-MODIFIED:20251017T162921Z
UID:10003996-1754130600-1754136000@www.tedallas.org
SUMMARY:August 2\, 2025: Shabbat Morning Service
DESCRIPTION:with Rabbi Michael Lewis and Randy Pearlman\, Cantorial Soloist | D’var Torah by Peggy Kaufman
URL:https://www.tedallas.org/event/august-2-2025-shabbat-morning-service/
LOCATION:Temple Emanu-El Lefkowitz Chapel
CATEGORIES:Livestream,Prayer and Spirituality
ATTACH;FMTTYPE=image/jpeg:https://www.tedallas.org/wp-content/uploads/2022/08/Lefkowitz-feature-image.jpg
END:VEVENT
BEGIN:VEVENT
DTSTART;TZID=America/Chicago:20250808T181500
DTEND;TZID=America/Chicago:20250808T194500
DTSTAMP:20260422T111104
CREATED:20250722T183123Z
LAST-MODIFIED:20251017T163152Z
UID:10003993-1754676900-1754682300@www.tedallas.org
SUMMARY:August 8\, 2025: Shabbat Evening Service
DESCRIPTION:with Rabbi Debra Robbins and Cantor Leslie Niren.
URL:https://www.tedallas.org/event/august-8-2025-shabbat-evening-service/
CATEGORIES:Livestream,Prayer and Spirituality
ATTACH;FMTTYPE=image/jpeg:https://www.tedallas.org/wp-content/uploads/2022/08/Stern-Chapel-feature-image.jpg
END:VEVENT
BEGIN:VEVENT
DTSTART;TZID=America/Chicago:20250809T090000
DTEND;TZID=America/Chicago:20250809T103000
DTSTAMP:20260422T111104
CREATED:20240318T154426Z
LAST-MODIFIED:20260102T200915Z
UID:10003805-1754730000-1754735400@www.tedallas.org
SUMMARY:Chever Torah
DESCRIPTION:
URL:https://www.tedallas.org/event/chever-torah-2022-09-24-3-2/2025-08-09/
LOCATION:Temple Emanu-El Barbara Zale Center for Living History
CATEGORIES:Adult Learning,Prayer and Spirituality
ATTACH;FMTTYPE=image/jpeg:https://www.tedallas.org/wp-content/uploads/2024/03/chever-torah-web.jpg
END:VEVENT
BEGIN:VEVENT
DTSTART;TZID=America/Chicago:20250809T103000
DTEND;TZID=America/Chicago:20250809T123000
DTSTAMP:20260422T111104
CREATED:20250722T204658Z
LAST-MODIFIED:20251017T163205Z
UID:10003997-1754735400-1754742600@www.tedallas.org
SUMMARY:August 9\, 2025: Shabbat Morning Service
DESCRIPTION:with Rabbi Debra Robbins and Cantor Leslie Niren | D’var Torah by Robert Elkin
URL:https://www.tedallas.org/event/august-9-2025-shabbat-morning-service/
LOCATION:Temple Emanu-El Lefkowitz Chapel
CATEGORIES:Livestream,Prayer and Spirituality
ATTACH;FMTTYPE=image/jpeg:https://www.tedallas.org/wp-content/uploads/2022/08/Lefkowitz-feature-image.jpg
END:VEVENT
BEGIN:VEVENT
DTSTART;TZID=America/Chicago:20250815T173000
DTEND;TZID=America/Chicago:20250815T183000
DTSTAMP:20260422T111104
CREATED:20250729T154537Z
LAST-MODIFIED:20250729T183230Z
UID:10003999-1755279000-1755282600@www.tedallas.org
SUMMARY:New Member Tot Shabbat
DESCRIPTION:For families with children up to age 5\, a short\, joyous\, lively service crafted for our youngest members. A pizza dinner will follow the service for $18 per family.
URL:https://www.tedallas.org/event/new-member-tot-shabbat-2025/
LOCATION:Temple Emanu-El Haas Amphitheater and Ratner Courtyard
CATEGORIES:Community,Early Childhood,Prayer and Spirituality
ATTACH;FMTTYPE=image/jpeg:https://www.tedallas.org/wp-content/uploads/2025/07/New-member-to-shabbat-2025.jpg
ORGANIZER;CN="Jennifer Richman":MAILTO:jrichman@tedallas.org
END:VEVENT
BEGIN:VEVENT
DTSTART;TZID=America/Chicago:20250815T181500
DTEND;TZID=America/Chicago:20250815T193000
DTSTAMP:20260422T111104
CREATED:20250814T014942Z
LAST-MODIFIED:20251017T163224Z
UID:10004022-1755281700-1755286200@www.tedallas.org
SUMMARY:August 15\, 2025: Shabbat Evening Service
DESCRIPTION:with Rabbi David Stern and Cantor Hallie Weiner | Sermon by Rabbi Debra Robbins
URL:https://www.tedallas.org/event/august-15-2025-shabbat-evening-service/
LOCATION:Temple Emanu-El Stern Chapel
CATEGORIES:Livestream,Prayer and Spirituality
ATTACH;FMTTYPE=image/jpeg:https://www.tedallas.org/wp-content/uploads/2022/08/Stern-Chapel-feature-image.jpg
END:VEVENT
BEGIN:VEVENT
DTSTART;TZID=America/Chicago:20250816T090000
DTEND;TZID=America/Chicago:20250816T103000
DTSTAMP:20260422T111104
CREATED:20240318T154426Z
LAST-MODIFIED:20260102T200915Z
UID:10003806-1755334800-1755340200@www.tedallas.org
SUMMARY:Chever Torah
DESCRIPTION:
URL:https://www.tedallas.org/event/chever-torah-2022-09-24-3-2/2025-08-16/
LOCATION:Temple Emanu-El Barbara Zale Center for Living History
CATEGORIES:Adult Learning,Prayer and Spirituality
ATTACH;FMTTYPE=image/jpeg:https://www.tedallas.org/wp-content/uploads/2024/03/chever-torah-web.jpg
END:VEVENT
BEGIN:VEVENT
DTSTART;TZID=America/Chicago:20250816T103000
DTEND;TZID=America/Chicago:20250816T120000
DTSTAMP:20260422T111104
CREATED:20250814T015139Z
LAST-MODIFIED:20251017T163236Z
UID:10004023-1755340200-1755345600@www.tedallas.org
SUMMARY:August 16\, 2025: Shabbat Morning Service
DESCRIPTION:with Rabbi Kimberly Herzog Cohen and Cantor Hallie Weiner
URL:https://www.tedallas.org/event/august-16-2025-shabbat-morning-service/
LOCATION:Temple Emanu-El Lefkowitz Chapel
CATEGORIES:Livestream,Prayer and Spirituality
ATTACH;FMTTYPE=image/jpeg:https://www.tedallas.org/wp-content/uploads/2022/08/Lefkowitz-feature-image.jpg
END:VEVENT
BEGIN:VEVENT
DTSTART;TZID=America/Chicago:20250816T103000
DTEND;TZID=America/Chicago:20250816T120000
DTSTAMP:20260422T111104
CREATED:20250814T021040Z
LAST-MODIFIED:20250814T021040Z
UID:10004027-1755340200-1755345600@www.tedallas.org
SUMMARY:August 16\, 2025: Spencer Hanu Bar Mitzvah
DESCRIPTION:
URL:https://www.tedallas.org/event/spencer-hanu/
LOCATION:Temple Emanu-El Stern Chapel
CATEGORIES:Prayer and Spirituality
ATTACH;FMTTYPE=image/jpeg:https://www.tedallas.org/wp-content/uploads/2022/08/Stern-Chapel-feature-image.jpg
END:VEVENT
BEGIN:VEVENT
DTSTART;TZID=America/Chicago:20250816T163000
DTEND;TZID=America/Chicago:20250816T173000
DTSTAMP:20260422T111104
CREATED:20250814T021154Z
LAST-MODIFIED:20250814T021154Z
UID:10004028-1755361800-1755365400@www.tedallas.org
SUMMARY:August 16\, 2025: Rhys Kasselman Bar Mitzvah
DESCRIPTION:
URL:https://www.tedallas.org/event/rhys-kasselman/
LOCATION:Temple Emanu-El Stern Chapel
CATEGORIES:Prayer and Spirituality
ATTACH;FMTTYPE=image/jpeg:https://www.tedallas.org/wp-content/uploads/2022/08/Stern-Chapel-feature-image.jpg
END:VEVENT
BEGIN:VEVENT
DTSTART;TZID=America/Chicago:20250822T181500
DTEND;TZID=America/Chicago:20250822T200000
DTSTAMP:20260422T111104
CREATED:20250729T154919Z
LAST-MODIFIED:20251017T163409Z
UID:10004000-1755886500-1755892800@www.tedallas.org
SUMMARY:August 22\, 2025: New Member Shabbat Evening Service
DESCRIPTION:Our weekly coming together as a congregation\, geared toward adults and welcoming to all. Join us at 5:45 p.m. for a pre-service oneg before the service. New members are invited to a private oneg beginning at 5:30 p.m.
URL:https://www.tedallas.org/event/2025-new-member-shabbat/
LOCATION:Temple Emanu-El Stern Chapel
CATEGORIES:Community,Livestream,Prayer and Spirituality
ATTACH;FMTTYPE=image/jpeg:https://www.tedallas.org/wp-content/uploads/2025/07/New-member-shabbat-2025.jpg
ORGANIZER;CN="Ashley Greenwood":MAILTO:agreenwood@tedallas.org
END:VEVENT
BEGIN:VEVENT
DTSTART;TZID=America/Chicago:20250823T090000
DTEND;TZID=America/Chicago:20250823T103000
DTSTAMP:20260422T111104
CREATED:20240318T154426Z
LAST-MODIFIED:20260102T200915Z
UID:10003807-1755939600-1755945000@www.tedallas.org
SUMMARY:Chever Torah
DESCRIPTION:
URL:https://www.tedallas.org/event/chever-torah-2022-09-24-3-2/2025-08-23/
LOCATION:Temple Emanu-El Barbara Zale Center for Living History
CATEGORIES:Adult Learning,Prayer and Spirituality
ATTACH;FMTTYPE=image/jpeg:https://www.tedallas.org/wp-content/uploads/2024/03/chever-torah-web.jpg
END:VEVENT
BEGIN:VEVENT
DTSTART;TZID=America/Chicago:20250823T103000
DTEND;TZID=America/Chicago:20250823T120000
DTSTAMP:20260422T111104
CREATED:20250814T015703Z
LAST-MODIFIED:20251017T163423Z
UID:10004024-1755945000-1755950400@www.tedallas.org
SUMMARY:August 23\, 2025: Shabbat Morning Service
DESCRIPTION:with Rabbi Debra Robbins and Cantor Vicky Glikin \nSupplemental materials can be found here
URL:https://www.tedallas.org/event/august-23-2025-shabbat-morning-service/
LOCATION:Temple Emanu-El Lefkowitz Chapel
CATEGORIES:Livestream,Prayer and Spirituality
ATTACH;FMTTYPE=image/jpeg:https://www.tedallas.org/wp-content/uploads/2022/08/Lefkowitz-feature-image.jpg
END:VEVENT
BEGIN:VEVENT
DTSTART;TZID=America/Chicago:20250823T103000
DTEND;TZID=America/Chicago:20250823T120000
DTSTAMP:20260422T111104
CREATED:20250822T155230Z
LAST-MODIFIED:20250822T155230Z
UID:10004044-1755945000-1755950400@www.tedallas.org
SUMMARY:August 23\, 2025: Wolfe Rymer Bar Mitzvah
DESCRIPTION:
URL:https://www.tedallas.org/event/wolfe-rymer/
LOCATION:Temple Emanu-El Stern Chapel
CATEGORIES:Prayer and Spirituality
ATTACH;FMTTYPE=image/jpeg:https://www.tedallas.org/wp-content/uploads/2022/08/Stern-Chapel-feature-image.jpg
END:VEVENT
BEGIN:VEVENT
DTSTART;TZID=America/Chicago:20250823T163000
DTEND;TZID=America/Chicago:20250823T180000
DTSTAMP:20260422T111104
CREATED:20250822T155434Z
LAST-MODIFIED:20250822T155434Z
UID:10004045-1755966600-1755972000@www.tedallas.org
SUMMARY:August 23\, 2025: Mara Ingerto Bat Mitzvah
DESCRIPTION:
URL:https://www.tedallas.org/event/mara-ingerto/
LOCATION:Temple Emanu-El Stern Chapel
CATEGORIES:Prayer and Spirituality
ATTACH;FMTTYPE=image/jpeg:https://www.tedallas.org/wp-content/uploads/2022/08/Stern-Chapel-feature-image.jpg
END:VEVENT
BEGIN:VEVENT
DTSTART;TZID=America/Chicago:20250827T090000
DTEND;TZID=America/Chicago:20250827T094500
DTSTAMP:20260422T111104
CREATED:20250818T170940Z
LAST-MODIFIED:20250909T142152Z
UID:10004029-1756285200-1756287900@www.tedallas.org
SUMMARY:Opening Your Heart with Psalm 27
DESCRIPTION:Psalms have long brought comfort to people on difficult days\, hope and courage at challenging times\, in both personal and communal life\, for us as individuals and as Jewish people. Psalm 27 guides us through the full range of human emotions over the seven weeks surrounding Rosh Hashanah and Yom Kippur. Join Rabbi Debra Robbins to explore this sustaining and surprising Psalm throughout the sacred season.  The online class includes music\, writing\, reflection and conversation. Please be prepared to turn on your camera as is the custom of this weekly communal gathering. \nWe will use Opening Your Heart with Psalm 27 by Rabbi Debra Robbins which is available at Judaic Treasures or from the CCAR Press\, Opening Your Heart with Psalm 27: A Spiritual Practice for the Jewish New Year.  It is also available as an e-book or as an App.  \nIf you’d like to follow along each day here is the Reader’s Navigation Guide from CCAR Press.\nReader’s Navigation Guide 2025.pdf \nNOTE: In order to have 6 sessions during this time period around the various holy days our class meets on a variety of days\, but always at the same time!.
URL:https://www.tedallas.org/event/returning-to-psalm-27-2025/2025-08-27/
LOCATION:Online on Zoom
CATEGORIES:Adult Learning,Prayer and Spirituality
ATTACH;FMTTYPE=image/jpeg:https://www.tedallas.org/wp-content/uploads/2024/08/Psalm-27-2024-web.jpg
ORGANIZER;CN="Sammy Weyser":MAILTO:sweyser@tedallas.org
END:VEVENT
BEGIN:VEVENT
DTSTART;TZID=America/Chicago:20250829T181500
DTEND;TZID=America/Chicago:20250829T193000
DTSTAMP:20260422T111104
CREATED:20250814T015950Z
LAST-MODIFIED:20251017T163434Z
UID:10004025-1756491300-1756495800@www.tedallas.org
SUMMARY:August 29\, 2025: Shabbat Evening Service
DESCRIPTION:with Rabbi David Stern\, Cantor Vicky Glikin and Cantor Leslie Niren
URL:https://www.tedallas.org/event/august-29-2025-shabbat-evening-service/
LOCATION:Temple Emanu-El Stern Chapel
CATEGORIES:Livestream,Prayer and Spirituality
ATTACH;FMTTYPE=image/jpeg:https://www.tedallas.org/wp-content/uploads/2022/08/Stern-Chapel-feature-image.jpg
END:VEVENT
BEGIN:VEVENT
DTSTART;TZID=America/Chicago:20250830T090000
DTEND;TZID=America/Chicago:20250830T103000
DTSTAMP:20260422T111104
CREATED:20240318T154426Z
LAST-MODIFIED:20260102T200915Z
UID:10003808-1756544400-1756549800@www.tedallas.org
SUMMARY:Chever Torah
DESCRIPTION:
URL:https://www.tedallas.org/event/chever-torah-2022-09-24-3-2/2025-08-30/
LOCATION:Temple Emanu-El Barbara Zale Center for Living History
CATEGORIES:Adult Learning,Prayer and Spirituality
ATTACH;FMTTYPE=image/jpeg:https://www.tedallas.org/wp-content/uploads/2024/03/chever-torah-web.jpg
END:VEVENT
BEGIN:VEVENT
DTSTART;TZID=America/Chicago:20250830T103000
DTEND;TZID=America/Chicago:20250830T120000
DTSTAMP:20260422T111104
CREATED:20250814T020128Z
LAST-MODIFIED:20251017T163447Z
UID:10004026-1756549800-1756555200@www.tedallas.org
SUMMARY:August 30\, 2025: Shabbat Morning Service
DESCRIPTION:with Rabbi Michael Lewis and Cantor Hallie Weiner
URL:https://www.tedallas.org/event/august-30-2025-shabbat-morning-service/
LOCATION:Temple Emanu-El Lefkowitz Chapel
CATEGORIES:Livestream,Prayer and Spirituality
ATTACH;FMTTYPE=image/jpeg:https://www.tedallas.org/wp-content/uploads/2022/08/Lefkowitz-feature-image.jpg
END:VEVENT
BEGIN:VEVENT
DTSTART;TZID=America/Chicago:20250830T103000
DTEND;TZID=America/Chicago:20250830T120000
DTSTAMP:20260422T111104
CREATED:20250822T160809Z
LAST-MODIFIED:20250822T160809Z
UID:10004046-1756549800-1756555200@www.tedallas.org
SUMMARY:August 30\, 2025: Hudson Spiegel Bar Mitzvah
DESCRIPTION:
URL:https://www.tedallas.org/event/hudson-spiegel/
LOCATION:Temple Emanu-El Stern Chapel
CATEGORIES:Prayer and Spirituality
ATTACH;FMTTYPE=image/jpeg:https://www.tedallas.org/wp-content/uploads/2022/08/Stern-Chapel-feature-image.jpg
END:VEVENT
BEGIN:VEVENT
DTSTART;TZID=America/Chicago:20250830T163000
DTEND;TZID=America/Chicago:20250830T180000
DTSTAMP:20260422T111104
CREATED:20250822T160946Z
LAST-MODIFIED:20250822T160946Z
UID:10004047-1756571400-1756576800@www.tedallas.org
SUMMARY:August 30\, 2025: Mika Zucker Bat Mitzvah
DESCRIPTION:
URL:https://www.tedallas.org/event/mika-zucker/
LOCATION:Temple Emanu-El Stern Chapel
CATEGORIES:Prayer and Spirituality
ATTACH;FMTTYPE=image/jpeg:https://www.tedallas.org/wp-content/uploads/2022/08/Stern-Chapel-feature-image.jpg
END:VEVENT
END:VCALENDAR