BEGIN:VCALENDAR
VERSION:2.0
PRODID:-//Temple Emanu-El - ECPv6.15.20//NONSGML v1.0//EN
CALSCALE:GREGORIAN
METHOD:PUBLISH
X-ORIGINAL-URL:https://www.tedallas.org
X-WR-CALDESC:Events for Temple Emanu-El
REFRESH-INTERVAL;VALUE=DURATION:PT1H
X-Robots-Tag:noindex
X-PUBLISHED-TTL:PT1H
BEGIN:VTIMEZONE
TZID:America/Chicago
BEGIN:DAYLIGHT
TZOFFSETFROM:-0600
TZOFFSETTO:-0500
TZNAME:CDT
DTSTART:20240310T080000
END:DAYLIGHT
BEGIN:STANDARD
TZOFFSETFROM:-0500
TZOFFSETTO:-0600
TZNAME:CST
DTSTART:20241103T070000
END:STANDARD
BEGIN:DAYLIGHT
TZOFFSETFROM:-0600
TZOFFSETTO:-0500
TZNAME:CDT
DTSTART:20250309T080000
END:DAYLIGHT
BEGIN:STANDARD
TZOFFSETFROM:-0500
TZOFFSETTO:-0600
TZNAME:CST
DTSTART:20251102T070000
END:STANDARD
BEGIN:DAYLIGHT
TZOFFSETFROM:-0600
TZOFFSETTO:-0500
TZNAME:CDT
DTSTART:20260308T080000
END:DAYLIGHT
BEGIN:STANDARD
TZOFFSETFROM:-0500
TZOFFSETTO:-0600
TZNAME:CST
DTSTART:20261101T070000
END:STANDARD
END:VTIMEZONE
BEGIN:VEVENT
DTSTART;TZID=America/Chicago:20250704T181500
DTEND;TZID=America/Chicago:20250704T193000
DTSTAMP:20260422T074754
CREATED:20250703T213706Z
LAST-MODIFIED:20251017T162457Z
UID:10003982-1751652900-1751657400@www.tedallas.org
SUMMARY:July 4\, 2025: Shabbat Evening Service
DESCRIPTION:with Rabbi Kimberly Herzog Cohen and Cantor Hallie Weiner
URL:https://www.tedallas.org/event/july-4-2025-shabbat-evening-service/
LOCATION:Temple Emanu-El Stern Chapel
CATEGORIES:Livestream,Prayer and Spirituality
ATTACH;FMTTYPE=image/jpeg:https://www.tedallas.org/wp-content/uploads/2022/08/Stern-Chapel-feature-image.jpg
END:VEVENT
BEGIN:VEVENT
DTSTART;TZID=America/Chicago:20250705T090000
DTEND;TZID=America/Chicago:20250705T103000
DTSTAMP:20260422T074754
CREATED:20240318T154426Z
LAST-MODIFIED:20260102T200915Z
UID:10003800-1751706000-1751711400@www.tedallas.org
SUMMARY:Chever Torah
DESCRIPTION:
URL:https://www.tedallas.org/event/chever-torah-2022-09-24-3-2/2025-07-05/
LOCATION:Temple Emanu-El Barbara Zale Center for Living History
CATEGORIES:Adult Learning,Prayer and Spirituality
ATTACH;FMTTYPE=image/jpeg:https://www.tedallas.org/wp-content/uploads/2024/03/chever-torah-web.jpg
END:VEVENT
BEGIN:VEVENT
DTSTART;TZID=America/Chicago:20250705T103000
DTEND;TZID=America/Chicago:20250705T120000
DTSTAMP:20260422T074754
CREATED:20250703T213905Z
LAST-MODIFIED:20251017T162610Z
UID:10003983-1751711400-1751716800@www.tedallas.org
SUMMARY:July 5\, 2025: Shabbat Morning Service
DESCRIPTION:with Rabbi Michael Lewis and Cantor Hallie Weiner | D’var Torah by Neil Kaufman
URL:https://www.tedallas.org/event/july-5-2025-shabbat-morning-service/
LOCATION:Temple Emanu-El Lefkowitz Chapel
CATEGORIES:Livestream,Prayer and Spirituality
ATTACH;FMTTYPE=image/jpeg:https://www.tedallas.org/wp-content/uploads/2022/08/Lefkowitz-feature-image.jpg
END:VEVENT
BEGIN:VEVENT
DTSTART;TZID=America/Chicago:20250711T181500
DTEND;TZID=America/Chicago:20250711T193000
DTSTAMP:20260422T074754
CREATED:20250708T202104Z
LAST-MODIFIED:20251017T162623Z
UID:10003985-1752257700-1752262200@www.tedallas.org
SUMMARY:July 11\, 2025: Shabbat Evening Service
DESCRIPTION:
URL:https://www.tedallas.org/event/july-11-2025-shabbat-evening-service/
LOCATION:Temple Emanu-El Stern Chapel
CATEGORIES:Livestream,Prayer and Spirituality
ATTACH;FMTTYPE=image/jpeg:https://www.tedallas.org/wp-content/uploads/2022/08/Stern-Chapel-feature-image.jpg
END:VEVENT
BEGIN:VEVENT
DTSTART;TZID=America/Chicago:20250712T090000
DTEND;TZID=America/Chicago:20250712T103000
DTSTAMP:20260422T074754
CREATED:20240318T154426Z
LAST-MODIFIED:20260102T200915Z
UID:10003801-1752310800-1752316200@www.tedallas.org
SUMMARY:Chever Torah
DESCRIPTION:
URL:https://www.tedallas.org/event/chever-torah-2022-09-24-3-2/2025-07-12/
LOCATION:Temple Emanu-El Barbara Zale Center for Living History
CATEGORIES:Adult Learning,Prayer and Spirituality
ATTACH;FMTTYPE=image/jpeg:https://www.tedallas.org/wp-content/uploads/2024/03/chever-torah-web.jpg
END:VEVENT
BEGIN:VEVENT
DTSTART;TZID=America/Chicago:20250712T103000
DTEND;TZID=America/Chicago:20250712T120000
DTSTAMP:20260422T074754
CREATED:20250708T202207Z
LAST-MODIFIED:20251017T162638Z
UID:10003986-1752316200-1752321600@www.tedallas.org
SUMMARY:July 12\, 2025: Shabbat Morning Service
DESCRIPTION:
URL:https://www.tedallas.org/event/july-12-2025-shabbat-morning-service/
LOCATION:Temple Emanu-El Stern Chapel
CATEGORIES:Livestream,Prayer and Spirituality
ATTACH;FMTTYPE=image/jpeg:https://www.tedallas.org/wp-content/uploads/2022/08/Stern-Chapel-feature-image.jpg
END:VEVENT
BEGIN:VEVENT
DTSTART;TZID=America/Chicago:20250718T181500
DTEND;TZID=America/Chicago:20250718T191500
DTSTAMP:20260422T074754
CREATED:20250707T200747Z
LAST-MODIFIED:20251017T162722Z
UID:10003984-1752862500-1752866100@www.tedallas.org
SUMMARY:July 18\, 2025: Shabbat Evening Service
DESCRIPTION:This evening’s service features the extended Kabbalat Shabbat format\, a lively\, music-centered experience without prayer books and all prayers and music lyrics provided on screens. Kabbalat Shabbat is the traditional Friday evening service that begins with a series of psalms\, each representing a day of the week. We look forward to celebrating Shabbat with warmth\, reflection and a continuing culture of spiritual discovery. Rabbi Kimberly Herzog Cohen\, Cantor Leslie Niren and Cantor Hallie Weiner
URL:https://www.tedallas.org/event/july-18-2025-shabbat-evening-service/
CATEGORIES:Community Events,Livestream,Prayer and Spirituality
ATTACH;FMTTYPE=image/jpeg:https://www.tedallas.org/wp-content/uploads/2022/08/Stern-Chapel-feature-image.jpg
END:VEVENT
BEGIN:VEVENT
DTSTART;TZID=America/Chicago:20250719T090000
DTEND;TZID=America/Chicago:20250719T103000
DTSTAMP:20260422T074754
CREATED:20240318T154426Z
LAST-MODIFIED:20260102T200915Z
UID:10003802-1752915600-1752921000@www.tedallas.org
SUMMARY:Chever Torah
DESCRIPTION:
URL:https://www.tedallas.org/event/chever-torah-2022-09-24-3-2/2025-07-19/
LOCATION:Temple Emanu-El Barbara Zale Center for Living History
CATEGORIES:Adult Learning,Prayer and Spirituality
ATTACH;FMTTYPE=image/jpeg:https://www.tedallas.org/wp-content/uploads/2024/03/chever-torah-web.jpg
END:VEVENT
BEGIN:VEVENT
DTSTART;TZID=America/Chicago:20250719T103000
DTEND;TZID=America/Chicago:20250719T120000
DTSTAMP:20260422T074754
CREATED:20250717T215902Z
LAST-MODIFIED:20251017T162732Z
UID:10003990-1752921000-1752926400@www.tedallas.org
SUMMARY:July 19\, 2025: Shabbat Morning Service
DESCRIPTION:with Rabbi Kimberly Herzog Cohen and Cantor Leslie Niren | D’var Torah by Ann Margolin
URL:https://www.tedallas.org/event/july-19-2025-shabbat-morning-service/
LOCATION:Temple Emanu-El Lefkowitz Chapel
CATEGORIES:Livestream,Prayer and Spirituality
ATTACH;FMTTYPE=image/jpeg:https://www.tedallas.org/wp-content/uploads/2022/08/Lefkowitz-feature-image.jpg
END:VEVENT
BEGIN:VEVENT
DTSTART;TZID=America/Chicago:20250725T181500
DTEND;TZID=America/Chicago:20250725T194500
DTSTAMP:20260422T074754
CREATED:20250722T181440Z
LAST-MODIFIED:20251017T162744Z
UID:10003991-1753467300-1753472700@www.tedallas.org
SUMMARY:July 25\, 2025: Shabbat Evening Service
DESCRIPTION:with Rabbi Michael Lewis\, Cantor Leslie Niren. This week our Shabbat evening service will include recognition of anyone who has a Mazel Tov Moment – a birthday or joyous occasion to celebrate.
URL:https://www.tedallas.org/event/july-25-2025-shabbat-evening-service/
LOCATION:Temple Emanu-El Stern Chapel
CATEGORIES:Livestream,Prayer and Spirituality
ATTACH;FMTTYPE=image/jpeg:https://www.tedallas.org/wp-content/uploads/2022/08/Stern-Chapel-feature-image.jpg
END:VEVENT
BEGIN:VEVENT
DTSTART;TZID=America/Chicago:20250726T090000
DTEND;TZID=America/Chicago:20250726T103000
DTSTAMP:20260422T074754
CREATED:20240318T154426Z
LAST-MODIFIED:20260102T200915Z
UID:10003803-1753520400-1753525800@www.tedallas.org
SUMMARY:Chever Torah
DESCRIPTION:
URL:https://www.tedallas.org/event/chever-torah-2022-09-24-3-2/2025-07-26/
LOCATION:Temple Emanu-El Barbara Zale Center for Living History
CATEGORIES:Adult Learning,Prayer and Spirituality
ATTACH;FMTTYPE=image/jpeg:https://www.tedallas.org/wp-content/uploads/2024/03/chever-torah-web.jpg
END:VEVENT
BEGIN:VEVENT
DTSTART;TZID=America/Chicago:20250726T103000
DTEND;TZID=America/Chicago:20250726T120000
DTSTAMP:20260422T074754
CREATED:20250722T203626Z
LAST-MODIFIED:20251017T162757Z
UID:10003995-1753525800-1753531200@www.tedallas.org
SUMMARY:July 26\, 2025: Shabbat Morning Service
DESCRIPTION:with Rabbi Kimberly Herzog Cohen and Randy Pearlman\, Cantorial Soloist | D’var Torah by Robert Kaufman
URL:https://www.tedallas.org/event/july-26-2025-shabbat-morning-service/
LOCATION:Temple Emanu-El Lefkowitz Chapel
CATEGORIES:Livestream,Prayer and Spirituality
ATTACH;FMTTYPE=image/jpeg:https://www.tedallas.org/wp-content/uploads/2022/08/Lefkowitz-feature-image.jpg
END:VEVENT
END:VCALENDAR