BEGIN:VCALENDAR
VERSION:2.0
PRODID:-//Temple Emanu-El - ECPv6.15.20//NONSGML v1.0//EN
CALSCALE:GREGORIAN
METHOD:PUBLISH
X-ORIGINAL-URL:https://www.tedallas.org
X-WR-CALDESC:Events for Temple Emanu-El
REFRESH-INTERVAL;VALUE=DURATION:PT1H
X-Robots-Tag:noindex
X-PUBLISHED-TTL:PT1H
BEGIN:VTIMEZONE
TZID:America/Chicago
BEGIN:DAYLIGHT
TZOFFSETFROM:-0600
TZOFFSETTO:-0500
TZNAME:CDT
DTSTART:20240310T080000
END:DAYLIGHT
BEGIN:STANDARD
TZOFFSETFROM:-0500
TZOFFSETTO:-0600
TZNAME:CST
DTSTART:20241103T070000
END:STANDARD
BEGIN:DAYLIGHT
TZOFFSETFROM:-0600
TZOFFSETTO:-0500
TZNAME:CDT
DTSTART:20250309T080000
END:DAYLIGHT
BEGIN:STANDARD
TZOFFSETFROM:-0500
TZOFFSETTO:-0600
TZNAME:CST
DTSTART:20251102T070000
END:STANDARD
BEGIN:DAYLIGHT
TZOFFSETFROM:-0600
TZOFFSETTO:-0500
TZNAME:CDT
DTSTART:20260308T080000
END:DAYLIGHT
BEGIN:STANDARD
TZOFFSETFROM:-0500
TZOFFSETTO:-0600
TZNAME:CST
DTSTART:20261101T070000
END:STANDARD
END:VTIMEZONE
BEGIN:VEVENT
DTSTART;TZID=America/Chicago:20250601T183000
DTEND;TZID=America/Chicago:20250601T203000
DTSTAMP:20260422T055635
CREATED:20240503T171959Z
LAST-MODIFIED:20250606T164550Z
UID:10003287-1748802600-1748809800@www.tedallas.org
SUMMARY:Tikkun Leil Shavuot
DESCRIPTION:Join us in Stern Chapel and online at tedallas.org/livestream to hear the Ten Commandments read from ten of our cherished Torah scrolls and engage in a text study led by Rabbi Amy Rossel. \nThen\, let your senses be delighted with a live cooking demonstration by Cantor in the Kitch Leslie Niren and pastry chef Dunia Terselich Borga of La Duni Baking Studio as they share about the delicious dairy customs of Shavuot. Please note that the food tasting portion of Cantor in The Kitch has reached capacity. Register below to attend the cooking demo and to be added to the tasting waitlist. \nPlease note\, only the part of the evening in Stern Chapel will be livestreamed.
URL:https://www.tedallas.org/event/tikkun-leil-shavuot/
LOCATION:Temple Emanu-El Tycher Gathering Space
CATEGORIES:Adult Learning,Jewish Holidays,Learning,Livestream,Prayer and Spirituality
ATTACH;FMTTYPE=image/jpeg:https://www.tedallas.org/wp-content/uploads/2024/05/Shavuot-25-CITK-web2.jpg
ORGANIZER;CN="Tal Drori":MAILTO:tdrori@tedallas.org
END:VEVENT
BEGIN:VEVENT
DTSTART;TZID=America/Chicago:20250602T103000
DTEND;TZID=America/Chicago:20250602T120000
DTSTAMP:20260422T055635
CREATED:20250529T161243Z
LAST-MODIFIED:20250606T164703Z
UID:10003972-1748860200-1748865600@www.tedallas.org
SUMMARY:June 2\, 2025: Shavuot Festival Service with Yizkor
DESCRIPTION:We celebrate our covenant with God and recommit ourselves to Torah and Jewish practice. The service includes psalms of praise and the reading of the Ten Commandments. Enjoy a Shavuot oneg following the service\, with light refreshments\, fruit and traditional dairy offerings along with choices for all dietary needs. Service led by Rabbi David Stern and Cantor Hallie Weiner.
URL:https://www.tedallas.org/event/june-2-2025-shavuot-festival-service-with-yizkor/
LOCATION:Temple Emanu-El Stern Chapel
CATEGORIES:Jewish Holidays,Livestream,Prayer and Spirituality
ATTACH;FMTTYPE=image/jpeg:https://www.tedallas.org/wp-content/uploads/2022/08/Stern-Chapel-feature-image.jpg
END:VEVENT
BEGIN:VEVENT
DTSTART;TZID=America/Chicago:20250605T190000
DTEND;TZID=America/Chicago:20250605T203000
DTSTAMP:20260422T055635
CREATED:20250430T162546Z
LAST-MODIFIED:20250515T182604Z
UID:10003948-1749150000-1749155400@www.tedallas.org
SUMMARY:The Soul of Poetry with Rabbi David Stern and Valerie Taylor
DESCRIPTION:Explore the power of poetry as a tool for spiritual growth in this four-session course led by Rabbi David Stern and Valerie Taylor. Through the lens of four Jewish themes—gratitude\, grief and memory\, justice\, and connections—participants will engage with poetry from both Jewish and non-Jewish voices. The sessions combine analytical and experiential approaches and are designed to build on each other for a deeper journey into personal meaning and reflection. Learners are encouraged to attend all four sessions\, as themes\, skills and practices will build on one another. \nThis class series has reached capacity. Please contact Sammy Weyser to stay updated on future learning opportunities.
URL:https://www.tedallas.org/event/the-soul-of-poetry/2025-06-05/
LOCATION:Temple Emanu-El Linz Hall
CATEGORIES:Adult Learning,Learning,Prayer and Spirituality
ATTACH;FMTTYPE=image/jpeg:https://www.tedallas.org/wp-content/uploads/2025/04/poetry-web.jpg
ORGANIZER;CN="Sammy Weyser":MAILTO:sweyser@tedallas.org
END:VEVENT
BEGIN:VEVENT
DTSTART;TZID=America/Chicago:20250606T181500
DTEND;TZID=America/Chicago:20250606T193000
DTSTAMP:20260422T055635
CREATED:20250514T215607Z
LAST-MODIFIED:20250620T190018Z
UID:10003960-1749233700-1749238200@www.tedallas.org
SUMMARY:June 6\, 2025: Pride Shabbat
DESCRIPTION:Wear your rainbows and pride swag as we welcome the Sabbath and celebrate Temple’s inclusivity at Pride Shabbat! The evening will include festive onegs before and after the service\, music and prayers by LGBTQ+ composers and a sermon reflecting on LGBTQ+ advocacy in the Reform Movement.
URL:https://www.tedallas.org/event/2025-pride-shabbat/
LOCATION:Temple Emanu-El Stern Chapel
CATEGORIES:Community,LGBTQ+,Livestream,Prayer and Spirituality
ATTACH;FMTTYPE=image/jpeg:https://www.tedallas.org/wp-content/uploads/2022/08/Stern-Chapel-feature-image.jpg
ORGANIZER;CN="Shira Stevenson":MAILTO:sstevenson@tedallas.org
END:VEVENT
BEGIN:VEVENT
DTSTART;TZID=America/Chicago:20250607T090000
DTEND;TZID=America/Chicago:20250607T103000
DTSTAMP:20260422T055635
CREATED:20240318T154426Z
LAST-MODIFIED:20260102T200915Z
UID:10003796-1749286800-1749292200@www.tedallas.org
SUMMARY:Chever Torah
DESCRIPTION:
URL:https://www.tedallas.org/event/chever-torah-2022-09-24-3-2/2025-06-07/
LOCATION:Temple Emanu-El Barbara Zale Center for Living History
CATEGORIES:Adult Learning,Prayer and Spirituality
ATTACH;FMTTYPE=image/jpeg:https://www.tedallas.org/wp-content/uploads/2024/03/chever-torah-web.jpg
END:VEVENT
BEGIN:VEVENT
DTSTART;TZID=America/Chicago:20250607T103000
DTEND;TZID=America/Chicago:20250607T120000
DTSTAMP:20260422T055635
CREATED:20250529T160649Z
LAST-MODIFIED:20250620T190105Z
UID:10003971-1749292200-1749297600@www.tedallas.org
SUMMARY:June 7\, 2025: Shabbat Morning Service
DESCRIPTION:with Rabbi Debra Robbins and Cantor Leslie Niren
URL:https://www.tedallas.org/event/june-7-2025-shabbat-morning-service/
LOCATION:Temple Emanu-El Lefkowitz Chapel
CATEGORIES:Livestream,Prayer and Spirituality
ATTACH;FMTTYPE=image/jpeg:https://www.tedallas.org/wp-content/uploads/2022/08/Lefkowitz-feature-image.jpg
END:VEVENT
BEGIN:VEVENT
DTSTART;TZID=America/Chicago:20250612T190000
DTEND;TZID=America/Chicago:20250612T203000
DTSTAMP:20260422T055635
CREATED:20250430T162546Z
LAST-MODIFIED:20250515T182604Z
UID:10003949-1749754800-1749760200@www.tedallas.org
SUMMARY:The Soul of Poetry with Rabbi David Stern and Valerie Taylor
DESCRIPTION:Explore the power of poetry as a tool for spiritual growth in this four-session course led by Rabbi David Stern and Valerie Taylor. Through the lens of four Jewish themes—gratitude\, grief and memory\, justice\, and connections—participants will engage with poetry from both Jewish and non-Jewish voices. The sessions combine analytical and experiential approaches and are designed to build on each other for a deeper journey into personal meaning and reflection. Learners are encouraged to attend all four sessions\, as themes\, skills and practices will build on one another. \nThis class series has reached capacity. Please contact Sammy Weyser to stay updated on future learning opportunities.
URL:https://www.tedallas.org/event/the-soul-of-poetry/2025-06-12/
LOCATION:Temple Emanu-El Linz Hall
CATEGORIES:Adult Learning,Learning,Prayer and Spirituality
ATTACH;FMTTYPE=image/jpeg:https://www.tedallas.org/wp-content/uploads/2025/04/poetry-web.jpg
ORGANIZER;CN="Sammy Weyser":MAILTO:sweyser@tedallas.org
END:VEVENT
BEGIN:VEVENT
DTSTART;TZID=America/Chicago:20250613T181500
DTEND;TZID=America/Chicago:20250613T194500
DTSTAMP:20260422T055635
CREATED:20250612T230123Z
LAST-MODIFIED:20250620T190138Z
UID:10003973-1749838500-1749843900@www.tedallas.org
SUMMARY:June 13\, 2025: Shabbat Evening Service
DESCRIPTION:with Rabbi Debra Robbins and Cantor Leslie Niren | Sermon by Rabbi Michael Lewis
URL:https://www.tedallas.org/event/june-13-2025-shabbat-evening-service/
LOCATION:Temple Emanu-El Stern Chapel
CATEGORIES:Livestream,Prayer and Spirituality
ATTACH;FMTTYPE=image/jpeg:https://www.tedallas.org/wp-content/uploads/2022/08/Stern-Chapel-feature-image.jpg
END:VEVENT
BEGIN:VEVENT
DTSTART;TZID=America/Chicago:20250614T090000
DTEND;TZID=America/Chicago:20250614T103000
DTSTAMP:20260422T055635
CREATED:20240318T154426Z
LAST-MODIFIED:20260102T200915Z
UID:10003797-1749891600-1749897000@www.tedallas.org
SUMMARY:Chever Torah
DESCRIPTION:
URL:https://www.tedallas.org/event/chever-torah-2022-09-24-3-2/2025-06-14/
LOCATION:Temple Emanu-El Barbara Zale Center for Living History
CATEGORIES:Adult Learning,Prayer and Spirituality
ATTACH;FMTTYPE=image/jpeg:https://www.tedallas.org/wp-content/uploads/2024/03/chever-torah-web.jpg
END:VEVENT
BEGIN:VEVENT
DTSTART;TZID=America/Chicago:20250614T103000
DTEND;TZID=America/Chicago:20250614T120000
DTSTAMP:20260422T055635
CREATED:20250612T230514Z
LAST-MODIFIED:20250620T190208Z
UID:10003974-1749897000-1749902400@www.tedallas.org
SUMMARY:June 14\, 2025: Shabbat Morning Service
DESCRIPTION:
URL:https://www.tedallas.org/event/june-14-2025-shabbat-morning-service/
LOCATION:Temple Emanu-El Lefkowitz Chapel
CATEGORIES:Livestream,Prayer and Spirituality
ATTACH;FMTTYPE=image/jpeg:https://www.tedallas.org/wp-content/uploads/2022/08/Lefkowitz-feature-image.jpg
END:VEVENT
BEGIN:VEVENT
DTSTART;TZID=America/Chicago:20250620T181500
DTEND;TZID=America/Chicago:20250620T194500
DTSTAMP:20260422T055635
CREATED:20250620T154053Z
LAST-MODIFIED:20251017T162242Z
UID:10003975-1750443300-1750448700@www.tedallas.org
SUMMARY:June 20\, 2025: Shabbat Evening Service
DESCRIPTION:with Rabbi Debra Robbins\, Cantor Vicky Glikin\, Cantor Leslie Niren and Jacob Fishman\, songleader\nWe welcome Shabbat by exploring the depth of the opening poetic psalms with expansive singing and silence. This week\, we will offer special blessings of shelter and peace to each other\, for Israel and our world. We invite you to bring your own tallit for this blessing.
URL:https://www.tedallas.org/event/june-20-2025-shabbat-evening-service/
LOCATION:Temple Emanu-El Stern Chapel
CATEGORIES:Livestream,Prayer and Spirituality
ATTACH;FMTTYPE=image/jpeg:https://www.tedallas.org/wp-content/uploads/2022/08/Stern-Chapel-feature-image.jpg
END:VEVENT
BEGIN:VEVENT
DTSTART;TZID=America/Chicago:20250621T090000
DTEND;TZID=America/Chicago:20250621T103000
DTSTAMP:20260422T055635
CREATED:20240318T154426Z
LAST-MODIFIED:20260102T200915Z
UID:10003798-1750496400-1750501800@www.tedallas.org
SUMMARY:Chever Torah
DESCRIPTION:
URL:https://www.tedallas.org/event/chever-torah-2022-09-24-3-2/2025-06-21/
LOCATION:Temple Emanu-El Barbara Zale Center for Living History
CATEGORIES:Adult Learning,Prayer and Spirituality
ATTACH;FMTTYPE=image/jpeg:https://www.tedallas.org/wp-content/uploads/2024/03/chever-torah-web.jpg
END:VEVENT
BEGIN:VEVENT
DTSTART;TZID=America/Chicago:20250621T103000
DTEND;TZID=America/Chicago:20250621T120000
DTSTAMP:20260422T055635
CREATED:20250620T154214Z
LAST-MODIFIED:20251017T162330Z
UID:10003976-1750501800-1750507200@www.tedallas.org
SUMMARY:June 21\, 2025: Shabbat Morning Service
DESCRIPTION:with Rabbi Michael Lewis and Randy Pearlman\, Cantorial Soloist | D’var Torah by Debbi Levy
URL:https://www.tedallas.org/event/june-21-2025-shabbat-morning-service/
LOCATION:Temple Emanu-El Lefkowitz Chapel
CATEGORIES:Livestream,Prayer and Spirituality
ATTACH;FMTTYPE=image/jpeg:https://www.tedallas.org/wp-content/uploads/2022/08/Lefkowitz-feature-image.jpg
END:VEVENT
BEGIN:VEVENT
DTSTART;TZID=America/Chicago:20250627T181500
DTEND;TZID=America/Chicago:20250627T193000
DTSTAMP:20260422T055635
CREATED:20250627T153925Z
LAST-MODIFIED:20251017T162349Z
UID:10003980-1751048100-1751052600@www.tedallas.org
SUMMARY:June 27\, 2025: Shabbat Evening Service
DESCRIPTION:with Rabbi Debra Robbins and Cantor Vicky Glikin | Sermon by Rabbi Kimberly Herzog Cohen \nThis week our Shabbat evening service will include recognition of anyone who has a Mazel Tov Moment – a birthday or joyous occasion to celebrate.
URL:https://www.tedallas.org/event/june-27-2025-shabbat-evening-service/
LOCATION:Temple Emanu-El Stern Chapel
CATEGORIES:Livestream,Prayer and Spirituality
ATTACH;FMTTYPE=image/jpeg:https://www.tedallas.org/wp-content/uploads/2022/08/Stern-Chapel-feature-image.jpg
END:VEVENT
BEGIN:VEVENT
DTSTART;TZID=America/Chicago:20250628T090000
DTEND;TZID=America/Chicago:20250628T103000
DTSTAMP:20260422T055635
CREATED:20240318T154426Z
LAST-MODIFIED:20260102T200915Z
UID:10003799-1751101200-1751106600@www.tedallas.org
SUMMARY:Chever Torah
DESCRIPTION:
URL:https://www.tedallas.org/event/chever-torah-2022-09-24-3-2/2025-06-28/
LOCATION:Temple Emanu-El Barbara Zale Center for Living History
CATEGORIES:Adult Learning,Prayer and Spirituality
ATTACH;FMTTYPE=image/jpeg:https://www.tedallas.org/wp-content/uploads/2024/03/chever-torah-web.jpg
END:VEVENT
BEGIN:VEVENT
DTSTART;TZID=America/Chicago:20250628T103000
DTEND;TZID=America/Chicago:20250628T120000
DTSTAMP:20260422T055635
CREATED:20250627T154318Z
LAST-MODIFIED:20251017T162406Z
UID:10003981-1751106600-1751112000@www.tedallas.org
SUMMARY:June 28\, 2025: Shabbat Morning Service
DESCRIPTION:with Cantor Vicky Glikin and Rabbi Michael Lewis | D’var Torah by Michael Selz
URL:https://www.tedallas.org/event/june-28-2025-shabbat-morning-service/
LOCATION:Temple Emanu-El Lefkowitz Chapel
CATEGORIES:Livestream,Prayer and Spirituality
ATTACH;FMTTYPE=image/jpeg:https://www.tedallas.org/wp-content/uploads/2022/08/Lefkowitz-feature-image.jpg
END:VEVENT
END:VCALENDAR