BEGIN:VCALENDAR
VERSION:2.0
PRODID:-//Temple Emanu-El - ECPv6.15.20//NONSGML v1.0//EN
CALSCALE:GREGORIAN
METHOD:PUBLISH
X-WR-CALNAME:Temple Emanu-El
X-ORIGINAL-URL:https://www.tedallas.org
X-WR-CALDESC:Events for Temple Emanu-El
REFRESH-INTERVAL;VALUE=DURATION:PT1H
X-Robots-Tag:noindex
X-PUBLISHED-TTL:PT1H
BEGIN:VTIMEZONE
TZID:America/Chicago
BEGIN:DAYLIGHT
TZOFFSETFROM:-0600
TZOFFSETTO:-0500
TZNAME:CDT
DTSTART:20250309T080000
END:DAYLIGHT
BEGIN:STANDARD
TZOFFSETFROM:-0500
TZOFFSETTO:-0600
TZNAME:CST
DTSTART:20251102T070000
END:STANDARD
BEGIN:DAYLIGHT
TZOFFSETFROM:-0600
TZOFFSETTO:-0500
TZNAME:CDT
DTSTART:20260308T080000
END:DAYLIGHT
BEGIN:STANDARD
TZOFFSETFROM:-0500
TZOFFSETTO:-0600
TZNAME:CST
DTSTART:20261101T070000
END:STANDARD
BEGIN:DAYLIGHT
TZOFFSETFROM:-0600
TZOFFSETTO:-0500
TZNAME:CDT
DTSTART:20270314T080000
END:DAYLIGHT
BEGIN:STANDARD
TZOFFSETFROM:-0500
TZOFFSETTO:-0600
TZNAME:CST
DTSTART:20271107T070000
END:STANDARD
END:VTIMEZONE
BEGIN:VEVENT
DTSTART;TZID=America/Chicago:20260318T140000
DTEND;TZID=America/Chicago:20260318T150000
DTSTAMP:20260419T090603
CREATED:20260211T212517Z
LAST-MODIFIED:20260211T212517Z
UID:10004350-1773842400-1773846000@www.tedallas.org
SUMMARY:March Café Emanu-El
DESCRIPTION:Come to Temple on the third Wednesday of every month from 2-3 p.m. to schmooze\, sip and snack with a vibrant community of older adults! Join us this month to celebrate spring and enjoy good company as we prepare for the Passover season together.
URL:https://www.tedallas.org/event/march-cafe-emanu-el/
LOCATION:Temple Emanu-El Tycher Gathering Space
CATEGORIES:Community,Older Adults
ATTACH;FMTTYPE=image/jpeg:https://www.tedallas.org/wp-content/uploads/2024/04/CafeEmanu-El.jpg
ORGANIZER;CN="Katie London":MAILTO:klondon@tedallas.org
END:VEVENT
END:VCALENDAR