BEGIN:VCALENDAR
VERSION:2.0
PRODID:-//Temple Emanu-El - ECPv6.15.20//NONSGML v1.0//EN
CALSCALE:GREGORIAN
METHOD:PUBLISH
X-WR-CALNAME:Temple Emanu-El
X-ORIGINAL-URL:https://www.tedallas.org
X-WR-CALDESC:Events for Temple Emanu-El
REFRESH-INTERVAL;VALUE=DURATION:PT1H
X-Robots-Tag:noindex
X-PUBLISHED-TTL:PT1H
BEGIN:VTIMEZONE
TZID:America/Chicago
BEGIN:DAYLIGHT
TZOFFSETFROM:-0600
TZOFFSETTO:-0500
TZNAME:CDT
DTSTART:20250309T080000
END:DAYLIGHT
BEGIN:STANDARD
TZOFFSETFROM:-0500
TZOFFSETTO:-0600
TZNAME:CST
DTSTART:20251102T070000
END:STANDARD
BEGIN:DAYLIGHT
TZOFFSETFROM:-0600
TZOFFSETTO:-0500
TZNAME:CDT
DTSTART:20260308T080000
END:DAYLIGHT
BEGIN:STANDARD
TZOFFSETFROM:-0500
TZOFFSETTO:-0600
TZNAME:CST
DTSTART:20261101T070000
END:STANDARD
BEGIN:DAYLIGHT
TZOFFSETFROM:-0600
TZOFFSETTO:-0500
TZNAME:CDT
DTSTART:20270314T080000
END:DAYLIGHT
BEGIN:STANDARD
TZOFFSETFROM:-0500
TZOFFSETTO:-0600
TZNAME:CST
DTSTART:20271107T070000
END:STANDARD
END:VTIMEZONE
BEGIN:VEVENT
DTSTART;TZID=America/Chicago:20260218T140000
DTEND;TZID=America/Chicago:20260218T150000
DTSTAMP:20260421T063421
CREATED:20260102T200716Z
LAST-MODIFIED:20260102T200754Z
UID:10004258-1771423200-1771426800@www.tedallas.org
SUMMARY:February Café Emanu-El
DESCRIPTION:Our vibrant community of older adults welcomes Aya Margalit for a meaningful program about the story behind Noya’s Bears\, Temple’s stuffed animal drive\, and her personal bond with Noya. Following the presentation\, attendees are invited to help write heartfelt notes to include in the bear packages being delivered later this month. Come enjoy community\, conversation and a chance to spread a little extra joy.
URL:https://www.tedallas.org/event/february-cafe-emanu-el/
LOCATION:Temple Emanu-El Tycher Gathering Space
CATEGORIES:Community,Older Adults
ATTACH;FMTTYPE=image/jpeg:https://www.tedallas.org/wp-content/uploads/2024/04/CafeEmanu-El.jpg
ORGANIZER;CN="Katie London":MAILTO:klondon@tedallas.org
END:VEVENT
END:VCALENDAR