BEGIN:VCALENDAR
VERSION:2.0
PRODID:-//Temple Emanu-El - ECPv6.15.20//NONSGML v1.0//EN
CALSCALE:GREGORIAN
METHOD:PUBLISH
X-WR-CALNAME:Temple Emanu-El
X-ORIGINAL-URL:https://www.tedallas.org
X-WR-CALDESC:Events for Temple Emanu-El
REFRESH-INTERVAL;VALUE=DURATION:PT1H
X-Robots-Tag:noindex
X-PUBLISHED-TTL:PT1H
BEGIN:VTIMEZONE
TZID:America/Chicago
BEGIN:DAYLIGHT
TZOFFSETFROM:-0600
TZOFFSETTO:-0500
TZNAME:CDT
DTSTART:20250309T080000
END:DAYLIGHT
BEGIN:STANDARD
TZOFFSETFROM:-0500
TZOFFSETTO:-0600
TZNAME:CST
DTSTART:20251102T070000
END:STANDARD
BEGIN:DAYLIGHT
TZOFFSETFROM:-0600
TZOFFSETTO:-0500
TZNAME:CDT
DTSTART:20260308T080000
END:DAYLIGHT
BEGIN:STANDARD
TZOFFSETFROM:-0500
TZOFFSETTO:-0600
TZNAME:CST
DTSTART:20261101T070000
END:STANDARD
BEGIN:DAYLIGHT
TZOFFSETFROM:-0600
TZOFFSETTO:-0500
TZNAME:CDT
DTSTART:20270314T080000
END:DAYLIGHT
BEGIN:STANDARD
TZOFFSETFROM:-0500
TZOFFSETTO:-0600
TZNAME:CST
DTSTART:20271107T070000
END:STANDARD
END:VTIMEZONE
BEGIN:VEVENT
DTSTART;TZID=America/Chicago:20260121T140000
DTEND;TZID=America/Chicago:20260121T150000
DTSTAMP:20260421T080156
CREATED:20251030T174444Z
LAST-MODIFIED:20251030T174627Z
UID:10004131-1769004000-1769007600@www.tedallas.org
SUMMARY:Cafè Emanu-El: Social Hour for Seniors
DESCRIPTION:Come to Temple on the third Wednesday of every month from 2-3 p.m. to schmooze\, sip and snack with a vibrant community of older adults. Start the new year with familiar faces and fresh connections—warm drinks\, light bites and plenty of good cheer included.
URL:https://www.tedallas.org/event/cafe-emanu-el-january/
LOCATION:Temple Emanu-El Tycher Gathering Space
CATEGORIES:Community,Older Adults
ATTACH;FMTTYPE=image/jpeg:https://www.tedallas.org/wp-content/uploads/2024/04/CafeEmanu-El.jpg
ORGANIZER;CN="Katie London":MAILTO:klondon@tedallas.org
END:VEVENT
END:VCALENDAR