BEGIN:VCALENDAR
VERSION:2.0
PRODID:-//Temple Emanu-El - ECPv6.15.20//NONSGML v1.0//EN
CALSCALE:GREGORIAN
METHOD:PUBLISH
X-ORIGINAL-URL:https://www.tedallas.org
X-WR-CALDESC:Events for Temple Emanu-El
REFRESH-INTERVAL;VALUE=DURATION:PT1H
X-Robots-Tag:noindex
X-PUBLISHED-TTL:PT1H
BEGIN:VTIMEZONE
TZID:America/Chicago
BEGIN:DAYLIGHT
TZOFFSETFROM:-0600
TZOFFSETTO:-0500
TZNAME:CDT
DTSTART:20240310T080000
END:DAYLIGHT
BEGIN:STANDARD
TZOFFSETFROM:-0500
TZOFFSETTO:-0600
TZNAME:CST
DTSTART:20241103T070000
END:STANDARD
BEGIN:DAYLIGHT
TZOFFSETFROM:-0600
TZOFFSETTO:-0500
TZNAME:CDT
DTSTART:20250309T080000
END:DAYLIGHT
BEGIN:STANDARD
TZOFFSETFROM:-0500
TZOFFSETTO:-0600
TZNAME:CST
DTSTART:20251102T070000
END:STANDARD
BEGIN:DAYLIGHT
TZOFFSETFROM:-0600
TZOFFSETTO:-0500
TZNAME:CDT
DTSTART:20260308T080000
END:DAYLIGHT
BEGIN:STANDARD
TZOFFSETFROM:-0500
TZOFFSETTO:-0600
TZNAME:CST
DTSTART:20261101T070000
END:STANDARD
END:VTIMEZONE
BEGIN:VEVENT
DTSTART;TZID=America/Chicago:20251217T140000
DTEND;TZID=America/Chicago:20251217T150000
DTSTAMP:20260425T072522
CREATED:20251030T174312Z
LAST-MODIFIED:20251203T164431Z
UID:10004130-1765980000-1765983600@www.tedallas.org
SUMMARY:Cafè Emanu-El: Social Hour for Seniors
DESCRIPTION:Come to Temple on the third Wednesday of every month from 2-3 p.m. to schmooze\, sip and snack with a vibrant community of older adults. Celebrate the joy of the season at Temple! We’ll have a Hannukah Sing-along\, some dreidel games and yummy Hannukah goodies shared with some of our ECEC students. Don’t forget to bring your new and gently used coats for the Coat Drive so we can help keep our neighbors warm this winter.
URL:https://www.tedallas.org/event/cafe-emanu-el-december/
LOCATION:Temple Emanu-El Tycher Gathering Space
CATEGORIES:Community,Older Adults
ATTACH;FMTTYPE=image/jpeg:https://www.tedallas.org/wp-content/uploads/2024/04/CafeEmanu-El.jpg
ORGANIZER;CN="Katie London":MAILTO:klondon@tedallas.org
END:VEVENT
END:VCALENDAR