BEGIN:VCALENDAR
VERSION:2.0
PRODID:-//Temple Emanu-El - ECPv6.15.20//NONSGML v1.0//EN
CALSCALE:GREGORIAN
METHOD:PUBLISH
X-ORIGINAL-URL:https://www.tedallas.org
X-WR-CALDESC:Events for Temple Emanu-El
REFRESH-INTERVAL;VALUE=DURATION:PT1H
X-Robots-Tag:noindex
X-PUBLISHED-TTL:PT1H
BEGIN:VTIMEZONE
TZID:America/Chicago
BEGIN:DAYLIGHT
TZOFFSETFROM:-0600
TZOFFSETTO:-0500
TZNAME:CDT
DTSTART:20250309T080000
END:DAYLIGHT
BEGIN:STANDARD
TZOFFSETFROM:-0500
TZOFFSETTO:-0600
TZNAME:CST
DTSTART:20251102T070000
END:STANDARD
BEGIN:DAYLIGHT
TZOFFSETFROM:-0600
TZOFFSETTO:-0500
TZNAME:CDT
DTSTART:20260308T080000
END:DAYLIGHT
BEGIN:STANDARD
TZOFFSETFROM:-0500
TZOFFSETTO:-0600
TZNAME:CST
DTSTART:20261101T070000
END:STANDARD
BEGIN:DAYLIGHT
TZOFFSETFROM:-0600
TZOFFSETTO:-0500
TZNAME:CDT
DTSTART:20270314T080000
END:DAYLIGHT
BEGIN:STANDARD
TZOFFSETFROM:-0500
TZOFFSETTO:-0600
TZNAME:CST
DTSTART:20271107T070000
END:STANDARD
END:VTIMEZONE
BEGIN:VEVENT
DTSTART;TZID=America/Chicago:20260301T100000
DTEND;TZID=America/Chicago:20260301T123000
DTSTAMP:20260421T175801
CREATED:20260102T195646Z
LAST-MODIFIED:20260108T233444Z
UID:10004255-1772359200-1772368200@www.tedallas.org
SUMMARY:K-pop Haman Hunters Spiel and Carnival
DESCRIPTION:Families with children of all ages are invited to celebrate Purim with costumes\, music and carnival fun. The morning begins with our K-pop Haman Hunters spiel\, an energetic retelling of the Purim story filled with surprises. \nFrom 10-11:15 a.m.\, children up to age 5 can enjoy Tot Time at the carnival\, complete with age-appropriate inflatables\, crafts and activities. At the same time\, older children and families are invited to enjoy this year’s dynamic K-pop-inspired spiel. \nFollowing the spiel\, the celebration continues as the carnival opens for all ages with inflatables\, games\, carnival lunch and dessert food trucks.
URL:https://www.tedallas.org/event/k-pop-spiel-and-carnival/
LOCATION:Temple Emanu-El Stern Chapel
CATEGORIES:Community,Early Childhood,Families,Jewish Holidays,Karla & Larry Steinberg Center for Jewish Learning
ATTACH;FMTTYPE=image/jpeg:https://www.tedallas.org/wp-content/uploads/2026/01/Kpop-web-1.jpg
ORGANIZER;CN="Presley Lisner":MAILTO:plisner@tedallas.org
END:VEVENT
BEGIN:VEVENT
DTSTART;TZID=America/Chicago:20260307T090000
DTEND;TZID=America/Chicago:20260307T100000
DTSTAMP:20260421T175801
CREATED:20260224T174623Z
LAST-MODIFIED:20260226T192912Z
UID:10004364-1772874000-1772877600@www.tedallas.org
SUMMARY:Tot Shabbat
DESCRIPTION:Join Rabbi Michael Lewis and songleader Jacob Fishman for a special Tot Shabbat! Wear your pajamas and enjoy a pancake breakfast for this short\, lively service made just for families with children up to age 5. 
URL:https://www.tedallas.org/event/tot-shabbat-4/
LOCATION:Temple Emanu-El Weiss Youth Wing
CATEGORIES:Community,Early Childhood,Families
ATTACH;FMTTYPE=image/jpeg:https://www.tedallas.org/wp-content/uploads/2022/07/Tot-Shabbat-website.jpg
ORGANIZER;CN="Jennifer Richman":MAILTO:jrichman@tedallas.org
END:VEVENT
BEGIN:VEVENT
DTSTART;TZID=America/Chicago:20260308T130000
DTEND;TZID=America/Chicago:20260308T150000
DTSTAMP:20260421T175801
CREATED:20250731T150542Z
LAST-MODIFIED:20260302T184755Z
UID:10004015-1772974800-1772982000@www.tedallas.org
SUMMARY:Tzedek Emanu-El Family Field Trip
DESCRIPTION:Due to expected rain\, this family field trip has been cancelled  \nJoin Temple Emanu-El at McShan Elementary to work on their garden. We will be volunteering at the McShan Elementary Garden in the Vickery Meadow Neighborhood helping to weed the garden beds\, mix compost into the beds\, spread wood chips in the walk ways\, and plant veggies. Please wear appropriate clothing and closed toed shoes.
URL:https://www.tedallas.org/event/tzedek-emanu-el-field-trip/
LOCATION:McShan Elementary
CATEGORIES:Community,Families,Justice,Karla & Larry Steinberg Center for Jewish Learning
ATTACH;FMTTYPE=image/jpeg:https://www.tedallas.org/wp-content/uploads/2025/07/TzedekE-familytrip.jpg
ORGANIZER;CN="Erica Matsil":MAILTO:ematsil@tedallas.org
END:VEVENT
BEGIN:VEVENT
DTSTART;TZID=America/Chicago:20260327T173000
DTEND;TZID=America/Chicago:20260327T173000
DTSTAMP:20260421T175801
CREATED:20260224T183505Z
LAST-MODIFIED:20260406T180304Z
UID:10004365-1774632600-1774632600@www.tedallas.org
SUMMARY:All-In Shabbat with Jason Mesches
DESCRIPTION:Dance\, wiggle and shake with Jewish children’s pop star Jason Mesches\, who will bring out the Shabbat shimmy in all of us! \n5:30pm: Pre-Oneg schmooze and snack\n6pm: Service and concert experience\, followed by dinner\n8pm: Campfire song session and s’mores with Jason (bring instruments!) \nSign up to volunteer at All-In Shabbat here
URL:https://www.tedallas.org/event/all-in-shabbat-with-jason-mesches/
LOCATION:Temple Emanu-El Stern Chapel
CATEGORIES:Community,Families,Livestream,Music, Arts, and Culture,Prayer and Spirituality
ATTACH;FMTTYPE=image/jpeg:https://www.tedallas.org/wp-content/uploads/2026/02/JasonMesches_WEB2.jpg
ORGANIZER;CN="Tal Drori":MAILTO:tdrori@tedallas.org
END:VEVENT
BEGIN:VEVENT
DTSTART;TZID=America/Chicago:20260329T160000
DTEND;TZID=America/Chicago:20260329T170000
DTSTAMP:20260421T175801
CREATED:20260224T191857Z
LAST-MODIFIED:20260316T164519Z
UID:10004366-1774800000-1774803600@www.tedallas.org
SUMMARY:Tot Rave with Jason Mesches
DESCRIPTION:Jason believes that music and dancing can change your life. The Tot Rave is one silly sesh for the under-6 set and their families. Come for the fun and spread the joy we will create together! Pizza nosh included. \nVolunteer for the Tot Rave here. 
URL:https://www.tedallas.org/event/tot-rave-with-jason-mesches/
LOCATION:Temple Emanu-El Haas Amphitheater
CATEGORIES:Community,Early Childhood,Families,Music, Arts, and Culture
ATTACH;FMTTYPE=image/jpeg:https://www.tedallas.org/wp-content/uploads/2026/02/JasonMesches_WEB2.jpg
ORGANIZER;CN="Tal Drori":MAILTO:tdrori@tedallas.org
END:VEVENT
END:VCALENDAR