BEGIN:VCALENDAR
VERSION:2.0
PRODID:-//Temple Emanu-El - ECPv6.15.20//NONSGML v1.0//EN
CALSCALE:GREGORIAN
METHOD:PUBLISH
X-WR-CALNAME:Temple Emanu-El
X-ORIGINAL-URL:https://www.tedallas.org
X-WR-CALDESC:Events for Temple Emanu-El
REFRESH-INTERVAL;VALUE=DURATION:PT1H
X-Robots-Tag:noindex
X-PUBLISHED-TTL:PT1H
BEGIN:VTIMEZONE
TZID:America/Chicago
BEGIN:DAYLIGHT
TZOFFSETFROM:-0600
TZOFFSETTO:-0500
TZNAME:CDT
DTSTART:20250309T080000
END:DAYLIGHT
BEGIN:STANDARD
TZOFFSETFROM:-0500
TZOFFSETTO:-0600
TZNAME:CST
DTSTART:20251102T070000
END:STANDARD
BEGIN:DAYLIGHT
TZOFFSETFROM:-0600
TZOFFSETTO:-0500
TZNAME:CDT
DTSTART:20260308T080000
END:DAYLIGHT
BEGIN:STANDARD
TZOFFSETFROM:-0500
TZOFFSETTO:-0600
TZNAME:CST
DTSTART:20261101T070000
END:STANDARD
BEGIN:DAYLIGHT
TZOFFSETFROM:-0600
TZOFFSETTO:-0500
TZNAME:CDT
DTSTART:20270314T080000
END:DAYLIGHT
BEGIN:STANDARD
TZOFFSETFROM:-0500
TZOFFSETTO:-0600
TZNAME:CST
DTSTART:20271107T070000
END:STANDARD
END:VTIMEZONE
BEGIN:VEVENT
DTSTART;TZID=America/Chicago:20260506T183000
DTEND;TZID=America/Chicago:20260506T200000
DTSTAMP:20260421T113618
CREATED:20260319T215143Z
LAST-MODIFIED:20260407T170446Z
UID:10004395-1778092200-1778097600@www.tedallas.org
SUMMARY:2026 Annual Meeting
DESCRIPTION:What a year it’s been! Join us for the 2026 Annual Meeting as we celebrate the accomplishments of the past year\, vote on new trustees\, officers\, Leadership Council members and chair and look ahead to the future of our congregation. Come at 6 p.m. for light refreshments and schmoozing before the meeting. \nRegister below to attend in person or online. Zoom details will be sent in your confirmation email.
URL:https://www.tedallas.org/event/2026-annual-meeting/
LOCATION:Temple Emanu-El Stern Chapel
CATEGORIES:Community,Community Events
ATTACH;FMTTYPE=image/jpeg:https://www.tedallas.org/wp-content/uploads/2026/03/annualmeet-web-1-1.jpg
ORGANIZER;CN="Andrew Paull":MAILTO:apaull@tedallas.org
END:VEVENT
BEGIN:VEVENT
DTSTART;TZID=America/Chicago:20260508T181500
DTEND;TZID=America/Chicago:20260508T200000
DTSTAMP:20260421T113618
CREATED:20260319T220229Z
LAST-MODIFIED:20260409T171107Z
UID:10004396-1778264100-1778270400@www.tedallas.org
SUMMARY:Board and Leadership Council Installation Shabbat
DESCRIPTION:Join us for a special Shabbat service with the Temple Emanu-El Choir as we install our new officers\, trustees\, and Leadership Council members and recognize those completing their service on the board. \nAn oneg will be held before and after the service in celebration of our newly installed Board of Trustees and Leadership Council.
URL:https://www.tedallas.org/event/board-and-leadership-council-installation-shabbat/
LOCATION:Temple Emanu-El Stern Chapel
CATEGORIES:Community,Community Events,Prayer and Spirituality
ATTACH;FMTTYPE=image/jpeg:https://www.tedallas.org/wp-content/uploads/2022/07/Temple-logo-event-image-1.jpg
END:VEVENT
END:VCALENDAR