BEGIN:VCALENDAR
VERSION:2.0
PRODID:-//Temple Emanu-El - ECPv6.15.20//NONSGML v1.0//EN
CALSCALE:GREGORIAN
METHOD:PUBLISH
X-ORIGINAL-URL:https://www.tedallas.org
X-WR-CALDESC:Events for Temple Emanu-El
REFRESH-INTERVAL;VALUE=DURATION:PT1H
X-Robots-Tag:noindex
X-PUBLISHED-TTL:PT1H
BEGIN:VTIMEZONE
TZID:America/Chicago
BEGIN:DAYLIGHT
TZOFFSETFROM:-0600
TZOFFSETTO:-0500
TZNAME:CDT
DTSTART:20210314T080000
END:DAYLIGHT
BEGIN:STANDARD
TZOFFSETFROM:-0500
TZOFFSETTO:-0600
TZNAME:CST
DTSTART:20211107T070000
END:STANDARD
BEGIN:DAYLIGHT
TZOFFSETFROM:-0600
TZOFFSETTO:-0500
TZNAME:CDT
DTSTART:20220313T080000
END:DAYLIGHT
BEGIN:STANDARD
TZOFFSETFROM:-0500
TZOFFSETTO:-0600
TZNAME:CST
DTSTART:20221106T070000
END:STANDARD
BEGIN:DAYLIGHT
TZOFFSETFROM:-0600
TZOFFSETTO:-0500
TZNAME:CDT
DTSTART:20230312T080000
END:DAYLIGHT
BEGIN:STANDARD
TZOFFSETFROM:-0500
TZOFFSETTO:-0600
TZNAME:CST
DTSTART:20231105T070000
END:STANDARD
BEGIN:DAYLIGHT
TZOFFSETFROM:-0600
TZOFFSETTO:-0500
TZNAME:CDT
DTSTART:20240310T080000
END:DAYLIGHT
BEGIN:STANDARD
TZOFFSETFROM:-0500
TZOFFSETTO:-0600
TZNAME:CST
DTSTART:20241103T070000
END:STANDARD
BEGIN:DAYLIGHT
TZOFFSETFROM:-0600
TZOFFSETTO:-0500
TZNAME:CDT
DTSTART:20250309T080000
END:DAYLIGHT
BEGIN:STANDARD
TZOFFSETFROM:-0500
TZOFFSETTO:-0600
TZNAME:CST
DTSTART:20251102T070000
END:STANDARD
BEGIN:DAYLIGHT
TZOFFSETFROM:-0600
TZOFFSETTO:-0500
TZNAME:CDT
DTSTART:20260308T080000
END:DAYLIGHT
BEGIN:STANDARD
TZOFFSETFROM:-0500
TZOFFSETTO:-0600
TZNAME:CST
DTSTART:20261101T070000
END:STANDARD
END:VTIMEZONE
BEGIN:VTIMEZONE
TZID:UTC
BEGIN:STANDARD
TZOFFSETFROM:+0000
TZOFFSETTO:+0000
TZNAME:UTC
DTSTART:20230101T000000
END:STANDARD
END:VTIMEZONE
BEGIN:VEVENT
DTSTART;TZID=America/Chicago:20250624T180000
DTEND;TZID=America/Chicago:20250624T190000
DTSTAMP:20260421T044355
CREATED:20250321T194457Z
LAST-MODIFIED:20250430T154939Z
UID:10003922-1750788000-1750791600@www.tedallas.org
SUMMARY:The Golden Ages of Jewish History | American Judaism
DESCRIPTION:In light of the challenge of this Jewish moment\, exploring other ‘Golden Ages’ in Jewish history – each of which have been filled with great opportunity for Jews but also moments of prominent strife and struggle — can inform our responses as we navigate rising antisemitism and increased demonization of Israel in the world around us. Temple’s 20’s and 30’s community is invited to join Rabbi Michael Lewis for three Judaism Unfiltered sessions exploring these Golden Ages. In this final session\, we’ll turn closer to home and explore the Golden Age of American Judaism and think about our own community’s contribution to the Jewish people and Jewish learning. Register for individual sessions or all three below. Please note\, this event is only for our 20’s and 30’s community.
URL:https://www.tedallas.org/event/golden-ages-american-judaism/
LOCATION:Temple Emanu-El Weiss Youth Wing
CATEGORIES:Adult Learning,ATiD 20s and 30s
ATTACH;FMTTYPE=image/jpeg:https://www.tedallas.org/wp-content/uploads/2023/03/Judaism-Unfiltered-Logo-4-scaled.jpg
ORGANIZER;CN="Sammy Weyser":MAILTO:sweyser@tedallas.org
END:VEVENT
BEGIN:VEVENT
DTSTART;TZID=America/Chicago:20250611T180000
DTEND;TZID=America/Chicago:20250611T190000
DTSTAMP:20260421T044355
CREATED:20250321T194301Z
LAST-MODIFIED:20250430T155030Z
UID:10003921-1749664800-1749668400@www.tedallas.org
SUMMARY:The Golden Ages of Jewish History | Spain and Ashkenaz
DESCRIPTION:In light of the challenge of this Jewish moment\, exploring other ‘Golden Ages’ in Jewish history – each of which have been filled with great opportunity for Jews but also moments of prominent strife and struggle — can inform our responses as we navigate rising antisemitism and increased demonization of Israel in the world around us. Temple’s 20’s and 30’s community is invited to join Rabbi Michael Lewis for three Judaism Unfiltered sessions exploring these Golden Ages. In this second session\, we will study the Golden Age of Spain and Ashkenaz\, learning about the great Torah commentaries and the anti-Judaism our ancestors faced along the way. Register for individual sessions or all three below. Please note\, this event is only for our 20’s and 30’s community.
URL:https://www.tedallas.org/event/golden-ages-spain-and-ashkenaz/
LOCATION:Temple Emanu-El Weiss Youth Wing
CATEGORIES:Adult Learning,ATiD 20s and 30s
ATTACH;FMTTYPE=image/jpeg:https://www.tedallas.org/wp-content/uploads/2023/03/Judaism-Unfiltered-Logo-4-scaled.jpg
ORGANIZER;CN="Sammy Weyser":MAILTO:sweyser@tedallas.org
END:VEVENT
BEGIN:VEVENT
DTSTART;TZID=America/Chicago:20250502T190000
DTEND;TZID=America/Chicago:20250502T203000
DTSTAMP:20260421T044355
CREATED:20250408T222919Z
LAST-MODIFIED:20250408T222919Z
UID:10003935-1746212400-1746217800@www.tedallas.org
SUMMARY:ATiD Yom Ha'atzmaut Shabbat Dinner
DESCRIPTION:Immediately following the Yom Ha’atzmaut All-In Shabbat service\, ATiD\, 20s and 30s\, is invited to enjoy dinner Shabbat dinner together and hear a panel discussion on what is happening currently in Israel and how Americans can help. The panel will feature Rabbi Michael Lewis\, Aya Margalit\, Temple’s S’hlicha\, and Andrew Keene\, the founder of ESEK\, an Israeli e-commerce platform that helps small businesses in Israel connect to the world through unique products from Israeli artisans and entrepreneurs.
URL:https://www.tedallas.org/event/atid-yom-haatzmaut-dinner/
LOCATION:Temple Emanu-El Weiss Youth Wing
CATEGORIES:ATiD 20s and 30s,Israel,Jewish Holidays
ATTACH;FMTTYPE=image/jpeg:https://www.tedallas.org/wp-content/uploads/2024/01/All-In-Shabbat-Web-Feb-16-scaled.jpg
ORGANIZER;CN="Sammy Weyser":MAILTO:sweyser@tedallas.org
END:VEVENT
BEGIN:VEVENT
DTSTART;TZID=America/Chicago:20250403T180000
DTEND;TZID=America/Chicago:20250403T190000
DTSTAMP:20260421T044355
CREATED:20250321T194012Z
LAST-MODIFIED:20250321T194012Z
UID:10003920-1743703200-1743706800@www.tedallas.org
SUMMARY:The Golden Ages of Jewish History | Babylonian Jewry
DESCRIPTION:In light of the challenge of this Jewish moment\, exploring other ‘Golden Ages’ in Jewish history – each of which have been filled with great opportunity for Jews but also moments of prominent strife and struggle — can inform our responses as we navigate rising antisemitism and increased demonization of Israel in the world around us. Temple’s 20’s and 30’s community is invited to join Rabbi Michael Lewis for three Judaism Unfiltered sessions exploring these Golden Ages. In this first session\, we will learn about the Golden Age of Babylonian Jewry\, exploring the Mishnah\, the Talmud\, and the Rabbis as they helped Judaism survive in a changing world. Register for individual sessions or all three below. Please note\, this event is only for our 20’s and 30’s community.
URL:https://www.tedallas.org/event/babylonian-jewry/
LOCATION:Temple Emanu-El Weiss Youth Wing
CATEGORIES:Adult Learning,ATiD 20s and 30s
ATTACH;FMTTYPE=image/jpeg:https://www.tedallas.org/wp-content/uploads/2023/03/Judaism-Unfiltered-Logo-4-scaled.jpg
ORGANIZER;CN="Sammy Weyser":MAILTO:sweyser@tedallas.org
END:VEVENT
BEGIN:VEVENT
DTSTART;TZID=America/Chicago:20250124T200000
DTEND;TZID=America/Chicago:20250124T200000
DTSTAMP:20260421T044355
CREATED:20221013T165120Z
LAST-MODIFIED:20250117T170010Z
UID:10001766-1737748800-1737748800@www.tedallas.org
SUMMARY:ATiD Shabbat Dinner
DESCRIPTION:Join ATiD\, 20s and 30s\, for the congregational Shabbat service followed by Shabbat dinner!
URL:https://www.tedallas.org/event/atid-late-night-shabbat/
LOCATION:Temple Emanu-El Weiss Youth Wing
CATEGORIES:ATiD 20s and 30s,Prayer and Spirituality
ATTACH;FMTTYPE=image/jpeg:https://www.tedallas.org/wp-content/uploads/2022/09/Atid-Website-Image.jpg
ORGANIZER;CN="Sammy Weyser":MAILTO:sweyser@tedallas.org
END:VEVENT
BEGIN:VEVENT
DTSTART;TZID=America/Chicago:20250115T183000
DTEND;TZID=America/Chicago:20250115T200000
DTSTAMP:20260421T044355
CREATED:20241216T201457Z
LAST-MODIFIED:20241216T201457Z
UID:10003731-1736965800-1736971200@www.tedallas.org
SUMMARY:Inside Jewish Budapest Info Session & Judaism Unfiltered
DESCRIPTION:ATiD is excited to invite young adults ages 22-39 on a once-in-a-lifetime trip to Budapest\, Hungary\, with JDC Entwine\, an initiative of the American Jewish Joint Distribution Committee. The trip is being generously subsidized by Temple\, and organized by JDC\, the largest Jewish humanitarian organization in the world. \nJoin Rabbi Michael Lewis for an information session about the trip\, the itinerary and learn about Jewish peoplehood while enjoying pizza\, beer and wine.
URL:https://www.tedallas.org/event/inside-jewish-budapest-info-session/
LOCATION:Temple Emanu-El Linz Hall
CATEGORIES:ATiD 20s and 30s,Community
ATTACH;FMTTYPE=image/jpeg:https://www.tedallas.org/wp-content/uploads/2022/09/Atid-Website-Image.jpg
ORGANIZER;CN="Sammy Weyser":MAILTO:sweyser@tedallas.org
END:VEVENT
BEGIN:VEVENT
DTSTART;TZID=America/Chicago:20241204T190000
DTEND;TZID=America/Chicago:20241204T203000
DTSTAMP:20260421T044355
CREATED:20241029T220008Z
LAST-MODIFIED:20241030T220312Z
UID:10003689-1733338800-1733344200@www.tedallas.org
SUMMARY:Who Knows One?
DESCRIPTION:Enjoy a fun evening with Micah Hart\, creator of “Who Knows One?\,” a live touring show with interactive games and storytelling. Think “Six Degrees of Separation” meets Jewish geography for this fun game showing us how interconnected we are.
URL:https://www.tedallas.org/event/who-knows-one/
LOCATION:Temple Emanu-El Stern Chapel
CATEGORIES:ATiD 20s and 30s,Community
ATTACH;FMTTYPE=image/jpeg:https://www.tedallas.org/wp-content/uploads/2024/10/WhoKnowsOne-web.jpg
ORGANIZER;CN="Sammy Weyser":MAILTO:sweyser@tedallas.org
END:VEVENT
BEGIN:VEVENT
DTSTART;TZID=America/Chicago:20241120T180000
DTEND;TZID=America/Chicago:20241120T190000
DTSTAMP:20260421T044355
CREATED:20241029T215614Z
LAST-MODIFIED:20241029T215614Z
UID:10003688-1732125600-1732129200@www.tedallas.org
SUMMARY:ATiD Happy Hour
DESCRIPTION:Connect with other young adults\, see old friends and enjoy some drinks and bites before the “Nobody Wants This” program with Rabbi Michael Lewis.
URL:https://www.tedallas.org/event/atid-happy-hour-3/
LOCATION:Temple Emanu-El Tycher Gathering Space
CATEGORIES:ATiD 20s and 30s
ATTACH;FMTTYPE=image/jpeg:https://www.tedallas.org/wp-content/uploads/2022/09/Atid-Website-Image.jpg
ORGANIZER;CN="Sammy Weyser":MAILTO:sweyser@tedallas.org
END:VEVENT
BEGIN:VEVENT
DTSTART;TZID=America/Chicago:20241022T190000
DTEND;TZID=America/Chicago:20241022T190000
DTSTAMP:20260421T044355
CREATED:20230829T195545Z
LAST-MODIFIED:20240927T193350Z
UID:10002804-1729623600-1729623600@www.tedallas.org
SUMMARY:ATiD Pizza in the Hut
DESCRIPTION:Celebrate Sukkot with ATiD! We will be enjoying pizza and each other’s company while we complete the mitzvah of dining in the sukkah.
URL:https://www.tedallas.org/event/atid-pizza-in-the-hut-2/
LOCATION:Temple Emanu-El Nasher-Haemisegger Family Atrium
CATEGORIES:ATiD 20s and 30s,Community,Jewish Holidays
ATTACH;FMTTYPE=image/jpeg:https://www.tedallas.org/wp-content/uploads/2024/09/Sukkot-website-scaled.jpg
ORGANIZER;CN="Sammy Weyser":MAILTO:sweyser@tedallas.org
END:VEVENT
BEGIN:VEVENT
DTSTART;TZID=America/Chicago:20241003T160000
DTEND;TZID=America/Chicago:20241003T160000
DTSTAMP:20260421T044355
CREATED:20240730T214514Z
LAST-MODIFIED:20240730T214514Z
UID:10003584-1727971200-1727971200@www.tedallas.org
SUMMARY:Tashlich | Focus on ATiD\, 20s and 30s
DESCRIPTION:This tashlich session will be geared towards ATiD\, 20s and 30s\, and open to all. Learn more about the 2024/5785 High Holy Days season here.
URL:https://www.tedallas.org/event/atid-tashlich/
LOCATION:White Rock Lake
CATEGORIES:ATiD 20s and 30s,High Holy Days
ATTACH;FMTTYPE=image/jpeg:https://www.tedallas.org/wp-content/uploads/2024/07/HHD-website-event.jpg
ORGANIZER;CN="Sammy Weyser":MAILTO:sweyser@tedallas.org
END:VEVENT
BEGIN:VEVENT
DTSTART;TZID=UTC:20241002T200000
DTEND;TZID=UTC:20241002T200000
DTSTAMP:20260421T044355
CREATED:20220720T223655Z
LAST-MODIFIED:20240730T211032Z
UID:10000657-1727899200-1727899200@www.tedallas.org
SUMMARY:ATiD Erev Rosh Hashanah Service
DESCRIPTION:Learn more about the 2024/5785 High Holy Days season here.
URL:https://www.tedallas.org/event/atid-erev-rosh-hashanah-service/
LOCATION:Temple Emanu-El Stern Chapel
CATEGORIES:ATiD 20s and 30s,High Holy Days,Prayer and Spirituality
ATTACH;FMTTYPE=image/jpeg:https://www.tedallas.org/wp-content/uploads/2024/07/HHD-website-event.jpg
ORGANIZER;CN="Sammy Weyser":MAILTO:sweyser@tedallas.org
END:VEVENT
BEGIN:VEVENT
DTSTART;TZID=America/Chicago:20240904T190000
DTEND;TZID=America/Chicago:20240904T190000
DTSTAMP:20260421T044355
CREATED:20240813T195245Z
LAST-MODIFIED:20240828T185710Z
UID:10003601-1725476400-1725476400@www.tedallas.org
SUMMARY:Judaism Unfiltered: What Makes a New Years Resolution Jewish
DESCRIPTION:Prepare for the High Holy Days! Join ATiD\, 20s and 30s\, and Rabbi Michael Lewis as we learn about why Jews don’t say “till death do us part” and other takes on vows and promises as we start a New Year – and what happens when we don’t keep them.
URL:https://www.tedallas.org/event/judaism-unfiltered-what-makes-a-new-years-resolution-jewish/
LOCATION:Temple Emanu-El Weiss Youth Wing
CATEGORIES:Adult Learning,ATiD 20s and 30s
ATTACH;FMTTYPE=image/jpeg:https://www.tedallas.org/wp-content/uploads/2023/03/Judaism-Unfiltered-Logo-4-scaled.jpg
ORGANIZER;CN="Sammy Weyser":MAILTO:sweyser@tedallas.org
END:VEVENT
BEGIN:VEVENT
DTSTART;TZID=America/Chicago:20240726T200000
DTEND;TZID=America/Chicago:20240726T200000
DTSTAMP:20260421T044355
CREATED:20240319T165036Z
LAST-MODIFIED:20240411T205538Z
UID:10003232-1722024000-1722024000@www.tedallas.org
SUMMARY:ATiD Late Night Shabbat
DESCRIPTION:Join ATiD 20s and 30s for our second Late Night Shabbat of the year. We will be having a short service followed by a dessert reception.
URL:https://www.tedallas.org/event/atid-late-night-shabbat-2/
LOCATION:Temple Emanu-El Linz Hall
CATEGORIES:ATiD 20s and 30s
ATTACH;FMTTYPE=image/jpeg:https://www.tedallas.org/wp-content/uploads/2022/09/Atid-Website-Image.jpg
ORGANIZER;CN="Sammy Weyser":MAILTO:sweyser@tedallas.org
END:VEVENT
BEGIN:VEVENT
DTSTART;TZID=America/Chicago:20240529T190000
DTEND;TZID=America/Chicago:20240529T190000
DTSTAMP:20260421T044355
CREATED:20240430T191814Z
LAST-MODIFIED:20240430T192623Z
UID:10003282-1717009200-1717009200@www.tedallas.org
SUMMARY:Judaism Unfiltered at Moishe House: What the Heck Happened at Mt. Sinai?
DESCRIPTION:What the heck actually happened at Mt. Sinai? And what does it mean to be commanded\, anyway? A conversation (with texts!) about bringing ancient Jewish traditions into the modern world with Rabbi Michael Lewis. The address will be given out to registrants closer to the event.
URL:https://www.tedallas.org/event/judaism-unfiltered-at-moishe-house-what-the-heck-happened-at-mt-sinai/
LOCATION:Moishe House
CATEGORIES:Adult Learning,ATiD 20s and 30s,Community,Learning
ATTACH;FMTTYPE=image/jpeg:https://www.tedallas.org/wp-content/uploads/2023/03/Judaism-Unfiltered-Logo-4-scaled.jpg
ORGANIZER;CN="Sammy Weyser":MAILTO:sweyser@tedallas.org
END:VEVENT
BEGIN:VEVENT
DTSTART;TZID=America/Chicago:20240508T180000
DTEND;TZID=America/Chicago:20240508T180000
DTSTAMP:20260421T044355
CREATED:20240319T165636Z
LAST-MODIFIED:20240319T165701Z
UID:10003233-1715191200-1715191200@www.tedallas.org
SUMMARY:ATiD Happy Hour
DESCRIPTION:Come hang out with ATiD 20s and 30s at Rustic and schmooze over some drinks. ATiD will purchase some light appetizers. You will be responsible for your drink purchase
URL:https://www.tedallas.org/event/atid-happy-hour-2/
LOCATION:The Rustic\, 3656 Howell Street
CATEGORIES:ATiD 20s and 30s
ATTACH;FMTTYPE=image/jpeg:https://www.tedallas.org/wp-content/uploads/2022/09/Atid-Website-Image.jpg
ORGANIZER;CN="Sammy Weyser":MAILTO:sweyser@tedallas.org
END:VEVENT
BEGIN:VEVENT
DTSTART;TZID=America/Chicago:20240220T190000
DTEND;TZID=America/Chicago:20240220T200000
DTSTAMP:20260421T044355
CREATED:20240116T175157Z
LAST-MODIFIED:20240205T153159Z
UID:10003161-1708455600-1708459200@www.tedallas.org
SUMMARY:Judaism Unfiltered: Israel with Sh'licha Aya Margalit
DESCRIPTION:Join Rabbi Michael Lewis\, Temple shlicha\, Aya Margalit and your ATiD 20s and 30s community for a conversation about the current conflict in Israel. A taco dinner will be included.
URL:https://www.tedallas.org/event/judaism-unfiltered-israel/
LOCATION:Temple Emanu-El Linz Hall
CATEGORIES:Adult Learning,ATiD 20s and 30s,Israel
ATTACH;FMTTYPE=image/jpeg:https://www.tedallas.org/wp-content/uploads/2023/10/Israel-flag2.jpg
ORGANIZER;CN="Sammy Weyser":MAILTO:sweyser@tedallas.org
END:VEVENT
BEGIN:VEVENT
DTSTART;TZID=America/Chicago:20240209T200000
DTEND;TZID=America/Chicago:20240209T200000
DTSTAMP:20260421T044355
CREATED:20240118T223320Z
LAST-MODIFIED:20240129T151803Z
UID:10003162-1707508800-1707508800@www.tedallas.org
SUMMARY:Late Night Shabbat and Speakeasy
DESCRIPTION:Join Cantor Leslie Niren and Rabbi Michael Lewis for a late Shabbat service for our 20s and 30s cohort followed by a speakeasy experience. Enjoy a light nosh and cocktail bar during the event.
URL:https://www.tedallas.org/event/late-night-shabbat-and-speakeasy/
LOCATION:Temple Emanu-El Tycher Gathering Space
CATEGORIES:ATiD 20s and 30s
ATTACH;FMTTYPE=image/jpeg:https://www.tedallas.org/wp-content/uploads/2022/09/Atid-Website-Image.jpg
ORGANIZER;CN="Sammy Weyser":MAILTO:sweyser@tedallas.org
END:VEVENT
BEGIN:VEVENT
DTSTART;TZID=America/Chicago:20231214T190000
DTEND;TZID=America/Chicago:20231214T210000
DTSTAMP:20260421T044355
CREATED:20231019T163808Z
LAST-MODIFIED:20231128T225428Z
UID:10002974-1702580400-1702587600@www.tedallas.org
SUMMARY:ATiD Home-Hosted Hanukkah
DESCRIPTION:Join your ATiD\, 20s and 30s\, community for a Hanukkah celebration. Enjoy latkes\, candle lighting and the warmth of coming together. Location address shared upon registration.
URL:https://www.tedallas.org/event/atid-hanukkah-2023/
LOCATION:Home-Hosted | Address Shared Upon Registration
CATEGORIES:ATiD 20s and 30s,Jewish Holidays
ATTACH;FMTTYPE=image/jpeg:https://www.tedallas.org/wp-content/uploads/2023/11/Hanukkiyah-Web-scaled.jpg
ORGANIZER;CN="Sammy Weyser":MAILTO:sweyser@tedallas.org
END:VEVENT
BEGIN:VEVENT
DTSTART;TZID=America/Chicago:20231107T180000
DTEND;TZID=America/Chicago:20231107T180000
DTSTAMP:20260421T044355
CREATED:20231006T144329Z
LAST-MODIFIED:20231006T144352Z
UID:10002960-1699380000-1699380000@www.tedallas.org
SUMMARY:ATiD Happy Hour at Truck Yard
DESCRIPTION:Join ATiD 20s and 30s for a happy hour at Truck Yard in Lower Greenville. Please be prepared to purchase your own drinks. Some snacks will be provided.
URL:https://www.tedallas.org/event/atid-happy-hour-at-truck-yard/
LOCATION:The Truckyard in Lower Greenville
CATEGORIES:ATiD 20s and 30s
ATTACH;FMTTYPE=image/jpeg:https://www.tedallas.org/wp-content/uploads/2022/09/Atid-Website-Image.jpg
END:VEVENT
BEGIN:VEVENT
DTSTART;TZID=America/Chicago:20230907T190000
DTEND;TZID=America/Chicago:20230907T193000
DTSTAMP:20260421T044355
CREATED:20230803T193523Z
LAST-MODIFIED:20230803T193635Z
UID:10002763-1694113200-1694115000@www.tedallas.org
SUMMARY:Intergenerational Trivia Night
DESCRIPTION:Join ATiD 20s and 30s and Women of Reform Judaism in an intergenerational trivia night. Snacks will be provided.
URL:https://www.tedallas.org/event/intergenerational-trivia-night/
LOCATION:Temple Emanu-El Linz Hall
CATEGORIES:ATiD 20s and 30s,Community,Women of Reform Judaism
ATTACH;FMTTYPE=image/jpeg:https://www.tedallas.org/wp-content/uploads/2022/07/Temple-logo-event-image-1.jpg
END:VEVENT
BEGIN:VEVENT
DTSTART;TZID=America/Chicago:20230713T190000
DTEND;TZID=America/Chicago:20230713T190000
DTSTAMP:20260421T044355
CREATED:20230620T150106Z
LAST-MODIFIED:20230620T150106Z
UID:10002730-1689274800-1689274800@www.tedallas.org
SUMMARY:Judaism Unfiltered: Israeli Politics 101
DESCRIPTION:Rabbi Michael Lewis will lead the discussion on current events in Israel. Tacos and drinks will be served.
URL:https://www.tedallas.org/event/judaism-unfiltered-israeli-politics-101/
LOCATION:Temple Emanu-El Weiss Youth Wing
CATEGORIES:ATiD 20s and 30s
ATTACH;FMTTYPE=image/jpeg:https://www.tedallas.org/wp-content/uploads/2023/03/Judaism-Unfiltered-Logo-4-scaled.jpg
END:VEVENT
BEGIN:VEVENT
DTSTART;TZID=America/Chicago:20230523T180000
DTEND;TZID=America/Chicago:20230523T180000
DTSTAMP:20260421T044355
CREATED:20230420T205457Z
LAST-MODIFIED:20230519T142845Z
UID:10002694-1684864800-1684864800@www.tedallas.org
SUMMARY:Judaism Unfiltered: Behind Closed Doors
DESCRIPTION:Join ATiD 20s and 30s in discussing intimate relationships in Jewish law with Rabbi Michael Lewis. Tacos and drinks will be served.
URL:https://www.tedallas.org/event/judaism-unfiltered-behind-closed-doors/
LOCATION:Temple Emanu-El Weiss Youth Wing
CATEGORIES:ATiD 20s and 30s,Justice
ATTACH;FMTTYPE=image/jpeg:https://www.tedallas.org/wp-content/uploads/2023/03/Judaism-Unfiltered-Logo-4-scaled.jpg
END:VEVENT
BEGIN:VEVENT
DTSTART;TZID=America/Chicago:20230503T180000
DTEND;TZID=America/Chicago:20230503T180000
DTSTAMP:20260421T044355
CREATED:20230403T213756Z
LAST-MODIFIED:20230403T213823Z
UID:10002680-1683136800-1683136800@www.tedallas.org
SUMMARY:ATiD Sidecar Social
DESCRIPTION:Join ATiD for happy hour at Sidecar Social in Addison. Enjoy shmoozing with old friends or new Dallasites. Participants are expected to buy their own drinks.
URL:https://www.tedallas.org/event/atid-sidecar-social/
CATEGORIES:ATiD 20s and 30s
ATTACH;FMTTYPE=image/jpeg:https://www.tedallas.org/wp-content/uploads/2022/09/Atid-Website-Image.jpg
END:VEVENT
BEGIN:VEVENT
DTSTART;TZID=America/Chicago:20230418T190000
DTEND;TZID=America/Chicago:20230418T200000
DTSTAMP:20260421T044355
CREATED:20230404T153209Z
LAST-MODIFIED:20230413T180543Z
UID:10002682-1681844400-1681848000@www.tedallas.org
SUMMARY:Judaism Unfiltered: Did the Exodus actually happen?
DESCRIPTION:Discuss the Passover story with Rabbi Lewis and discuss if it truly happened. Snacks and drinks will be provided.
URL:https://www.tedallas.org/event/judaism-unfiltered-did-the-exodus-actually-happen/
LOCATION:Temple Emanu-El Weiss Youth Wing
CATEGORIES:Adult Learning,ATiD 20s and 30s,Justice,Learning
ATTACH;FMTTYPE=image/jpeg:https://www.tedallas.org/wp-content/uploads/2023/03/Judaism-Unfiltered-Logo-4-scaled.jpg
END:VEVENT
BEGIN:VEVENT
DTSTART;TZID=America/Chicago:20230312T113000
DTEND;TZID=America/Chicago:20230312T113000
DTSTAMP:20260421T044355
CREATED:20230216T205036Z
LAST-MODIFIED:20230227T154818Z
UID:10001842-1678620600-1678620600@www.tedallas.org
SUMMARY:Yoga at White Rock with ATiD
DESCRIPTION:Enjoy a Sunday morning yoga session at White Rock Lake with a trained instructor. We will be meeting by the parking lot near the dog park. There will be coffee and snacks available. This event is weather depending and limited spots are available. Please bring your own mat if you have one.
URL:https://www.tedallas.org/event/yoga-at-white-rock-with-atid/
CATEGORIES:ATiD 20s and 30s
ATTACH;FMTTYPE=image/jpeg:https://www.tedallas.org/wp-content/uploads/2022/09/Atid-Website-Image.jpg
END:VEVENT
BEGIN:VEVENT
DTSTART;TZID=America/Chicago:20230228T190000
DTEND;TZID=America/Chicago:20230228T190000
DTSTAMP:20260421T044355
CREATED:20230112T220255Z
LAST-MODIFIED:20230112T220313Z
UID:10001482-1677610800-1677610800@www.tedallas.org
SUMMARY:Judaism Unfiltered: WE'RE DOOMED: having kids given the world we live in
DESCRIPTION:
URL:https://www.tedallas.org/event/judaism-unfiltered-were-doomed-having-kids-given-the-world-we-live-in/
LOCATION:Temple Emanu-El Linz Hall
CATEGORIES:ATiD 20s and 30s
ATTACH;FMTTYPE=image/jpeg:https://www.tedallas.org/wp-content/uploads/2022/09/Atid-Website-Image.jpg
END:VEVENT
BEGIN:VEVENT
DTSTART;TZID=America/Chicago:20230215T180000
DTEND;TZID=America/Chicago:20230215T180000
DTSTAMP:20260421T044355
CREATED:20230112T215945Z
LAST-MODIFIED:20230519T034613Z
UID:10001475-1676484000-1676484000@www.tedallas.org
SUMMARY:ATiD Happy Hour at Katy Trail Ice House
DESCRIPTION:
URL:https://www.tedallas.org/event/atid-happy-hour-at-katy-trail-ice-house/
CATEGORIES:ATiD 20s and 30s
ATTACH;FMTTYPE=image/jpeg:https://www.tedallas.org/wp-content/uploads/2022/09/Atid-Website-Image.jpg
END:VEVENT
BEGIN:VEVENT
DTSTART;TZID=America/Chicago:20230210T193000
DTEND;TZID=America/Chicago:20230210T193000
DTSTAMP:20260421T044355
CREATED:20230110T174917Z
LAST-MODIFIED:20230110T174917Z
UID:10001831-1676057400-1676057400@www.tedallas.org
SUMMARY:ATiD Late Night Shabbat Dinner in Partnership with Break Bread\, Break Borders
DESCRIPTION:The dinner will take place following services which will be focused on Temple’s refugee work. Break Bread\, Break Borders is a catering company that hires refugee women to cook their authentic food and tell their story.
URL:https://www.tedallas.org/event/atid-late-night-shabbat-dinner-in-partnership-with-break-bread-break-borders/
LOCATION:Temple Emanu-El Linz Hall
CATEGORIES:ATiD 20s and 30s
ATTACH;FMTTYPE=image/jpeg:https://www.tedallas.org/wp-content/uploads/2022/09/Atid-Website-Image.jpg
END:VEVENT
BEGIN:VEVENT
DTSTART;TZID=America/Chicago:20230125T190000
DTEND;TZID=America/Chicago:20230125T190000
DTSTAMP:20260421T044355
CREATED:20221221T182156Z
LAST-MODIFIED:20221221T182156Z
UID:10001805-1674673200-1674673200@www.tedallas.org
SUMMARY:Judaism Unfiltered
DESCRIPTION:Join ATiD in learning about what Judaism says regarding abortion. Drinks and small snacks will be served.
URL:https://www.tedallas.org/event/judaism-unfiltered/
LOCATION:Temple Emanu-El Linz Hall
CATEGORIES:Adult Learning,ATiD 20s and 30s
ATTACH;FMTTYPE=image/jpeg:https://www.tedallas.org/wp-content/uploads/2022/09/Atid-Website-Image.jpg
END:VEVENT
BEGIN:VEVENT
DTSTART;TZID=America/Chicago:20221220T190000
DTEND;TZID=America/Chicago:20221220T190000
DTSTAMP:20260421T044355
CREATED:20221207T203131Z
LAST-MODIFIED:20221207T203520Z
UID:10001459-1671562800-1671562800@www.tedallas.org
SUMMARY:Hanukkah with ATiD
DESCRIPTION:Celebrate Hanukkah with ATiD by lighting the candles\, spending time with friends and eating latkes at Rabbi Michael’s home.
URL:https://www.tedallas.org/event/hanukkah-with-atid/
CATEGORIES:ATiD 20s and 30s,Jewish Holidays
ATTACH;FMTTYPE=image/jpeg:https://www.tedallas.org/wp-content/uploads/2022/09/Atid-Website-Image.jpg
END:VEVENT
END:VCALENDAR