BEGIN:VCALENDAR
VERSION:2.0
PRODID:-//Temple Emanu-El - ECPv6.15.20//NONSGML v1.0//EN
CALSCALE:GREGORIAN
METHOD:PUBLISH
X-ORIGINAL-URL:https://www.tedallas.org
X-WR-CALDESC:Events for Temple Emanu-El
REFRESH-INTERVAL;VALUE=DURATION:PT1H
X-Robots-Tag:noindex
X-PUBLISHED-TTL:PT1H
BEGIN:VTIMEZONE
TZID:America/Chicago
BEGIN:DAYLIGHT
TZOFFSETFROM:-0600
TZOFFSETTO:-0500
TZNAME:CDT
DTSTART:20250309T080000
END:DAYLIGHT
BEGIN:STANDARD
TZOFFSETFROM:-0500
TZOFFSETTO:-0600
TZNAME:CST
DTSTART:20251102T070000
END:STANDARD
BEGIN:DAYLIGHT
TZOFFSETFROM:-0600
TZOFFSETTO:-0500
TZNAME:CDT
DTSTART:20260308T080000
END:DAYLIGHT
BEGIN:STANDARD
TZOFFSETFROM:-0500
TZOFFSETTO:-0600
TZNAME:CST
DTSTART:20261101T070000
END:STANDARD
BEGIN:DAYLIGHT
TZOFFSETFROM:-0600
TZOFFSETTO:-0500
TZNAME:CDT
DTSTART:20270314T080000
END:DAYLIGHT
BEGIN:STANDARD
TZOFFSETFROM:-0500
TZOFFSETTO:-0600
TZNAME:CST
DTSTART:20271107T070000
END:STANDARD
END:VTIMEZONE
BEGIN:VEVENT
DTSTART;TZID=America/Chicago:20260203T150000
DTEND;TZID=America/Chicago:20260203T160000
DTSTAMP:20260421T060700
CREATED:20240624T175638Z
LAST-MODIFIED:20260112T192319Z
UID:10003383-1770130800-1770134400@www.tedallas.org
SUMMARY:Yoga Emanu-El
DESCRIPTION:Join instructor Debbi K. Levy for an hour of yoga and mindfulness surrounded by the beauty Temple’s prayer spaces.
URL:https://www.tedallas.org/event/yoga-emanu-el-3/2026-02-03/
CATEGORIES:Adult Learning
ATTACH;FMTTYPE=image/jpeg:https://www.tedallas.org/wp-content/uploads/2022/09/yoga-emanu-el-e1662676573556.jpg
ORGANIZER;CN="Tal Drori":MAILTO:tdrori@tedallas.org
END:VEVENT
BEGIN:VEVENT
DTSTART;TZID=America/Chicago:20260205T120000
DTEND;TZID=America/Chicago:20260205T133000
DTSTAMP:20260421T060700
CREATED:20260102T194758Z
LAST-MODIFIED:20260209T225131Z
UID:10004251-1770292800-1770298200@www.tedallas.org
SUMMARY:Dialogue\, Memory and the Presence of God
DESCRIPTION:What does it mean to feel God’s presence—not just in ancient texts\, but in conversation\, memory and everyday life? In this new class taught by Rabbi Seymour Rossel\, Temple member and Chever Torah teacher\, we’ll explore how dialogue opens us to the Divine\, how remembering connects us to sacred time\, and how the Bible’s idea of God’s presence still speaks today. Drawing from Jewish thought\, modern philosophy and timeless stories\, these sessions are for anyone who wonders where—and how—we can sense God in our lives.
URL:https://www.tedallas.org/event/dialogue-memory-and-the-presence-of-god/2026-02-05/
LOCATION:Temple Emanu-El Weiss Youth Wing
CATEGORIES:Adult Learning,Prayer and Spirituality
ATTACH;FMTTYPE=image/jpeg:https://www.tedallas.org/wp-content/uploads/2026/01/Lnch-and-Learn_webRSR.jpg
ORGANIZER;CN="Tracy Davis Levi":MAILTO:tlevi@tedallas.org
END:VEVENT
BEGIN:VEVENT
DTSTART;TZID=America/Chicago:20260206T181500
DTEND;TZID=America/Chicago:20260206T193000
DTSTAMP:20260421T060700
CREATED:20260108T165907Z
LAST-MODIFIED:20260213T164152Z
UID:10004260-1770401700-1770406200@www.tedallas.org
SUMMARY:February 6\, 2026: Shabbat Evening Service with Rabbi Dalia Marx
DESCRIPTION:Temple will welcome Rabbi Dalia Marx of Jerusalem as the scholar-in-residence for a beit midrash\, an exciting house of study. Rabbi Marx will teach at three different times over Shabbat\, offering insights into her specialties of liturgy\, gender\, ritual and the Jewish calendar. \n“It Goes Both Ways: Responsibility and Reciprocity between Jewish Israelis and American Jews”\nRabbi Marx explores the Israeli-American relationship at this point in history\, and our shared obligation to the Jewish people.  \nThis Scholar in Residence weekend is made possible by the Candice & Robert Haas Visiting Scholars Endowment Fund.
URL:https://www.tedallas.org/event/shabbat-with-rabbi-dalia-marx/
LOCATION:Temple Emanu-El Stern Chapel
CATEGORIES:Adult Learning,Community,Livestream,Prayer and Spirituality
ATTACH;FMTTYPE=image/jpeg:https://www.tedallas.org/wp-content/uploads/2026/01/The-Beit-Midrash-of-Rabbi-Dalia-Marx.jpg
ORGANIZER;CN="Tracy Davis Levi":MAILTO:tlevi@tedallas.org
END:VEVENT
BEGIN:VEVENT
DTSTART;TZID=America/Chicago:20260207T090000
DTEND;TZID=America/Chicago:20260207T103000
DTSTAMP:20260421T060700
CREATED:20260102T200835Z
LAST-MODIFIED:20260316T165146Z
UID:10004272-1770454800-1770460200@www.tedallas.org
SUMMARY:Torah Study: Our Chever Torah
DESCRIPTION:
URL:https://www.tedallas.org/event/chever-torah-2022-09-24-3-2-4/2026-02-07/
LOCATION:Temple Emanu-El Barbara Zale Center for Living History
CATEGORIES:Adult Learning,Prayer and Spirituality
ATTACH;FMTTYPE=image/jpeg:https://www.tedallas.org/wp-content/uploads/2024/03/chever-torah-web.jpg
END:VEVENT
BEGIN:VEVENT
DTSTART;TZID=America/Chicago:20260207T090000
DTEND;TZID=America/Chicago:20260207T103000
DTSTAMP:20260421T060700
CREATED:20260108T170157Z
LAST-MODIFIED:20260206T155435Z
UID:10004261-1770454800-1770460200@www.tedallas.org
SUMMARY:Shabbat Morning Teaching with Rabbi Dalia Marx
DESCRIPTION:Temple will welcome Rabbi Dalia Marx of Jerusalem as the scholar-in-residence for a beit midrash\, an exciting house of study. Rabbi Marx will teach at three different times over Shabbat\, offering insights into her specialties of liturgy\, gender\, ritual and the Jewish calendar. \n“L’hitpalel: Prayer is Dynamic”\nThis session focuses on the liturgy created since October 7\, 2023\, and how modern responses to crisis can imbue our traditional prayers with new meaning. Register below. \nPlease note\, this learning session will replace our typical Saturday morning Chever Torah. \nThis Scholar in Residence weekend is made possible by the Candice & Robert Haas Visiting Scholars Endowment Fund.
URL:https://www.tedallas.org/event/teaching-with-rabbi-dalia-marx/
LOCATION:Temple Emanu-El Weiss Youth Wing
CATEGORIES:Adult Learning,Prayer and Spirituality
ATTACH;FMTTYPE=image/jpeg:https://www.tedallas.org/wp-content/uploads/2026/01/The-Beit-Midrash-of-Rabbi-Dalia-Marx.jpg
ORGANIZER;CN="Tracy Davis Levi":MAILTO:tlevi@tedallas.org
END:VEVENT
BEGIN:VEVENT
DTSTART;TZID=America/Chicago:20260207T120000
DTEND;TZID=America/Chicago:20260207T140000
DTSTAMP:20260421T060700
CREATED:20260108T170438Z
LAST-MODIFIED:20260206T155122Z
UID:10004262-1770465600-1770472800@www.tedallas.org
SUMMARY:Lunch and Learn with Rabbi Dalia Marx
DESCRIPTION:Temple will welcome Rabbi Dalia Marx of Jerusalem as the scholar-in-residence for a beit midrash\, an exciting house of study. Rabbi Marx will teach at three different times over Shabbat\, offering insights into her specialties of liturgy\, gender\, ritual and the Jewish calendar. \n“Women’s Religiosity in Antiquity (and Now): It’s Not What You Think”\nLearn how ancient rabbis showed interest in women’s religious experiences and desires to find holiness. Register below to attend. \nThis Scholar in Residence weekend is made possible by the Candice & Robert Haas Visiting Scholars Endowment Fund.
URL:https://www.tedallas.org/event/lunch-and-learn-with-rabbi-dalia-marx/
LOCATION:Temple Emanu-El Weiss Youth Wing
CATEGORIES:Adult Learning,Community,Prayer and Spirituality
ATTACH;FMTTYPE=image/jpeg:https://www.tedallas.org/wp-content/uploads/2026/01/The-Beit-Midrash-of-Rabbi-Dalia-Marx.jpg
ORGANIZER;CN="Tracy Davis Levi":MAILTO:tlevi@tedallas.org
END:VEVENT
BEGIN:VEVENT
DTSTART;TZID=America/Chicago:20260210T150000
DTEND;TZID=America/Chicago:20260210T160000
DTSTAMP:20260421T060700
CREATED:20240624T175638Z
LAST-MODIFIED:20260112T192319Z
UID:10003384-1770735600-1770739200@www.tedallas.org
SUMMARY:Yoga Emanu-El
DESCRIPTION:Join instructor Debbi K. Levy for an hour of yoga and mindfulness surrounded by the beauty Temple’s prayer spaces.
URL:https://www.tedallas.org/event/yoga-emanu-el-3/2026-02-10/
CATEGORIES:Adult Learning
ATTACH;FMTTYPE=image/jpeg:https://www.tedallas.org/wp-content/uploads/2022/09/yoga-emanu-el-e1662676573556.jpg
ORGANIZER;CN="Tal Drori":MAILTO:tdrori@tedallas.org
END:VEVENT
BEGIN:VEVENT
DTSTART;TZID=America/Chicago:20260210T190000
DTEND;TZID=America/Chicago:20260210T210000
DTSTAMP:20260421T060700
CREATED:20251203T165502Z
LAST-MODIFIED:20251203T224519Z
UID:10004227-1770750000-1770757200@www.tedallas.org
SUMMARY:Planting Seeds for Our Souls
DESCRIPTION:As spring arrives with the promise of growth and renewal\, join Rabbi Debra Robbins and Meredith Pryzant\, MSW\, for an interactive Jewish workshop on mental wellness. Together we’ll explore ways to plant seeds in our own lives that\, with care and nourishment\, will help us grow. We will study Jewish texts together and learn how patience can be a vital self-care tool as we navigate this season\, wherever we are in life. A light dinner and all materials will be provided as we learn\, discuss and reflect.
URL:https://www.tedallas.org/event/seeds-for-our-souls/
LOCATION:Temple Emanu-El Linz Hall
CATEGORIES:Adult Learning,Community
ATTACH;FMTTYPE=image/jpeg:https://www.tedallas.org/wp-content/uploads/2025/01/SpiritualWellBeing-event.jpg
ORGANIZER;CN="Meredith Pryzant":MAILTO:mpryzant@tedallas.org
END:VEVENT
BEGIN:VEVENT
DTSTART;TZID=America/Chicago:20260212T120000
DTEND;TZID=America/Chicago:20260212T133000
DTSTAMP:20260421T060700
CREATED:20260102T194758Z
LAST-MODIFIED:20260209T225131Z
UID:10004252-1770897600-1770903000@www.tedallas.org
SUMMARY:Dialogue\, Memory and the Presence of God
DESCRIPTION:What does it mean to feel God’s presence—not just in ancient texts\, but in conversation\, memory and everyday life? In this new class taught by Rabbi Seymour Rossel\, Temple member and Chever Torah teacher\, we’ll explore how dialogue opens us to the Divine\, how remembering connects us to sacred time\, and how the Bible’s idea of God’s presence still speaks today. Drawing from Jewish thought\, modern philosophy and timeless stories\, these sessions are for anyone who wonders where—and how—we can sense God in our lives.
URL:https://www.tedallas.org/event/dialogue-memory-and-the-presence-of-god/2026-02-12/
LOCATION:Temple Emanu-El Weiss Youth Wing
CATEGORIES:Adult Learning,Prayer and Spirituality
ATTACH;FMTTYPE=image/jpeg:https://www.tedallas.org/wp-content/uploads/2026/01/Lnch-and-Learn_webRSR.jpg
ORGANIZER;CN="Tracy Davis Levi":MAILTO:tlevi@tedallas.org
END:VEVENT
BEGIN:VEVENT
DTSTART;TZID=America/Chicago:20260214T090000
DTEND;TZID=America/Chicago:20260214T103000
DTSTAMP:20260421T060700
CREATED:20260102T200835Z
LAST-MODIFIED:20260316T165146Z
UID:10004273-1771059600-1771065000@www.tedallas.org
SUMMARY:Torah Study: Our Chever Torah
DESCRIPTION:
URL:https://www.tedallas.org/event/chever-torah-2022-09-24-3-2-4/2026-02-14/
LOCATION:Temple Emanu-El Barbara Zale Center for Living History
CATEGORIES:Adult Learning,Prayer and Spirituality
ATTACH;FMTTYPE=image/jpeg:https://www.tedallas.org/wp-content/uploads/2024/03/chever-torah-web.jpg
END:VEVENT
BEGIN:VEVENT
DTSTART;TZID=America/Chicago:20260217T150000
DTEND;TZID=America/Chicago:20260217T160000
DTSTAMP:20260421T060700
CREATED:20240624T175638Z
LAST-MODIFIED:20260112T192319Z
UID:10003385-1771340400-1771344000@www.tedallas.org
SUMMARY:Yoga Emanu-El
DESCRIPTION:Join instructor Debbi K. Levy for an hour of yoga and mindfulness surrounded by the beauty Temple’s prayer spaces.
URL:https://www.tedallas.org/event/yoga-emanu-el-3/2026-02-17/
CATEGORIES:Adult Learning
ATTACH;FMTTYPE=image/jpeg:https://www.tedallas.org/wp-content/uploads/2022/09/yoga-emanu-el-e1662676573556.jpg
ORGANIZER;CN="Tal Drori":MAILTO:tdrori@tedallas.org
END:VEVENT
BEGIN:VEVENT
DTSTART;TZID=America/Chicago:20260219T120000
DTEND;TZID=America/Chicago:20260219T133000
DTSTAMP:20260421T060700
CREATED:20260102T194758Z
LAST-MODIFIED:20260209T225131Z
UID:10004349-1771502400-1771507800@www.tedallas.org
SUMMARY:Dialogue\, Memory and the Presence of God
DESCRIPTION:What does it mean to feel God’s presence—not just in ancient texts\, but in conversation\, memory and everyday life? In this new class taught by Rabbi Seymour Rossel\, Temple member and Chever Torah teacher\, we’ll explore how dialogue opens us to the Divine\, how remembering connects us to sacred time\, and how the Bible’s idea of God’s presence still speaks today. Drawing from Jewish thought\, modern philosophy and timeless stories\, these sessions are for anyone who wonders where—and how—we can sense God in our lives.
URL:https://www.tedallas.org/event/dialogue-memory-and-the-presence-of-god/2026-02-19/
LOCATION:Temple Emanu-El Weiss Youth Wing
CATEGORIES:Adult Learning,Prayer and Spirituality
ATTACH;FMTTYPE=image/jpeg:https://www.tedallas.org/wp-content/uploads/2026/01/Lnch-and-Learn_webRSR.jpg
ORGANIZER;CN="Tracy Davis Levi":MAILTO:tlevi@tedallas.org
END:VEVENT
BEGIN:VEVENT
DTSTART;TZID=America/Chicago:20260219T120000
DTEND;TZID=America/Chicago:20260219T133000
DTSTAMP:20260421T060700
CREATED:20260209T225012Z
LAST-MODIFIED:20260209T225013Z
UID:10004339-1771502400-1771507800@www.tedallas.org
SUMMARY:Dialogue\, Memory and the Presence of God
DESCRIPTION:What does it mean to feel God’s presence—not just in ancient texts\, but in conversation\, memory and everyday life? In this new class taught by Rabbi Seymour Rossel\, Temple member and Chever Torah teacher\, we’ll explore how dialogue opens us to the Divine\, how remembering connects us to sacred time\, and how the Bible’s idea of God’s presence still speaks today. Drawing from Jewish thought\, modern philosophy and timeless stories\, these sessions are for anyone who wonders where—and how—we can sense God in our lives.
URL:https://www.tedallas.org/event/dialogue-memory-and-the-presence-of-god-2/
LOCATION:Temple Emanu-El Weiss Youth Wing
CATEGORIES:Adult Learning,Prayer and Spirituality
ATTACH;FMTTYPE=image/jpeg:https://www.tedallas.org/wp-content/uploads/2026/01/Lnch-and-Learn_webRSR.jpg
ORGANIZER;CN="Tracy Davis Levi":MAILTO:tlevi@tedallas.org
END:VEVENT
BEGIN:VEVENT
DTSTART;TZID=America/Chicago:20260219T173000
DTEND;TZID=America/Chicago:20260219T203000
DTSTAMP:20260421T060700
CREATED:20260122T175946Z
LAST-MODIFIED:20260209T224831Z
UID:10004336-1771522200-1771533000@www.tedallas.org
SUMMARY:Cantor in the Kitch Persian Feast
DESCRIPTION:Set the table for an evening of Persian flavors\, shared stories and meaningful connection. As we prepare for Purim\, Cantor in the Kitch invites you to a Persian feast weaving together food\, song and conversation to explore the traditions of Persian Jewry. \nThrough an introduction to classic Persian ingredients\, dishes and flavor profiles—and the stories they carry—we’ll reflect on history\, memory and the enduring power of culture passed from generation to generation. This special evening\, led by Cantor Leslie Niren\, includes a live cooking demonstration and a seated tasting of traditional Persian dishes. \nWe are delighted to welcome two special guests: \n• Galeet Dardashti Ph.D.\, a scholar\, musician and anthropologist of Middle Eastern Jewish culture\, who will share the history of Iran and Persian Jewry. \n• Shiva Beck\, an attorney and Iranian-born member of the Dallas Jewish community\, who will share her personal story and speak to the central role food plays in Persian culture and family life. \nJoin us beginning at 5:30 p.m. for an appetizer drink and nosh before the program begins at 6 p.m.
URL:https://www.tedallas.org/event/citk-persian-feast/
LOCATION:Temple Emanu-El Tycher Gathering Space
CATEGORIES:Adult Learning,Community,Jewish Holidays
ATTACH;FMTTYPE=image/jpeg:https://www.tedallas.org/wp-content/uploads/2026/01/CITK-web-1-1.jpg
ORGANIZER;CN="Tal Drori":MAILTO:tdrori@tedallas.org
END:VEVENT
BEGIN:VEVENT
DTSTART;TZID=America/Chicago:20260221T090000
DTEND;TZID=America/Chicago:20260221T103000
DTSTAMP:20260421T060700
CREATED:20260102T200835Z
LAST-MODIFIED:20260316T165146Z
UID:10004274-1771664400-1771669800@www.tedallas.org
SUMMARY:Torah Study: Our Chever Torah
DESCRIPTION:
URL:https://www.tedallas.org/event/chever-torah-2022-09-24-3-2-4/2026-02-21/
LOCATION:Temple Emanu-El Barbara Zale Center for Living History
CATEGORIES:Adult Learning,Prayer and Spirituality
ATTACH;FMTTYPE=image/jpeg:https://www.tedallas.org/wp-content/uploads/2024/03/chever-torah-web.jpg
END:VEVENT
BEGIN:VEVENT
DTSTART;TZID=America/Chicago:20260222T093000
DTEND;TZID=America/Chicago:20260222T110000
DTSTAMP:20260421T060700
CREATED:20260105T204058Z
LAST-MODIFIED:20260105T204058Z
UID:10004259-1771752600-1771758000@www.tedallas.org
SUMMARY:Goin' to the Delivery Room | Spring 2026
DESCRIPTION:We’re excited to welcome back Goin’ to the Delivery Room\, our four-week class for first-time expectant parents. Facilitators Alex Horn and Carly Goldman team up for three Sunday morning sessions and a Shabbat experience\, February 22\, March 8\, 15 and 28. In a small-group setting\, explore the roles and responsibilities of Jewish parenting and the rituals that shape our families.
URL:https://www.tedallas.org/event/delivery-room-spring-26/
LOCATION:Temple Emanu-El Barbara Zale Center for Living History
CATEGORIES:Adult Learning,Families
ATTACH;FMTTYPE=image/jpeg:https://www.tedallas.org/wp-content/uploads/2025/08/deliveryroomweb-event.jpg
ORGANIZER;CN="Erica Matsil":MAILTO:ematsil@tedallas.org
END:VEVENT
BEGIN:VEVENT
DTSTART;TZID=America/Chicago:20260224T150000
DTEND;TZID=America/Chicago:20260224T160000
DTSTAMP:20260421T060700
CREATED:20240624T175638Z
LAST-MODIFIED:20260112T192319Z
UID:10003386-1771945200-1771948800@www.tedallas.org
SUMMARY:Yoga Emanu-El
DESCRIPTION:Join instructor Debbi K. Levy for an hour of yoga and mindfulness surrounded by the beauty Temple’s prayer spaces.
URL:https://www.tedallas.org/event/yoga-emanu-el-3/2026-02-24/
CATEGORIES:Adult Learning
ATTACH;FMTTYPE=image/jpeg:https://www.tedallas.org/wp-content/uploads/2022/09/yoga-emanu-el-e1662676573556.jpg
ORGANIZER;CN="Tal Drori":MAILTO:tdrori@tedallas.org
END:VEVENT
BEGIN:VEVENT
DTSTART;TZID=America/Chicago:20260225T120000
DTEND;TZID=America/Chicago:20260225T133000
DTSTAMP:20260421T060700
CREATED:20260102T194531Z
LAST-MODIFIED:20260217T224102Z
UID:10004247-1772020800-1772026200@www.tedallas.org
SUMMARY:Ani L’Dodi: A Love Song through the Generations
DESCRIPTION:As winter turns to spring\, we are pleased to present this in-depth exploration of Song of Songs\, the Bible verse traditionally read during the Passover season. Led by Rabbi Kimberly Herzog Cohen\, participants will delve into the layered meanings and adaptations of this ancient love poem\, complete with musical renditions and modern interpretations. We will also engage in a writing project that will bring this text alive in creative\, new ways.
URL:https://www.tedallas.org/event/ani-ldodi-lunch-and-learn/2026-02-25/
LOCATION:Temple Emanu-El Weiss Youth Wing
CATEGORIES:Adult Learning,Prayer and Spirituality
ATTACH;FMTTYPE=image/jpeg:https://www.tedallas.org/wp-content/uploads/2026/01/Lnch-and-Learn_webRKHC.jpg
ORGANIZER;CN="Tracy Davis Levi":MAILTO:tlevi@tedallas.org
END:VEVENT
BEGIN:VEVENT
DTSTART;TZID=America/Chicago:20260228T090000
DTEND;TZID=America/Chicago:20260228T103000
DTSTAMP:20260421T060700
CREATED:20260102T200835Z
LAST-MODIFIED:20260316T165146Z
UID:10004275-1772269200-1772274600@www.tedallas.org
SUMMARY:Torah Study: Our Chever Torah
DESCRIPTION:
URL:https://www.tedallas.org/event/chever-torah-2022-09-24-3-2-4/2026-02-28/
LOCATION:Temple Emanu-El Barbara Zale Center for Living History
CATEGORIES:Adult Learning,Prayer and Spirituality
ATTACH;FMTTYPE=image/jpeg:https://www.tedallas.org/wp-content/uploads/2024/03/chever-torah-web.jpg
END:VEVENT
END:VCALENDAR